Workbook

Sheet Instrukcija
C2: Spalvų reikšmės (langeliai):
D3: pildo VVG (laisvas tekstas su sufleriu arba be); melsva spalva pateiktas bandomasis tekstas (jį galima ištrinti)
D4: pildo VVG (pasirinkimas iš sąrašo)
D5: užsipildo automatiškai, užrakinta
D6: užpildyta, užrakinta
D7: užpildyta, užrakinta
D8: pildymo instrukcijos ir klaidų tikrinimo rezultatai (turi būti nurodyta "Gerai", kiti pranešimai rodo klaidą), užrakinta
C10: Spalvų reikšmės (lapai):
D11: Pildomi ir spausdinami arba perkeliami į Word
D12: Tik pildomi, bet nespausdinami ir neperkeliami į Word
D13: Nepildomi (užsipildo automatiškai), skirti spausdinti arba perkelti į Word.
C15: Bendra informacija (aktuali visiems Excel lapams):
C16: VPS formos II dalis (Excel) pradedama pildyti atlikus VVG teritorijos situacijos analizę ir pildoma iš eilės (taip, kaip sunumeruoti lapai), kadangi vienuose lapuose pateikta informacija yra naudojama kitiems lapams užpildyti ar sufleriui aktyvuoti.
C17: Loginė atskirų VPS formos II dalies (Excel) lapų seka nurodyta VPS formoje (Word).
C18: Visuose lapuose baltų (laisvai pildomų) ir geltonų (pasirenkamų iš sąrašo) langelių (eilučių) aukštis prisitaiko prie įvesto teksto kiekio.
C19: Baltuose langeliuose simbolių skaičius yra ribojamas (jei simbolių per daug, metamas klaidos pranešimas).
C20: Lapuose, kuriuos VPS priemonių pavadinimai nuspalvinti pilkai (8-10, 12, 14, 15), bus matoma tik ta priemonės pavadinimo dalis, kuri telpa į vieną eilutę. Todėl rekomenduojama, kad priemonių pavadinimai būtų ne ilgesni kaip 70 simbolių (maksimalus simbolių skaičius - 100).
B22: Kiekvieno lapo pildymo instrukcija pateikta to lapo apačioje, išskyrus 4 ir 10 lapus, kuriuose instrukcijos pateiktos prie kiekvienos eilutės.
B23: Lapai | C23: Pildymas, įvedamos informacijos kiekis | D23: Turinys (pavadinimai) | E23: Trumpa instrukcija | F23: Langelių, kuriuose reikia įvesti laisvą tekstą | G23: Teksto pobūdis | H23: Langelių, kuriuose reikia įvesti skaičius | I23: Langelių, kurių reikšmes reikia rinktis iš sąrašo | J23: Rekomenduojama puslapio padėtis spausdinant lapo turinį | K23: Puslapių skaičius pagal paruoštą maketą | L23: Ar aktualu fiksuoti eilutę ir stulpelį lapo pradžioje | M23: Galima įkelti į Word formą (derinant su bendruomene) | N23: Aktualu derinti su bendruomene | O23: Reikia konvertuoti į PDF | P23: Pastabos dėl perkėlimo į Wordą
B24: 1 | C24: pildomas, mažai | D24: ='1'!B5 -> Apibendrinta informacija apie VVG teritoriją, VPS turinį ir rezultatus | E24: VVG užpildo 9 langelius (įvedami keli skaičiai, pasirenkama, ar VPS yra teminė). | F24: 2 | G24: trumpas | H24: 6 | I24: 1 | J24: stačiai | K24: 1 | L24: ne | M24: taip | N24: gal | O24: kelti į Word
B25: 2 | C25: pildomas, vidutiniškai | D25: ='2'!$B$1 -> VVG teritorijos stiprybės, silpnybės, galimybės ir grėsmės (SSGG) ir jų sąsajos su VVG teritorijos poreikiais | E25: VVG nurodo SSGG teiginius (laisvas tekstas) ir susieja (taip, ne) juos su VVG teritorijos poreikiais (poreikiai pasirodo, kai užpildomas 3 lapas). | F25: iki 40 | G25: trumpas | H25: 0 | I25: iki 3 vienam SSGG teiginiui | J25: gulsčiai | K25: 4 (jei poreikių ne daugiau kaip 12) arba 6 | L25: taip | M25: gal | N25: taip | O25: kelti į Word | P25: kelti tik 1-4 stulpelius
B26: 3 | C26: pildomas, mažai | D26: ='3'!$B$1 -> VVG teritorijos poreikiai | E26: VVG pateikia poreikių sąrašą (laisvas tekstas). Poreikių pavadinimai automatiškai persikelia į visus lapus, kuriuose jie bus reikalingi. | F26: iki 20 | G26: trumpas | H26: 0 | I26: 0 | J26: stačiai | K26: 1 | L26: ne | M26: taip | N26: taip | O26: kelti į Word
B27: 4 | C27: pildomas, daug | D27: ='4'!$B$1 -> VVG teritorijos poreikių pagrindimas | E27: Vienas iš dviejų lapų, kuriuose reikia pateikti daugiau informacijos (laisvo teksto). | F27: 5 vienam poreikiui | G27: pagrindimai | H27: 0 | I27: 8 vienam poreikiui | J27: stačiai | K27: Lapas skirtas tik pildyti. | L27: taip | M27: ne | N27: taip | O27: ne
B28: 5 | C28: pildomas, mažai | D28: ='5'!$B$1 -> VVG teritorijai aktualūs BŽŪP tikslai | E28: Pasirenkama iš sąrašo (taip, ne), kurie BŽŪP tikslai aktualūs. | F28: 0 | G28: nėra | H28: 0 | I28: 10 | J28: gulsčiai | K28: 1 | L28: ne | M28: taip | N28: taip | O28: kelti į Word
B29: 6 | C29: pildomas, mažai | D29: ='6'!$B$1 -> VPS produkto ir rezultato rodikliai (VPS lygiu) | E29: Užpildomi du langeliai ir (jei aktualu) sudaromas VPS rodiklių sąrašas (E dalis). | F29: 0-10 (neprivalomi) | G29: trumpas | H29: 2 | I29: 0-10 (neprivalomi) | J29: gulsčiai | K29: 2 | L29: ne | M29: taip | N29: taip | O29: kelti į Word
B30: 7 | C30: pildomas, mažai | D30: ='7'!$B$1 -> VPS priemonės | E30: VVG nurodo priemonių pavadinimus (laisvas tekstas) ir kiekvienos priemonės rūšį (rūšis pasirenkama iš sąrašo). Priemonių pavadinimai automatiškai persikelia į visus lapus, kuriuose jie bus reikalingi. | F30: iki 20 | G30: trumpas | H30: 0 | I30: iki 20 | J30: gulsčiai | K30: 2 | L30: taip | M30: taip | N30: taip | O30: kelti į Word
B31: 8 | C31: pildomas, mažai | D31: ='8'!$B$1 -> VPS priemonių sąsajos su BŽŪP tikslais | E31: Nurodomos priemonių ir tikslų sąsajos (taip, ne - iš sąrašo) | F31: 0 | G31: nėra | H31: 0 | I31: iki 3 vienai priemonei | J31: gulsčiai | K31: 2 | L31: taip | M31: taip | N31: gal | O31: kelti į Word
B32: 9 | C32: pildomas, mažai | D32: ='9'!$B$1 -> VPS priemonių sąsajos su VVG teritorijos poreikiais | E32: Nurodomos priemonių ir poreikių sąsajos (taip, ne - iš sąrašo) | F32: 0 | G32: nėra | H32: 0 | I32: iki 3 vienai priemonei | J32: gulsčiai | K32: 3 | L32: taip | M32: gal | N32: gal | O32: kelti į Word | P32: jei nedaug poreikių (pvz., iki 10)
B33: 10 | C33: pildomas, daug | D33: ='10'!$B$1 -> VPS priemonių aprašymas | E33: Vienas iš dviejų lapų, kuriuose reikia pateikti daugiau informacijos (laisvo teksto). | F33: iki 19 vienai priemonei | G33: pagrindimai | H33: 3 vienai priemonei | I33: 35 vienai priemonei | J33: stačiai | K33: Lapas skirtas tik pildyti. | L33: taip | M33: ne | N33: taip | O33: ne
B34: 11 | C34: pildomas, mažai | D34: ='11'!$B$1 -> VPS priemonių rodikliai ir metiniai tikslai | E34: Lapą sudaro 15 lentelių (tiek, kiek maksimaliai gali būti rodiklių). VVG pildo tik tas lenteles, kurios aktualios dėl pasirinktų rodiklių. Galima rinktis iš 5 ES bendrųjų rezultato rodiklių ir nusimatyti iki 10-ties VPS rodiklių. VPS rodikliai neprivalomi. Įvedami skaičiai - nurodomos siekiamos rodiklių reikšmės VPS priemonių lygiu ir metiniai tikslai (tik VPS lygiu). | F34: 0 | G34: nėra | H34: apie 10 vienai lentelei | I34: iki 2 vienai priemonei | J34: gulsčiai | K34: Lapas skirtas tik pildyti. | L34: taip | M34: ne | N34: ne | O34: ne
B35: 12 | C35: pildomas, vidutiniškai | D35: ='12'!B1 -> VPS priemonių rezultato rodiklių pagrindimas | E35: VVG pateikia informaciją apie tai, kaip nustatytos siekiamos rodiklių reikšmės. Pavyzdžiui, jei R.37 taikomas 5 VPS priemonėms, pagrindimą reikia pateikti 5-iuose langeliuose - prie kiekvienos priemonės (iš viso 5 pagrindimai). Pagrindimas gali būti vienodas. | F35: 3-5 vienam rodikliui (5 rodikliai) | G35: pagrindimai | H35: 0 | I35: 0 | J35: gulsčiai | K35: 5 | L35: ne | M35: taip | N35: gal | O35: kelti į Word
B36: 13 | C36: pildomas, mažai | D36: ='13'!B1 -> Įgyvendinant VPS planuojamų sukurti darbo vietų paskirstymas pagal amžių ir lytį | E36: Pildoma, jei siekiama, kad būtų kuriamos darbo vietos tam tikros lyties ar amžiaus asmenims. Jei neaktualu, pildyti nereikia. Veikia sufleris, kai yra pilnai užpildyta 11 lapo 2 lentelė. | F36: 0 | G36: nėra | H36: 6 vienai priemonei | I36: nėra | J36: gulsčiai | K36: 4 | L36: taip | M36: taip | N36: gal | O36: kelti į Word | P36: ištrinti neaktualius stulpelius (priemones)
B37: 14 | C37: pildomas, vidutiniškai | D37: ='14'!B1 -> Pokyčiai, kurių siekiama VVG teritorijoje (kiekybine išraiška) | E37: VVG pateikia kiekybinį pokyčių pagrindimą (nurodo pokyčių rodiklius, jų pradines ir siekiamas reikšmes). Pokyčių aprašymai persikelia iš VPS priemonių aprašymo (10.12 eilutės). Prie kiekvienos VPS priemonės nurodomi su pokyčiu susiję VVG teritorijos poreikiai (poreikiai pasirenkami iš sąrašo). NB! Svarbu pasirinkti tuos poreikius, kurie buvo susieti su atitinkama VPS priemone pildant 9 lapą. | F37: iki 3 vienai priemonei | G37: trumpas | H37: iki 9 vienai priemonei | I37: iki 3 vienai priemonei | J37: gulsčiai | K37: 5 | L37: ne | M37: taip | N37: taip | O37: kelti į Word
B38: 15 | C38: pildomas, mažai | D38: ='15'!$B$1 -> Preliminarus VPS įgyvendinimo planas | E38: VVG nurodo, kada planuojami kiekvienos priemonės kvietimai (paskirsto kvietimams kiekvienos priemonės paramos sumas). Kvietimai planuojami metų ketvirčių tikslumu. Grafikas preliminarus. VPS įgyvendinimo metu nekeičiamas. Konkretinamas rengiant metinius kvietimų planus. | F38: 0 | G38: nėra | H38: iki 5 vienai priemonei | I38: 0 | J38: gulsčiai | K38: 3 | L38: taip | M38: ne | N38: taip | O38: ne
B39: 16 | C39: pildomas, mažai | D39: ='16'!$B$1 -> VPS išlaidos pagal išlaidų kategorijas ir priemonių rūšis | E39: VVG užpildo du baltus langelius. | F39: 0 | G39: nėra | H39: 2 | I39: 0 | J39: gulsčiai | K39: 1 | L39: ne | M39: taip | N39: taip | O39: kelti į Word
B40: 17 | C40: pildomas, mažai | D40: ='17'!$B$1 -> Metinis VPS išlaidų planas | E40: VVG užpildo 12 baltų langelių - paskirsto išlaidas pamečiui (VVG bendradarbiavimo projektų ir VPS administravimo). | F40: 0 | G40: nėra | H40: 12 | I40: 0 | J40: gulsčiai | K40: 1 | L40: ne | M40: taip | N40: taip | O40: kelti į Word
B41: 18 | C41: pildomas, mažai | D41: ='18'!B1 -> Informacija apie VVG kolegialaus valdymo organo sudėtį | E41: VVG nurodo kolegialaus valdymo organo narių skaičių ir pasiskirstymą pagal sektorius, lytį, amžių). Įveda skaičius. | F41: 0 | G41: nėra | H41: 11 | I41: 0 | J41: stačiai | K41: 1 | L41: ne | M41: taip | N41: gal | O41: kelti į Word
B42: 4.1 | C42: nepildomas, skirtas spausdinti | D42: ='4.1'!B1 -> VVG teritorijos poreikių pagrindimas | E42: Spausdinimui skirta 4 lapo versija. | F42: 0 | G42: 0 | H42: 0 | I42: 0 | J42: stačiai | K42: 9 | L42: ne | M42: taip | N42: taip | O42: konvertuoti į PDF arba kelti į Word
B43: 10.1 | C43: nepildomas, skirtas spausdinti | D43: ='10.1'!B1 -> VPS priemonių aprašymas | E43: Spausdinimui skirta 10 lapo versija. | F43: 0 | G43: 0 | H43: 0 | I43: 0 | J43: stačiai | K43: 36 | L43: ne | M43: taip | N43: taip | O43: konvertuoti į PDF arba kelti į Word
B44: 10.2 | C44: nepildomas, skirtas apibendrinti | D44: ='10.2'!B1 -> VPS priemonių indėlis į ES ir nacionalinių horizontaliųjų principų įgyvendinimą | E44: Apibendrinimui skirta 10 dapo D dalies versija | O44: kelti į Word
B45: 11.1 | C45: nepildomas, skirtas spausdinti | D45: ='11.1'!B1 -> VPS priemonių rodikliai ir metiniai tikslai | E45: Spausdinimui skirta 11 lapo versija. | F45: 0 | G45: 0 | H45: 0 | I45: 0 | J45: gulsčiai | K45: 2 (jei priemonių ne daugiau kaip 9) arba 4 | L45: ne | M45: taip | N45: taip | O45: kelti į Word | P45: atskirom lentelėm (3 ir 4 lentelės - jei aktualu)
B46: 15.1 | C46: nepildomas, skirtas spausdinti | D46: ='15.1'!B1 -> Preliminarus VPS įgyvendinimo planas | E46: Spausdinimui skirta 15 lapo versija. | O46: kelti į Word
B47: Sąrašai | C47: nepildomas | D47: Pateikti pasirinkimų sąrašai | E47: Lapas užrakintas, nepildomas. Lape pateiktą informaciją tikslinti gali tik formos rengėjai. | F47: 0 | G47: 0 | H47: 0 | I47: 0 | J47: nespausdinama | K47: nespausdinama | L47: ne | M47: neaktualu | N47: neaktualu | O47: neaktualu

Sheet 1
C1: Lietuvos kaimo plėtros 2014–2020 m. programos priemonės „LEADER programa“ veiklos srities „Parengiamoji parama“ įgyvendinimo taisyklių, taikomų projektams, skirtiems 2023–2027 metų vietos plėtros strategijoms parengti, 4 priedas
B3: (Kaimo vietovių VPS formos II dalis ir jos pildymo instrukcija)
A5: 1. | B5: Apibendrinta informacija apie VVG teritoriją, VPS turinį ir rezultatus
A7: 1.1 | B7: VVG pavadinimas | C7: ALYTAUS RAJONO VIETOS VEIKLOS GRUPĖ
A8: 1.2 | B8: VVG kodas (4 didžiosios raidės) | C8: ALYT
A9: 1.3 | B9: VVG teritorijos seniūnijų skaičius | C9: 12
A10: 1.4 | B10: VVG teritorijos kaimo gyvenamųjų vietovių skaičius | C10: 448
A12: 1.5 | B12: Parengta Vietos plėtros strategija (VPS) yra teminė | C12: Taip
A13: 1.6 | B13: VVG teritorijos poreikių skaičius | C13: =COUNTA('3'!$C$7:$C$26) -> 5
A14: 1.7 | B14: VVG teritorijai aktualių BŽŪP tikslų skaičius | C14: =COUNTIFS('5'!$D$8:$D$19,"taip") -> 3
A15: 1.8 | B15: VPS priemonių skaičius | C15: =COUNTA('7'!$C$7:$C$26) -> 8 | D15: 4 priemonė panaikinta
A17: 1.9 | B17: Pagrindiniai rezultatai: | C17: Planuojama rodiklio reikšmė
A18: 1.9.1 | B18: ='6'!C8 -> Žemės ūkio sektoriaus skaitmeninimas. Ūkių, pagal BŽŪP gaunančių paramą skaitmeninėms ūkininkavimo technologijoms plėtoti, skaičius | C18: ='6'!D8 -> 0
A19: 1.9.2 | B19: Dalis nuo visų ūkių VVG teritorijoje, proc. | C19: =C18/C32*100 -> 0
A21: 1.9.3 | B21: ='6'!C9 -> Ekonomikos augimas ir darbo vietų kūrimas kaimo vietovėse. BŽŪP projektais remiamas naujų darbo vietų kūrimas | C21: ='6'!D9 -> 18
A23: 1.9.4 | B23: ='6'!C10 -> Kaimo ekonomikos plėtojimas. Kaimo verslo įmonių, įskaitant bioekonomikos įmones, kuriamų naudojantis pagal BŽŪP skiriama parama, skaičius | C23: ='6'!D10 -> 13
A25: 1.9.5 | B25: ='6'!C11 -> Europos kaimo tinklų kūrimas. Kaimo gyventojų, kuriems, naudojantis BŽŪP parama, sudarytos palankesnės sąlygos naudotis paslaugomis ir infrastruktūra, skaičius | C25: ='6'!D11 -> 4990
A26: 1.9.6 | B26: Dalis nuo visų VVG teritorijos gyventojų, proc. | C26: =C25/$C$33*100 -> 18.845834
A28: 1.9.7 | B28: ='6'!C12 -> Socialinės įtraukties skatinimas. Asmenų, kuriems taikomi remiami socialinės įtraukties projektai, skaičius | C28: ='6'!D12 -> 879
A29: 1.9.9 | B29: Dalis nuo visų VVG teritorijos gyventojų, proc. | C29: =C28/$C$33*100 -> 3.3197371
A31: 1.10 | B31: Konteksto rodikliai: | C31: Pradinė rodiklio reikšmė | D31: Metai
A32: 1.10.1 | B32: Ūkių skaičius VVG teritorijoje | C32: 3342 | D32: 2022
A33: 1.10.2 | B33: Gyventojų skaičius VVG teritorijoje | C33: 26478 | D33: 2022
B36: Pildymo instrukcija (1 lapas)
A37: 1 | B37: Užpildykite baltus langelius 1.1-1.4 bei 1.10.1-1.10.2 punktuose. Geltoname langelyje 1.5 punkte pasirinkite "Taip", jei VPS yra teminė.
A38: 2 | B38: 1.1 punkte nurodykite pilną VVG pavadinimą, 1.2 punkte - VVG kodą (4 didžiosios raidės).
A39: 3 | B39: 1.3-1.4 bei 1.10.1-1.10.2 punktuose įveskite tik sveikus skaičius be tarpų ir kitų simbolių. Metai nurodomi taip: 2022 (tik skaičius be raidės "m.").
A40: 4 | B40: Ūkių skaičių (1.10.1 punktas) nurodykite pagal Lietuvos statistikos departamento skelbiamus 2020 m. žemės ūkio surašymo duomenis.
A41: 5 | B41: Gyventojų skaičių VVG teritorijoje (1.10.2 punktas) galite nurodyti pagal Lietuvos Respublikos žemės ūkio ministro 2022 m. rugpjūčio 10 d. įsakymu Nr. 3D- 491 patvirtintą Paramos 2023–2027 metų kaimo vietovių vietos plėtros strategijoms įgyvendinti bendruomenių inicijuotos vietos plėtros būdu skyrimo ir skaičiavimo metodiką.

Sheet 2
A1: 2. | B1: VVG teritorijos stiprybės, silpnybės, galimybės ir grėsmės (SSGG) ir jų sąsajos su VVG teritorijos poreikiais
B3: VVG: | C3: ='1'!C8 -> ALYT
B5: 1 | C5: 2 | D5: 3 | E5: 4 | F5: 5 | G5: 6 | H5: 7 | I5: 8 | J5: 9 | K5: 10 | L5: 11 | M5: 12 | N5: 13 | O5: 14 | P5: 15 | Q5: 16 | R5: 17 | S5: 18 | T5: 19 | U5: 20 | V5: 21 | W5: 22 | X5: 23 | Y5: 24
F6: 1 poreikis | G6: 2 poreikis | H6: 3 poreikis | I6: 4 poreikis | J6: 5 poreikis | K6: 6 poreikis | L6: 7 poreikis | M6: 8 poreikis | N6: 9 poreikis | O6: 10 poreikis | P6: 11 poreikis | Q6: 12 poreikis | R6: 13 poreikis | S6: 14 poreikis | T6: 15 poreikis | U6: 16 poreikis | V6: 17 poreikis | W6: 18 poreikis | X6: 19 poreikis | Y6: 20 poreikis
A7: 2.1 | C7: Stiprybės | D7: Teiginį pagrindžiančio situacijos analizės rodiklio Nr. | E7: Susijusių VVG teritorijos poreikių skaičius | F7: ='3'!C7 -> Įvairinti ir pagerinti sveikatinimo paslaugas, plėtoti verslo paslaugas sanatorijoms, stambesniems sveikatinimo ir turizmo paslaugų teikėjams | G7: ='3'!C8 -> Atrasti turizmo ir sveikatos paslaugoms patrauklius objektus, integruojant gamtos ir kultūros išteklius sukurti vertingus produktus turizmo rinkai | H7: ='3'!C9 -> Teminių kaimų ir labiau vietos gyventojų bei turistų poreikius atliepiančių paslaugų kūrimas, turizmo maršrutų, vietos produktų populiarinimas | I7: ='3'!C10 -> Diegiant žaliuosius sprendimus išsaugoti gamtos išteklius ir kultūros paveldą, pagerinti turizmo infrastruktūrą, ugdyti kaimo bendruomenės sumanumą | J7: ='3'!C11 -> Jaunimo įtraukimas į kaimo bendruomenės veiklas, verslumo ugdymas ir veiklų skatinančių tvarumą ir sveiką gyvenseną organizavimas | K7: ='3'!C12 -> 0 | L7: ='3'!C13 -> 0 | M7: ='3'!C14 -> 0 | N7: ='3'!C15 -> 0 | O7: ='3'!C16 -> 0 | P7: ='3'!C17 -> 0 | Q7: ='3'!C18 -> 0 | R7: ='3'!C19 -> 0 | S7: ='3'!C20 -> 0 | T7: ='3'!C21 -> 0 | U7: ='3'!C22 -> 0 | V7: ='3'!C23 -> 0 | W7: ='3'!C24 -> 0 | X7: ='3'!C25 -> 0 | Y7: ='3'!C26 -> 0
A8: 2.1.1 | B8: 1 stiprybė | C8: Gausūs natūralios gamtos, kultūros paveldo ištekliai, turtingas kraštovaizdis, profesinė patirtis gyventojų sveikatai stiprinti ir turizmui vystyti | D8: R9, R10, R11, R15, R16, R19, R38, R66, R73, R99, R134, R135, R136, R139, R159, R164, R166, R167, R176, R177, R178, R179, R180, R181 | E8: =COUNTIFS($F8:$Y8,"taip") -> 3 | F8: Taip | G8: Taip | H8: Ne | I8: Taip | J8: Ne | K8: Ne | L8: Ne | M8: Ne | N8: Ne | O8: Ne | P8: Ne | Q8: Ne | R8: Ne | S8: Ne | T8: Ne | U8: Ne | V8: Ne | W8: Ne | X8: Ne | Y8: Ne
A9: 2.1.2 | B9: 2 stiprybė | C9: Smulkūs verslai, švietimas, NVO yra svarbiausios vietos ekonomikos varomosios jėgos, daro esminį poveikį kaimų raidai, užimtumui ir soc. stabilumui | D9: R14, R20, R22, R23, R25, R27, R48, R49, R90, R91, R93, R94, R95, R97, R98, R107, R111, R114, R115, R119, R120, R121, R137, R138, R148, R158 | E9: =COUNTIFS($F9:$Y9,"taip") -> 2 | F9: Taip | G9: Ne | H9: Taip | I9: Ne | J9: Ne | K9: Ne | L9: Ne | M9: Ne | N9: Ne | O9: Ne | P9: Ne | Q9: Ne | R9: Ne | S9: Ne | T9: Ne | U9: Ne | V9: Ne | W9: Ne | X9: Ne | Y9: Ne
A10: 2.1.3 | B10: 3 stiprybė | C10: Veikiančios dalijimosi ir žiedinės ekonomikos iniciatyvos, kuriami ir naudojami atsinaujinantys energijos ištekliai | D10: R21, R25, R26, R28, R29, R43, R174, R175 | E10: =COUNTIFS($F10:$Y10,"taip") -> 3 | F10: Ne | G10: Ne | H10: Taip | I10: Taip | J10: Taip | K10: Ne | L10: Ne | M10: Ne | N10: Ne | O10: Ne | P10: Ne | Q10: Ne | R10: Ne | S10: Ne | T10: Ne | U10: Ne | V10: Ne | W10: Ne | X10: Ne | Y10: Ne
A11: 2.1.4 | B11: 4 stiprybė | C11: Vietos ir religinės bendruomenės, turizmo sodybos, seniūnijos įsitraukusios į tarptautinius turizmo kelius, lėtąjį turizmą, arti kurortas | D11: R12, R13, R14, R123, R124, R125, R126, R127, R128 | E11: =COUNTIFS($F11:$Y11,"taip") -> 3 | F11: Taip | G11: Taip | H11: Taip | I11: Ne | J11: Ne | K11: Ne | L11: Ne | M11: Ne | N11: Ne | O11: Ne | P11: Ne | Q11: Ne | R11: Ne | S11: Ne | T11: Ne | U11: Ne | V11: Ne | W11: Ne | X11: Ne | Y11: Ne
A12: 2.1.5 | B12: 5 stiprybė | C12: Didelės materialinės investicijos ir įgyvendintų projektų skaičius teritorijoje | D12: R100, R101, R102, R103, R104, R105, R106, R129, R131, R132, R133 | E12: =COUNTIFS($F12:$Y12,"taip") -> 3 | F12: Taip | G12: Ne | H12: Ne | I12: Taip | J12: Taip | K12: Ne | L12: Ne | M12: Ne | N12: Ne | O12: Ne | P12: Ne | Q12: Ne | R12: Ne | S12: Ne | T12: Ne | U12: Ne | V12: Ne | W12: Ne | X12: Ne | Y12: Ne
A13: 2.1.6 | B13: 6 stiprybė | C13: Puoselėjama etninė kultūra, amatai, vedamos edukacijos, organizuojami respublikinės reikšmės tradiciniai renginiai | D13: R17, R18, R118, R122, R130, R140, R151, R152, R153, R154, R155, R156, R157, R160, R161, R162 | E13: =COUNTIFS($F13:$Y13,"taip") -> 4 | F13: Taip | G13: Taip | H13: Taip | I13: Ne | J13: Taip | K13: Ne | L13: Ne | M13: Ne | N13: Ne | O13: Ne | P13: Ne | Q13: Ne | R13: Ne | S13: Ne | T13: Ne | U13: Ne | V13: Ne | W13: Ne | X13: Ne | Y13: Ne
A14: 2.1.7 | B14: 7 stiprybė | E14: =COUNTIFS($F14:$Y14,"taip") -> 0 | F14: Ne | G14: Ne | H14: Ne | I14: Ne | J14: Ne | K14: Ne | L14: Ne | M14: Ne | N14: Ne | O14: Ne | P14: Ne | Q14: Ne | R14: Ne | S14: Ne | T14: Ne | U14: Ne | V14: Ne | W14: Ne | X14: Ne | Y14: Ne
A15: 2.1.8 | B15: 8 stiprybė | E15: =COUNTIFS($F15:$Y15,"taip") -> 0 | F15: Ne | G15: Ne | H15: Ne | I15: Ne | J15: Ne | K15: Ne | L15: Ne | M15: Ne | N15: Ne | O15: Ne | P15: Ne | Q15: Ne | R15: Ne | S15: Ne | T15: Ne | U15: Ne | V15: Ne | W15: Ne | X15: Ne | Y15: Ne
A16: 2.1.9 | B16: 9 stiprybė | E16: =COUNTIFS($F16:$Y16,"taip") -> 0 | F16: Ne | G16: Ne | H16: Ne | I16: Ne | J16: Ne | K16: Ne | L16: Ne | M16: Ne | N16: Ne | O16: Ne | P16: Ne | Q16: Ne | R16: Ne | S16: Ne | T16: Ne | U16: Ne | V16: Ne | W16: Ne | X16: Ne | Y16: Ne
A17: 2.1.10 | B17: 10 stiprybė | E17: =COUNTIFS($F17:$Y17,"taip") -> 0 | F17: Ne | G17: Ne | H17: Ne | I17: Ne | J17: Ne | K17: Ne | L17: Ne | M17: Ne | N17: Ne | O17: Ne | P17: Ne | Q17: Ne | R17: Ne | S17: Ne | T17: Ne | U17: Ne | V17: Ne | W17: Ne | X17: Ne | Y17: Ne
A18: 2.2 | C18: Silpnybės | D18: =D7 -> Teiginį pagrindžiančio situacijos analizės rodiklio Nr.
A19: 2.2.1 | B19: 1 stiprybė | C19: Retas gyventojų tankumas, nepalanki demografinė ir soc. situacija dėl neigiamos gyventojų kaitos ir spartaus senėjimo, negalios, žemesnio išsilavinimo | D19: R4, R5, R7, R8, R34, R35, R60, R63, R64, R65, R67, R68, R69, R70, R72, R74, R76, R85, R116, R117 | E19: =COUNTIFS($F19:$Y19,"taip") -> 3 | F19: Taip | G19: Ne | H19: Ne | I19: Taip | J19: Taip | K19: Ne | L19: Ne | M19: Ne | N19: Ne | O19: Ne | P19: Ne | Q19: Ne | R19: Ne | S19: Ne | T19: Ne | U19: Ne | V19: Ne | W19: Ne | X19: Ne | Y19: Ne
A20: 2.2.2 | B20: 2 stiprybė | C20: VVG teritorijoje menkai išvystyta ekologinė gamyba, agroturizmas žalioji ir socialinė infrastruktūra | D20: R41, R42, R165, R168, R169, R170, R171, R172, R173, R182 | E20: =COUNTIFS($F20:$Y20,"taip") -> 3 | F20: Ne | G20: Taip | H20: Ne | I20: Taip | J20: Taip | K20: Ne | L20: Ne | M20: Ne | N20: Ne | O20: Ne | P20: Ne | Q20: Ne | R20: Ne | S20: Ne | T20: Ne | U20: Ne | V20: Ne | W20: Ne | X20: Ne | Y20: Ne
A21: 2.2.3 | B21: 3 stiprybė | C21: Apatiški, kenčiantys nuo postpandeminių reiškinių, stokojantys nuolatinių sveikatinimo paslaugų gyventojai, nedalyvauja bendruomeninėse veiklose | D21: R32, R33, R40, R44, R47, R50, R56, R75, R77, R79, R80, R86, R141, R143, R146, R147 | E21: =COUNTIFS($F21:$Y21,"taip") -> 3 | F21: Taip | G21: Ne | H21: Ne | I21: Taip | J21: Taip | K21: Ne | L21: Ne | M21: Ne | N21: Ne | O21: Ne | P21: Ne | Q21: Ne | R21: Ne | S21: Ne | T21: Ne | U21: Ne | V21: Ne | W21: Ne | X21: Ne | Y21: Ne
A22: 2.2.4 | B22: 4 stiprybė | C22: Trūksta kokybiškų laisvalaikio, sveikatai palankaus užimtumo, turizmo paslaugų, silpnas soc. pažeidžiamų asmenų įtraukimas į visuomeninį gyvenimą | D22: R30, R37, R39, R45, R46, R81, R82, R83, R84, R116, R149 | E22: =COUNTIFS($F22:$Y22,"taip") -> 3 | F22: Taip | G22: Taip | H22: Taip | I22: Ne | J22: Ne | K22: Ne | L22: Ne | M22: Ne | N22: Ne | O22: Ne | P22: Ne | Q22: Ne | R22: Ne | S22: Ne | T22: Ne | U22: Ne | V22: Ne | W22: Ne | X22: Ne | Y22: Ne
A23: 2.2.5 | B23: 5 stiprybė | C23: Nepakankamai išvystytas susisiekimas, IKT, vietos produktų asortimentas ir pardavimai, turizmo partnerystės tinklai | D23: R51, R52, R53, R54, R55, R144 | E23: =COUNTIFS($F23:$Y23,"taip") -> 3 | F23: Taip | G23: Taip | H23: Ne | I23: Taip | J23: Ne | K23: Ne | L23: Ne | M23: Ne | N23: Ne | O23: Ne | P23: Ne | Q23: Ne | R23: Ne | S23: Ne | T23: Ne | U23: Ne | V23: Ne | W23: Ne | X23: Ne | Y23: Ne
A24: 2.2.6 | B24: 6 stiprybė | C24: Kaimiškos seniūnijos vystomos netolygiai, mažas gyventojų verslumas, trūksta kvalifikacijos ir motyvacijos dirbti | D24: R28, R31, R36, R57, R58, R59, R78, R87, R89, R109, R110, R113, R145, R150, R163 | E24: =COUNTIFS($F24:$Y24,"taip") -> 2 | F24: Ne | G24: Ne | H24: Taip | I24: Ne | J24: Taip | K24: Ne | L24: Ne | M24: Ne | N24: Ne | O24: Ne | P24: Ne | Q24: Ne | R24: Ne | S24: Ne | T24: Ne | U24: Ne | V24: Ne | W24: Ne | X24: Ne | Y24: Ne
A25: 2.2.7 | B25: 7 stiprybė | E25: =COUNTIFS($F25:$Y25,"taip") -> 0 | F25: Ne | G25: Ne | H25: Ne | I25: Ne | J25: Ne | K25: Ne | L25: Ne | M25: Ne | N25: Ne | O25: Ne | P25: Ne | Q25: Ne | R25: Ne | S25: Ne | T25: Ne | U25: Ne | V25: Ne | W25: Ne | X25: Ne | Y25: Ne
A26: 2.2.8 | B26: 8 stiprybė | E26: =COUNTIFS($F26:$Y26,"taip") -> 0 | F26: Ne | G26: Ne | H26: Ne | I26: Ne | J26: Ne | K26: Ne | L26: Ne | M26: Ne | N26: Ne | O26: Ne | P26: Ne | Q26: Ne | R26: Ne | S26: Ne | T26: Ne | U26: Ne | V26: Ne | W26: Ne | X26: Ne | Y26: Ne
A27: 2.2.9 | B27: 9 stiprybė | E27: =COUNTIFS($F27:$Y27,"taip") -> 0 | F27: Ne | G27: Ne | H27: Ne | I27: Ne | J27: Ne | K27: Ne | L27: Ne | M27: Ne | N27: Ne | O27: Ne | P27: Ne | Q27: Ne | R27: Ne | S27: Ne | T27: Ne | U27: Ne | V27: Ne | W27: Ne | X27: Ne | Y27: Ne
A28: 2.2.10 | B28: 10 stiprybė | E28: =COUNTIFS($F28:$Y28,"taip") -> 0 | F28: Ne | G28: Ne | H28: Ne | I28: Ne | J28: Ne | K28: Ne | L28: Ne | M28: Ne | N28: Ne | O28: Ne | P28: Ne | Q28: Ne | R28: Ne | S28: Ne | T28: Ne | U28: Ne | V28: Ne | W28: Ne | X28: Ne | Y28: Ne
A29: 2.3 | C29: Galimybės | D29: Teiginį pagrindžiančio rodiklio Nr. ar kitas informacijos šaltinis
A30: 2.3.1 | B30: 1 stiprybė | C30: Sparčiai besiplečiančios turizmo, edukacinės programos sukuria galimybes demonstruoti dzūkišką svetingumą, papročius ir stiprinti turizmo tvarumą | D30: [27], [28], [31] | E30: =COUNTIFS($F30:$Y30,"taip") -> 3 | F30: Taip | G30: Taip | H30: Taip | I30: Ne | J30: Ne | K30: Ne | L30: Ne | M30: Ne | N30: Ne | O30: Ne | P30: Ne | Q30: Ne | R30: Ne | S30: Ne | T30: Ne | U30: Ne | V30: Ne | W30: Ne | X30: Ne | Y30: Ne
A31: 2.3.2 | B31: 2 stiprybė | C31: Sparčiai plėtojamos IKT ir kt. technologijos, soc. inovacijos sukuria galimybes aktyviau bendradarbiauti, auginti išteklių valdymo kompetencijas | D31: [32] | E31: =COUNTIFS($F31:$Y31,"taip") -> 2 | F31: Ne | G31: Taip | H31: Ne | I31: Ne | J31: Taip | K31: Ne | L31: Ne | M31: Ne | N31: Ne | O31: Ne | P31: Ne | Q31: Ne | R31: Ne | S31: Ne | T31: Ne | U31: Ne | V31: Ne | W31: Ne | X31: Ne | Y31: Ne
A32: 2.3.3 | B32: 3 stiprybė | C32: Augantys poreikiai unikalioms turizmo ir personalizuotoms sveikatos paslaugoms šalyje ir ES motyvuos vystyti tvarius turizmo maršrutus | D32: [33], [34] | E32: =COUNTIFS($F32:$Y32,"taip") -> 4 | F32: Taip | G32: Taip | H32: Taip | I32: Taip | J32: Ne | K32: Ne | L32: Ne | M32: Ne | N32: Ne | O32: Ne | P32: Ne | Q32: Ne | R32: Ne | S32: Ne | T32: Ne | U32: Ne | V32: Ne | W32: Ne | X32: Ne | Y32: Ne
A33: 2.3.4 | B33: 4 stiprybė | C33: Žaliasis kursas, auganti finansinė parama gamtai draugiškoms ekonominėms veikloms ir ūkininkavimui, tvariam išteklių naudojimui ir bioekonomikai | D33: [35], [36], [37], [38] | E33: =COUNTIFS($F33:$Y33,"taip") -> 3 | F33: Ne | G33: Taip | H33: Ne | I33: Taip | J33: Taip | K33: Ne | L33: Ne | M33: Ne | N33: Ne | O33: Ne | P33: Ne | Q33: Ne | R33: Ne | S33: Ne | T33: Ne | U33: Ne | V33: Ne | W33: Ne | X33: Ne | Y33: Ne
A34: 2.3.5 | B34: 5 stiprybė | C34: Šalyje, ES besivystantys teminiai, sumanūs ir startuoliai kaimai stiprina gyventojų motyvaciją mokytis, kelti kvalifikaciją, ugdyti holistinį požiūrį | D34: [39], [40], [41] | E34: =COUNTIFS($F34:$Y34,"taip") -> 3 | F34: Ne | G34: Ne | H34: Taip | I34: Taip | J34: Taip | K34: Ne | L34: Ne | M34: Ne | N34: Ne | O34: Ne | P34: Ne | Q34: Ne | R34: Ne | S34: Ne | T34: Ne | U34: Ne | V34: Ne | W34: Ne | X34: Ne | Y34: Ne
A35: 2.3.6 | B35: 6 stiprybė | C35: LEADER principai padeda saugoti ir vystyti gamtinius ir etnokultūrinius išteklius, susikurti bendruomenėms išskirtines galimybes darniai vystytis | D35: [37], [42] | E35: =COUNTIFS($F35:$Y35,"taip") -> 3 | F35: Ne | G35: Taip | H35: Taip | I35: Taip | J35: Ne | K35: Ne | L35: Ne | M35: Ne | N35: Ne | O35: Ne | P35: Ne | Q35: Ne | R35: Ne | S35: Ne | T35: Ne | U35: Ne | V35: Ne | W35: Ne | X35: Ne | Y35: Ne
A36: 2.3.7 | B36: 7 stiprybė | C36: Globalėjanti rinka ir geopolitinė situacija vis labiau aktualizuos vietos ekonomikos, pagrįstos vietos ištekliais, vystymosi reikšmingumą ir būtinumą | D36: [43], [44] | E36: =COUNTIFS($F36:$Y36,"taip") -> 3 | F36: Taip | G36: Ne | H36: Taip | I36: Taip | J36: Ne | K36: Ne | L36: Ne | M36: Ne | N36: Ne | O36: Ne | P36: Ne | Q36: Ne | R36: Ne | S36: Ne | T36: Ne | U36: Ne | V36: Ne | W36: Ne | X36: Ne | Y36: Ne
A37: 2.3.8 | B37: 8 stiprybė | E37: =COUNTIFS($F37:$Y37,"taip") -> 0 | F37: Ne | G37: Ne | H37: Ne | I37: Ne | J37: Ne | K37: Ne | L37: Ne | M37: Ne | N37: Ne | O37: Ne | P37: Ne | Q37: Ne | R37: Ne | S37: Ne | T37: Ne | U37: Ne | V37: Ne | W37: Ne | X37: Ne | Y37: Ne
A38: 2.3.9 | B38: 9 stiprybė | E38: =COUNTIFS($F38:$Y38,"taip") -> 0 | F38: Ne | G38: Ne | H38: Ne | I38: Ne | J38: Ne | K38: Ne | L38: Ne | M38: Ne | N38: Ne | O38: Ne | P38: Ne | Q38: Ne | R38: Ne | S38: Ne | T38: Ne | U38: Ne | V38: Ne | W38: Ne | X38: Ne | Y38: Ne
A39: 2.3.10 | B39: 10 stiprybė | E39: =COUNTIFS($F39:$Y39,"taip") -> 0 | F39: Ne | G39: Ne | H39: Ne | I39: Ne | J39: Ne | K39: Ne | L39: Ne | M39: Ne | N39: Ne | O39: Ne | P39: Ne | Q39: Ne | R39: Ne | S39: Ne | T39: Ne | U39: Ne | V39: Ne | W39: Ne | X39: Ne | Y39: Ne
A40: 2.4 | C40: Grėsmės | D40: Teiginį pagrindžiančio rodiklio Nr. ar kitas informacijos šaltinis
A41: 2.4.1 | B41: 1 stiprybė | C41: Socialinės politikos ypatumai, visuomenės senėjimo tendencijos, darbingo amžiaus, ypač jaunų žmonių emigracija stabdys verslo plėtrą ir inovacijas | D41: [50] | E41: =COUNTIFS($F41:$Y41,"taip") -> 3 | F41: Ne | G41: Ne | H41: Taip | I41: Taip | J41: Taip | K41: Ne | L41: Ne | M41: Ne | N41: Ne | O41: Ne | P41: Ne | Q41: Ne | R41: Ne | S41: Ne | T41: Ne | U41: Ne | V41: Ne | W41: Ne | X41: Ne | Y41: Ne
A42: 2.4.2 | B42: 2 stiprybė | C42: Nuolat besikeičianti geopolitinė situacija Europoje ir pasaulyje, sveikatos, klimato kaitos ir kitų krizių grėsmė gali keisti vystymosi kryptis | D42: [36], [45] | E42: =COUNTIFS($F42:$Y42,"taip") -> 2 | F42: Taip | G42: Ne | H42: Ne | I42: Taip | J42: Ne | K42: Ne | L42: Ne | M42: Ne | N42: Ne | O42: Ne | P42: Ne | Q42: Ne | R42: Ne | S42: Ne | T42: Ne | U42: Ne | V42: Ne | W42: Ne | X42: Ne | Y42: Ne
A43: 2.4.3 | B43: 3 stiprybė | C43: Augant masinio vartojimo prekių ir paslaugų apyvartai, didėja aplinkos tarša, ŠESD emisijos, kaimo vietovių urbanizacija pažeis ekologinį stabilumą | D43: [35], [36], [46] | E43: =COUNTIFS($F43:$Y43,"taip") -> 2 | F43: Ne | G43: Ne | H43: Taip | I43: Taip | J43: Ne | K43: Ne | L43: Ne | M43: Ne | N43: Ne | O43: Ne | P43: Ne | Q43: Ne | R43: Ne | S43: Ne | T43: Ne | U43: Ne | V43: Ne | W43: Ne | X43: Ne | Y43: Ne
A44: 2.4.4 | B44: 4 stiprybė | C44: Blogėjanti gyventojų sveikata dėl mažo fizinio aktyvumo, supratimo apie sveiką gyvenseną trūkumo, maitinimosi labai perdirbtais maisto produktais | D44: [46], [47] | E44: =COUNTIFS($F44:$Y44,"taip") -> 2 | F44: Taip | G44: Ne | H44: Ne | I44: Taip | J44: Ne | K44: Ne | L44: Ne | M44: Ne | N44: Ne | O44: Ne | P44: Ne | Q44: Ne | R44: Ne | S44: Ne | T44: Ne | U44: Ne | V44: Ne | W44: Ne | X44: Ne | Y44: Ne
A45: 2.4.5 | B45: 5 stiprybė | C45: Besiplečiančios priemiestinės seniūnijos, kurių gyventojai naudojasi miesto paslaugomis, silpnina poreikius plėtoti kaimų socialinę infrastruktūrą | D45: [48] | E45: =COUNTIFS($F45:$Y45,"taip") -> 2 | F45: Ne | G45: Taip | H45: Ne | I45: Taip | J45: Ne | K45: Ne | L45: Ne | M45: Ne | N45: Ne | O45: Ne | P45: Ne | Q45: Ne | R45: Ne | S45: Ne | T45: Ne | U45: Ne | V45: Ne | W45: Ne | X45: Ne | Y45: Ne
A46: 2.4.6 | B46: 6 stiprybė | C46: Europos ir šalies visuomenės senėjimas, nedarbas, ekonominė ir klimato migracija, gali pristabdyti soc. pažeidžiamų grupių integraciją į visuomenę | D46: [32], [36] | E46: =COUNTIFS($F46:$Y46,"taip") -> 3 | F46: Taip | G46: Ne | H46: Taip | I46: Ne | J46: Taip | K46: Ne | L46: Ne | M46: Ne | N46: Ne | O46: Ne | P46: Ne | Q46: Ne | R46: Ne | S46: Ne | T46: Ne | U46: Ne | V46: Ne | W46: Ne | X46: Ne | Y46: Ne
A47: 2.4.7 | B47: 7 stiprybė | C47: Nepalanki, nepakankamai išplėtota energetikos infrastruktūra gali užkirsti kelią intensyviau pereiti prie atsinaujinančių energijos išteklių | D47: [49] | E47: =COUNTIFS($F47:$Y47,"taip") -> 2 | F47: Ne | G47: Ne | H47: Ne | I47: Taip | J47: Taip | K47: Ne | L47: Ne | M47: Ne | N47: Ne | O47: Ne | P47: Ne | Q47: Ne | R47: Ne | S47: Ne | T47: Ne | U47: Ne | V47: Ne | W47: Ne | X47: Ne | Y47: Ne
A48: 2.4.8 | B48: 8 stiprybė | E48: =COUNTIFS($F48:$Y48,"taip") -> 0 | F48: Ne | G48: Ne | H48: Ne | I48: Ne | J48: Ne | K48: Ne | L48: Ne | M48: Ne | N48: Ne | O48: Ne | P48: Ne | Q48: Ne | R48: Ne | S48: Ne | T48: Ne | U48: Ne | V48: Ne | W48: Ne | X48: Ne | Y48: Ne
A49: 2.4.9 | B49: 9 stiprybė | E49: =COUNTIFS($F49:$Y49,"taip") -> 0 | F49: Ne | G49: Ne | H49: Ne | I49: Ne | J49: Ne | K49: Ne | L49: Ne | M49: Ne | N49: Ne | O49: Ne | P49: Ne | Q49: Ne | R49: Ne | S49: Ne | T49: Ne | U49: Ne | V49: Ne | W49: Ne | X49: Ne | Y49: Ne
A50: 2.4.10 | B50: 10 stiprybė | E50: =COUNTIFS($F50:$Y50,"taip") -> 0 | F50: Ne | G50: Ne | H50: Ne | I50: Ne | J50: Ne | K50: Ne | L50: Ne | M50: Ne | N50: Ne | O50: Ne | P50: Ne | Q50: Ne | R50: Ne | S50: Ne | T50: Ne | U50: Ne | V50: Ne | W50: Ne | X50: Ne | Y50: Ne
C53: Pildymo instrukcija (2 lapas)
B54: 1 | C54: Užpildykite baltus langelius 2 ir 3 stulpeliuose ir geltonus langelius 5-24 stulpeliuose.
B55: 2 | C55: 2 ir 3 stulpeliai užpildomi atlikus VVG teritorijos situacijos analizę (parengtus VPS I dalies 2 skyrių). Rekomenduojame SSGG teiginius formuluoti taip, kad visas teiginys tilptų į 1-2 eilutes. Maksimalus SSGG teiginio ilgis yra 100 simbolių.
B56: 3 | C56: 4 stulpelis užsipildo automatiškai, užpildžius 5-24 stulpelius.
B57: 4 | C57: 5-24 stulpeliai pildomi po tai, kai užpildomas 3 lapas (parengiamas poreikių sąrašas). Jei SSGG teiginys susijęs su poreikiu, pasirinkite "Taip". Iš anksto nurodyta reikšmė "Ne".
B58: 5 | C58: 3 stulpelis: Situacijos analizės rodikliai numeruojami VPS I dalyje (Word) atliekant situacijos analizę, pavyzdžiui, 1 rodiklis, 2 rodiklis ir t.t.
B59: 6 | C59: 3 stulpelis: Kitas informacijos šaltinis galimybėms ir grėsmėms pagrįsti numeruojami VPS I dalyje (Word) atliekant situacijos analizę, pavyzdžiui, 1 informacijos šaltinis, 2 informacijos šaltinis ir t.t.). Tai gali būti eksperto nuomonė, aukštesnio lygio strateginis dokumentas, mokslinis tyrimas, VVG teritorijos gyventojų nuomonė (pasiektas konsensusas tam tikru klausimu) ar pan. Situacijos analizėje turi būti nurodyta konkrečiai, kokio eksperto nuomonė, koks strateginis dokumentas ir pan.
B60: 7 | C60: VVG teritorijos plėtros stiprybes, silpnybes, galimybes ir grėsmes išskirkite vadovaudamiesi VVG teritorijos situacijos analizė duomenimis (įskaitant VVG teritorijos gyventojų nuomonės analizės duomenis). Stiprybės suprantamos kaip teigiami vidiniai dabarties veiksniai, VVG teritorijos savybės (plėtros potencialas). Silpnybės suprantamos kaip neigiami vidiniai dabarties veiksniai, VVG teritorijos savybės (plėtros problemos). Galimybės suprantamos kaip teigiami išoriniai ateities veiksniai, kurie gali sustiprinti VVG teritorijos potencialą. Grėsmės suprantamos kaip neigiami išoriniai ateities veiksniai, kurie gali turėti neigiamos įtakos VVG teritorijos plėtros potencialui ir pagilinti problemas.

Sheet 3
A1: 3. | B1: VVG teritorijos poreikiai
B3: VVG: | C3: ='1'!C8 -> ALYT
B5: 1 | C5: 2
B6: Poreikio numeris | C6: Poreikis
A7: 3.1 | B7: 1 poreikis | C7: Įvairinti ir pagerinti sveikatinimo paslaugas, plėtoti verslo paslaugas sanatorijoms, stambesniems sveikatinimo ir turizmo paslaugų teikėjams
A8: 3.2 | B8: 2 poreikis | C8: Atrasti turizmo ir sveikatos paslaugoms patrauklius objektus, integruojant gamtos ir kultūros išteklius sukurti vertingus produktus turizmo rinkai
A9: 3.3 | B9: 3 poreikis | C9: Teminių kaimų ir labiau vietos gyventojų bei turistų poreikius atliepiančių paslaugų kūrimas, turizmo maršrutų, vietos produktų populiarinimas
A10: 3.4 | B10: 4 poreikis | C10: Diegiant žaliuosius sprendimus išsaugoti gamtos išteklius ir kultūros paveldą, pagerinti turizmo infrastruktūrą, ugdyti kaimo bendruomenės sumanumą
A11: 3.5 | B11: 5 poreikis | C11: Jaunimo įtraukimas į kaimo bendruomenės veiklas, verslumo ugdymas ir veiklų skatinančių tvarumą ir sveiką gyvenseną organizavimas
A12: 3.6 | B12: 6 poreikis
A13: 3.7 | B13: 7 poreikis
A14: 3.8 | B14: 8 poreikis
A15: 3.9 | B15: 9 poreikis
A16: 3.10 | B16: 10 poreikis
A17: 3.11 | B17: 11 poreikis
A18: 3.12 | B18: 12 poreikis
A19: 3.13 | B19: 13 poreikis
A20: 3.14 | B20: 14 poreikis
A21: 3.15 | B21: 15 poreikis
A22: 3.16 | B22: 16 poreikis
A23: 3.17 | B23: 17 poreikis
... A26: 3.20 | B26: 20 poreikis
C29: Pildymo instrukcija (3 lapas)
B30: 1 | C30: Šiame lape pateikiamas VVG teritorijos poreikių sąrašas. Ši informacija naudojama 2 lape, 4 lape ir 9 lape.
B31: 2 | C31: Jei VPS įgyvendinimo metu iškyla poreikis įtraukti naujus poreikius, pakeitimai atliekami šiame lape (įrašomas naujas poreikis ir atitinkamai užpildomi 2, 4 ir 9 lapai bei patikslinama 13 lape pateikta informacija.
B32: 3 | C32: Rekomenduojamas poreikio ilgis - ne daugiau kaip 70 simbolių (t. y., kad tilptų į vieną eilutę). Maksimalus leidžiamas ilgis - ne daugiau kaip 150 simbolių.
B33: 4 | C33: Poreikius formuluokite kaip aukštesnio lygio tikslus arba siekiamus pokyčius, o ne kaip veiksmus (priemones). Poreikio formuluotę pradėkite veiksmažodžio bendratimi (pavyzdžiui, gerinti VVG teritorijos gyventojų užimtumo galimybes). Šis poreikis gali būti tenkamas įgyvendinant skirtingus veiksmus arba priemones (pavyzdžiui, kuriant naujus verslus, plėtojant esamus verslus ir kuriant papildomas darbo vietas, investuojant į gyventojų kvalifikacijos kėlimą, sudarant galimybes patogiau pasiekti nutolusias darbo vietas ir pan.). Poreikiai turėtų būti formuluojami taip, kad vienam poreikiui patenkinti būtų galima numatyti keletą skirtingų priemonių. Poreikiai neturėtų būti formuluojami kaip priemonių rūšys (pavyzdžiui, socialinių verslų kūrimas nėra poreikis, tai yra priemonė aukštesnio lygio tikslams arba pokyčiams pasiekti).
B34: 5 | C34: Rekomenduojamas poreikių skaičius - ne daugiau kaip 5-10 poreikių. Gali būti ir mažiau nei 5 poreikiai.

Sheet 4
A1: 4. | B1: VVG teritorijos poreikių pagrindimas
B3: VVG: | D3: ='1'!C8 -> ALYT
B5: 1 | C5: Pildymo instrukcija (4 lapas) | D5: 2 | E5: 3 | F5: 4 | G5: 5 | H5: 6 | I5: 7 | J5: 8 | K5: 9 | L5: 10 | M5: 11 | N5: 12 | O5: 13 | P5: 14 | Q5: 15 | R5: 16 | S5: 17 | T5: 18 | U5: 19 | V5: 20 | W5: 21
C6: Pagal šiame stulpelyje pateiktas instrukcijas užpildykite stulpelius nuo 2 iki 21 (vienas stulpelis skirtas vienam poreikiui pagrįsti). Užpildykite tiek stulpelių, kiek poreikių nurodėte 3 lape). | D6: 1 poreikis | E6: 2 poreikis | F6: 3 poreikis | G6: 4 poreikis | H6: 5 poreikis | I6: 6 poreikis | J6: 7 poreikis | K6: 8 poreikis | L6: 9 poreikis | M6: 10 poreikis | N6: 11 poreikis | O6: 12 poreikis | P6: 13 poreikis | Q6: 14 poreikis | R6: 15 poreikis | S6: 16 poreikis | T6: 17 poreikis | U6: 18 poreikis | V6: 19 poreikis | W6: 20 poreikis
A7: 4.1 | B7: Poreikis | C7: Užsipildo automatiškai (naudojamas 2 lape pateiktas poreikių sąrašas). | D7: ='2'!F7 -> Įvairinti ir pagerinti sveikatinimo paslaugas, plėtoti verslo paslaugas sanatorijoms, stambesniems sveikatinimo ir turizmo paslaugų teikėjams | E7: ='2'!G7 -> Atrasti turizmo ir sveikatos paslaugoms patrauklius objektus, integruojant gamtos ir kultūros išteklius sukurti vertingus produktus turizmo rinkai | F7: ='2'!H7 -> Teminių kaimų ir labiau vietos gyventojų bei turistų poreikius atliepiančių paslaugų kūrimas, turizmo maršrutų, vietos produktų populiarinimas | G7: ='2'!I7 -> Diegiant žaliuosius sprendimus išsaugoti gamtos išteklius ir kultūros paveldą, pagerinti turizmo infrastruktūrą, ugdyti kaimo bendruomenės sumanumą | H7: ='2'!J7 -> Jaunimo įtraukimas į kaimo bendruomenės veiklas, verslumo ugdymas ir veiklų skatinančių tvarumą ir sveiką gyvenseną organizavimas | I7: ='2'!K7 -> 0 | J7: ='2'!L7 -> 0 | K7: ='2'!M7 -> 0 | ... W7: ='2'!Y7 -> 0
A8: 4.2 | B8: Poreikio sąsaja su stiprybėmis ir (arba) galimybėmis | C8: Laisvas tekstas (ne daugiau kaip 500 simbolių). Kokios VVG teritorijos stiprybės arba išorinės galimybės rodo egzistuojantį potencialą (jei poreikis siejamas su egzistuojančio potencialo ar galimybių išnaudojimu)? Ko trūksta, kad būtų galima išnaudoti egzistuojantį potencialą? 4.2 ir 4.3 punktai pildomi pasirinktinai, atsižvelgiant į tai, ar poreikis labiau siejasi su potencialo išnaudojimu (pildomas 4.2 punktas), ar su problemų sprendimu, pasirengimu grėsmėms (pildomas 4.3 punktas). Šis punktas pildomas, jei nepildomas 4.3 punktas. | D8: Poreikis suformuotas atsižvelgiant į 1, 2, 4, 5, 6 stiprybes ir 1, 3, 7 galimybes. Poreikis gali būti įgyvendintas panaudojant ir tvariai plėtojant VVG teritorijos stiprybes ir atsiveriančias galimybes. | E8: Poreikis suformuotas atsižvelgiant į 1, 4, 6 stiprybes ir 1, 2, 3, 4, 6 galimybes. Poreikis gali būti įgyvendintas panaudojant ir tvariai plėtojant VVG teritorijos stiprybes ir atsiveriančias galimybes. | F8: Poreikis suformuotas atsižvelgiant į 2, 3, 4, 6 stiprybes ir 1, 3, 5, 6, 7 galimybes. Poreikis gali būti įgyvendintas panaudojant ir tvariai plėtojant VVG teritorijos stiprybes ir atsiveriančias galimybes. | G8: Poreikis suformuotas atsižvelgiant į 1, 2, 3, 5 stiprybę ir 3, 4, 5, 6, 7 galimybes. Poreikis gali būti įgyvendintas panaudojant ir tvariai plėtojant VVG teritorijos stiprybes ir atsiveriančias galimybes. | H8: Poreikis suformuotas atsižvelgiant į 3, 5, 6 stiprybes ir 2, 4, 5 galimybes. Poreikis gali būti įgyvendintas panaudojant ir tvariai plėtojant VVG teritorijos stiprybes ir atsiveriančias galimybes.
A9: 4.3 | B9: Poreikio sąsaja su silpnybėmis ir (arba) grėsmėmis | C9: Laisvas tekstas (ne daugiau kaip 500 simbolių). Kokios VVG teritorijos silpnybės arba išorinės grėsmės rodo egzistuojant problemą (jei poreikis siejamas su esamų problemų sprendimu ar pasiruošimu išorinėms grėsmėms)? Kokios yra problemos priežastys? Šis punktas pildomas, jei nepildomas 4.2 punktas. | D9: Poreikis suformuotas atsižvelgiant į 3, 4, 5 silpnybes ir 2, 4, 6 grėsmes. Tikimasi, kad panaudojant jau egzistuojantį potencialą ir galimybes bus išvengta grėsmių ir bent iš dalies sumažintos ir (arba) visiškai panaikintos silpnybės. | E9: Poreikis suformuotas atsižvelgiant į 2, 4, 5 silpnybes ir 5 grėsme. Tikimasi, kad panaudojant jau egzistuojantį potencialą ir galimybes bus išvengta grėsmių ir bent iš dalies sumažintos ir (arba) visiškai panaikintos silpnybės. | F9: Poreikis suformuotas atsižvelgiant į 3, 6 silpnybes ir 1, 3, 6 grėsmes. Tikimasi, kad panaudojant jau egzistuojantį potencialą ir galimybes bus išvengta grėsmių ir bent iš dalies sumažintos ir (arba) visiškai panaikintos silpnybės. | G9: Poreikis suformuotas atsižvelgiant į 1, 2, 4, 5 silpnybes ir 1, 2, 3, 4, 5, 7 grėsmes. Tikimasi, kad panaudojant jau egzistuojantį potencialą ir galimybes bus išvengta grėsmių ir bent iš dalies sumažintos ir (arba) visiškai panaikintos silpnybės. | H9: Poreikis suformuotas atsižvelgiant į 1, 2, 4, 6 silpnybes ir 1, 6, 7 grėsmes. Tikimasi, kad panaudojant jau egzistuojantį potencialą ir galimybes bus išvengta grėsmių ir bent iš dalies sumažintos ir (arba) visiškai panaikintos silpnybės.
A10: 4.4 | B10: Poreikio sąsaja su situacijos analizės rodikliais (poreikio dydžio, problemos masto, intervencijos poreikio kiekybinis pagrindimas) | C10: Laisvas tekstas (ne daugiau kaip 500 simbolių). Kokie VVG teritorijos situacijos analizės rodikliai susiję su poreikiu? Kokios jų reikšmės? Rodiklių reikšmės nurodomos siekiant kiekybiškai pagrįsti poreikio dydį, problemos mastą ar intervencijos poreikį. | D10: R79 (Alytaus r. sav. 8,3 proc., Birštono sav. 10,8 proc. nuo visų gyventojų buvo žmonės su negalia, 2022 m.) R98 (sveikatos priežiūros ir socialinį darbą dirba 16,7 proc. Birštono sav., 5 proc. Alytaus r. sav. visų užimtųjų, 2021m.) R113 (Alytaus r. sav. priskiriama prie kaimiškųjų, o Birštono sav. prie kurortinių sav. klasterio) R120 (13 KBO teikia asmeninės higienos ir priežiūros, kompleksines paslaugas šeimai Alytaus r. sav., 574 paslaugų gavėjams) | E10: R12 (Camino Lituano kelio, Šv. Jokūbo kultūros kelio atkarpos) R14 (rekreaciniai Valstybinių parkų žiediniai maršrutai (Dzūkijos, Suvalkijos ir Vidurio Lietuvos) R123 (daugiau nei 20 Dzūkijos piliakalnių, turizmo maršrutai ir objektai) R124 (2 regioniniai, nacionalinis parkas, biosferos rezervatas, kurortas) | F10: R12 (Camino Lituano kelio, Šv. Jokūbo kultūros kelio atkarpos) R119 (62 Alytaus r. sav., 5 Birštono sav. kaimo bendruomeninės organizacijos) R121 (1 bendruomeninis verslas) R125 (Birštono sav. 5 kaimo turizmo sodybos, Alytaus r. sav. 31 sodybas) R127 (tarptautinės turizmo organizavimo patirtis "CULTrips“, 2 lėtojo turizmo projektai) R161 (Alytaus r. sav. 22, o Birštono sav. 4 sertifikuoti tautinio paveldo produktai) | G10: R162 (Alytaus r. sav. Pivašiūnų amatų centras, 3 amatų kiemeliai, Birštono sav. Nemajūnų amatų centras) R166 (26,6 proc. Alytaus sav., 47,88 proc. Birštono sav. visos teritorijos užima miškai) R176 (Nemuno mažųjų intakų (su Nemunu) ir Merkio baseinuose teka 60 kitų mažesnių upių ir upelių) R177 (64 ežerai, 13 tvenkinių) R175 (saulės elektrinėse 2019 m. - 3908435,53 kWh, 2021 m. - 3661166,47 kWh, vėjo energijos pagaminta 2202942,60 kWh) | H10: R122 (edukacinės programos (15), tvarumą skatinančios iniciatyvos (3) R135, R138 (6 gimnazijos, 2 pagrindinio ugdymo ir daugiafunkciai skyriai, 1 specialioji mokykla, 1 Meno ir sporto mokykla, 6 ikimokyklinio ugdymo skyriai, 1 technologijos ir verslo mokykla) R155 (tradiciniai vietos, regioninės ir nacionalinės reikšmės kultūriniai renginiai) R156 ("Užgavėnės Tarzanijoje", „Joninės Tarzanijoje", „Šviežios duonelės šventė“ Punioje)
A11: 4.5 | B11: Poreikio sąsaja su aukštesnio lygmens strateginiais dokumentais | C11: Laisvas tekstas (ne daugiau kaip 500 simbolių). Ar poreikis susijęs su aukštesnio lygio strategijų įgyvendinimu (savivaldybės, regiono, nacionalinių, ES)? Jei taip, nurodykite aktualias strategijas ir pagrįskite, kodėl joms įgyvendinti nuspęsta naudoti VPS lėšas? | D11: Alytaus r. sav. 2021–2028 m. SPP (2.3. tikslas); Birštono sav. SPP iki 2030 m. (1.3. tikslas); 2022–2030 m. Alytaus RPP (1 tikslas); 2022–2030 m. Kauno RPP (2 tikslas); 2021-2027 metų ES fondų IP; Lietuvos žemės ūkio ir kaimo plėtros 2023–2027 m. SP (SO8); ES BJRP 2021-2027 m. (3 tikslas); 2021–2030 m. NPP ( 2 tikslas). VPS lėšos nebus naudojamos tiesiogiai šių strategijų priemonių finansavimui, tačiau prisidės prie minėtų strategijų tikslų, kurie konkrečiai aprašyti VPS 1 dalies 5 priede. | E11: Alytaus r. sav. 2021–2028 m. SPP (3.2. tikslas); Birštono sav. SPP iki 2030 m. (2.1.tikslas); 2022–2030 m. Alytaus RPP (1 tikslas); 2022–2030 m. Kauno RPP (2 tikslas); 2021-2027 metų ES fondų IP ; Lietuvos žemės ūkio ir kaimo plėtros 2023–2027 m. SP (SO8); ES BJRP 2021-2027 m. (3 tikslas); 2021–2030 m. NPP ( 2 tikslas). VPS lėšos nebus naudojamos tiesiogiai šių strategijų priemonių finansavimui, tačiau prisidės prie minėtų strategijų tikslų, kurie konkrečiai aprašyti VPS 1 dalies 5 priede. | F11: Alytaus r. sav. 2021–2028 m. SPP (3.2. tikslas); Birštono sav. SPP iki 2030 m. (2.1. tikslas); 2022–2030 m. Alytaus RPP (1 tikslas); 2022–2030 m. Kauno RPP (2 tikslas); 2021-2027 metų ES fondų IP, Lietuvos žemės ūkio ir kaimo plėtros 2023–2027 m. SP (SO8); ES BJRP 2021-2027 m. (1 tikslas); 2021–2030 m. NPP ( 2 tikslas). VPS lėšos nebus naudojamos tiesiogiai šių strategijų priemonių finansavimui, tačiau prisidės prie minėtų strategijų tikslų, kurie konkrečiau aprašyti VPS 1 dalies 5 priede. | G11: Alytaus r. sav. 2021–2028 m. SPP (2.1. tikslas); Birštono sav. SPP iki 2030 m. (1.2.,2.2. tikslai); 2022–2030 m. Alytaus RPP (1 tikslas); 2022–2030 m. Kauno RPP (2 tikslas); 2021-2027 metų ES fondų IP ; Lietuvos žemės ūkio ir kaimo plėtros 2023 - 2027 SP (SO8); ES BJRP (3 tikslas); 2021 - 2030 metų NPP (2 tikslas).VPS lėšos nebus naudojamos tiesiogiai šių strategijų priemonių finansavimui, tačiau prisidės prie minėtų strategijų tikslų, kurie konkrečiai aprašyti VPS 1 dalies 5 priede. | H11: Alytaus r. sav. 2021–2028 m. SPP (1.1. tikslas); Birštono sav. SPP iki 2030 m. (1.5. tikslas); 2022–2030 m. Alytaus RPP (1 tikslas); 2022–2030 m. Kauno RPP (2 tikslas); 2021-2027 metų ES fondų IP, Lietuvos žemės ūkio ir kaimo plėtros 2023–2027 m. SP (SO8); ES BJRP 2021-2027 m. (3 tikslas); 2021–2030 m. NPP ( 2 tikslas). VPS lėšos nebus naudojamos tiesiogiai šių strategijų priemonių finansavimui, tačiau prisidės prie minėtų strategijų tikslų, kurie konkrečiai aprašyti VPS 1 dalies 5 priede.
A12: 4.6 | B12: Poreikio sąsaja su VVG teritorijos gyventojų nuomone | C12: Laisvas tekstas (ne daugiau kaip 300 simbolių). Ar formuluojant poreikį atsižvelgta į VVG teritorijos gyventojų nuomonę? Jei taip, pagrįskite. | D12: Poreikis naujų, įvairesnių, geresnės kokybės paslaugų - sveikatos namai (sveikatinimo procedūros, vyresnio amžiaus asmenų ir sunkių ligonių priežiūros), dienos centrų pagyvenusiems ir neįgaliesiems, kompleksinių paslaugų vietos gyventojams ir turistams organizavimui, sanatorijų aptarnavimui | E12: Poreikis paramai, kai kuriamos darbo vietos, gamtos, lėto turizmo, laisvalaikio ir sveikatinimo paslaugų, vietos produkcijos perdirbimui ir realizavimui vietos gyventojams ir turistams sveikatai palankaus maisto. | F12: Poreikis bendruomeniniam verslui, socialinės įtraukties didinimui, ryšių kūrimui kartu veikti ir atrasti naujas galias, turizmo objektų ir veiklų teminimui, perėjimui prie atsinaujinančių išteklių, diegti žiedinės bioekonomikos principus, auginti mokymosi kultūrą, populiarinti teminius kaimus. | G12: Poreikis vietos produkcijos perdirbimo ir realizavimo, įtraukios infrastruktūros, sveikatinimo projektams, parkų ir kt. žaliosios, turizmo ir viešosios infrastruktūros gerinimui, IKT plėtrai, bendruomenių sumanumo ugdymui, inovacijoms, kurios padėtų kapitalizuoti vietos išteklius. | H12: Poreikis savanorystės, bendruomeniškumo ir verslumo skatinančioms iniciatyvoms, turizmo klasterio kūrimui, bendradarbiavimo projektams, kurie padėtų mažinti socialinę atskirtį, tvarumą skatinančių idėjų bendruomenėje įgyvendinimas, patirties jaunimui perdavimas, jaunimo užimtumo, sporto paslaugų.
A13: 4.7 | B13: Poreikį tenkinančių VPS priemonių skaičius | C13: Užsipildo automatiškai (naudojama 9 lape pateikta informacija apie VPS priemonių ir VVG teritorijos poreikių sąsajas) | D13: =COUNTIFS('9'!E$8:E$27,"taip") -> 5 | E13: =COUNTIFS('9'!F$8:F$27,"taip") -> 6 | F13: =COUNTIFS('9'!G$8:G$27,"taip") -> 4 | G13: =COUNTIFS('9'!H$8:H$27,"taip") -> 3 | H13: =COUNTIFS('9'!I$8:I$27,"taip") -> 3 | I13: =COUNTIFS('9'!J$8:J$27,"taip") -> 0 | J13: =COUNTIFS('9'!K$8:K$27,"taip") -> 0 | K13: =COUNTIFS('9'!L$8:L$27,"taip") -> 0 | ... W13: =COUNTIFS('9'!X$8:X$27,"taip") -> 0
A14: 4.8 | B14: Susijęs nacionalinis poreikis 1 | C14: Susijusį nacionalinį poreikį pasirinkite iš sąrašo. Jei sąsajų nėra, pasirinkite "Netaikoma". Vienam VVG teritorijos poreikiui nurodoma nuo 0 iki 3 nacionalinių poreikių. Jei susijusių nacionalinių poreikių yra mažiau nei 3, likusiose eilutėse pasirinkite "Netaikoma". | D14: h.2. Didinti kaimo gyventojų užimtumą ir socialinę įtrauktį | E14: h.2. Didinti kaimo gyventojų užimtumą ir socialinę įtrauktį | F14: h.2. Didinti kaimo gyventojų užimtumą ir socialinę įtrauktį | G14: h.1. Skatinti kaimo gyventojų ir kaimo bendruomenių verslo iniciatyvas | H14: h.2. Didinti kaimo gyventojų užimtumą ir socialinę įtrauktį | I14: Pasirinkite | J14: Pasirinkite | K14: Pasirinkite | L14: Pasirinkite | M14: Pasirinkite | N14: Pasirinkite | O14: Pasirinkite | P14: Pasirinkite | Q14: Pasirinkite | R14: Pasirinkite | S14: Pasirinkite | T14: Pasirinkite | U14: Pasirinkite | V14: Pasirinkite | W14: Pasirinkite
A15: 4.9 | B15: Susijęs nacionalinis poreikis 2 | C15: Susijusį nacionalinį poreikį pasirinkite iš sąrašo. Jei sąsajų nėra, pasirinkite "Netaikoma". | D15: h.4 . Modernizuoti kaimo vietoves didinant gyvenimo sąlygų jose patrauklumą | E15: h.4 . Modernizuoti kaimo vietoves didinant gyvenimo sąlygų jose patrauklumą | F15: h.1. Skatinti kaimo gyventojų ir kaimo bendruomenių verslo iniciatyvas | G15: h.2. Didinti kaimo gyventojų užimtumą ir socialinę įtrauktį | H15: Pasirinkite | I15: Pasirinkite | J15: Pasirinkite | K15: Pasirinkite | L15: Pasirinkite | M15: Pasirinkite | N15: Pasirinkite | O15: Pasirinkite | P15: Pasirinkite | Q15: Pasirinkite | R15: Pasirinkite | S15: Pasirinkite | T15: Pasirinkite | U15: Pasirinkite | V15: Pasirinkite | W15: Pasirinkite
A16: 4.10 | B16: Susijęs nacionalinis poreikis 3 | C16: Susijusį nacionalinį poreikį pasirinkite iš sąrašo. Jei sąsajų nėra, pasirinkite "Netaikoma". | D16: g.3 . Skatinti verslų kūrimąsi kaime, žemės ūkio veiklos įvairinimą | E16: g.3 . Skatinti verslų kūrimąsi kaime, žemės ūkio veiklos įvairinimą | F16: Pasirinkite | G16: g.3 . Skatinti verslų kūrimąsi kaime, žemės ūkio veiklos įvairinimą | H16: Pasirinkite | I16: Pasirinkite | J16: Pasirinkite | K16: Pasirinkite | L16: Pasirinkite | M16: Pasirinkite | N16: Pasirinkite | O16: Pasirinkite | P16: Pasirinkite | Q16: Pasirinkite | R16: Pasirinkite | S16: Pasirinkite | T16: Pasirinkite | U16: Pasirinkite | V16: Pasirinkite | W16: Pasirinkite
A17: 4.11 | B17: Ar poreikis siejasi su rezultato rodikliu R.3 (skaitmeninės technologijos; pilnas rodiklio pavadinimas 6 lape)? | C17: Pasirinkite iš sąrašo (taip arba ne). Sąsaja nėra privaloma. Iš anksto nurodyta reikšmė "Ne". Pasirinkimas "Taip" reiškia, kad tenkinant poreikį bus siekiama atitinkamo rezultato rodiklio. | D17: Ne | E17: Ne | F17: Ne | G17: Ne | H17: Ne | I17: Ne | J17: Ne | K17: Ne | L17: Ne | M17: Ne | N17: Ne | O17: Ne | P17: Ne | Q17: Ne | R17: Ne | S17: Ne | T17: Ne | U17: Ne | V17: Ne | W17: Ne
A18: 4.12 | B18: Ar poreikis siejasi su rezultato rodikliu R.37 (darbo vietos; pilnas rodiklio pavadinimas 6 lape)? | C18: =$C$17 -> Pasirinkite iš sąrašo (taip arba ne). Sąsaja nėra privaloma. Iš anksto nurodyta reikšmė "Ne". Pasirinkimas "Taip" reiškia, kad tenkinant poreikį bus siekiama atitinkamo rezultato rodiklio. | D18: Taip | E18: Taip | F18: Ne | G18: Ne | H18: Ne | I18: Ne | J18: Ne | K18: Ne | L18: Ne | M18: Ne | N18: Ne | O18: Ne | P18: Ne | Q18: Ne | R18: Ne | S18: Ne | T18: Ne | U18: Ne | V18: Ne | W18: Ne
A19: 4.13 | B19: Poreikis siejasi su rezultato rodikliu R.39 (kaimo verslai; pilnas rodiklio pavadinimas 6 lape) | C19: =$C$17 -> Pasirinkite iš sąrašo (taip arba ne). Sąsaja nėra privaloma. Iš anksto nurodyta reikšmė "Ne". Pasirinkimas "Taip" reiškia, kad tenkinant poreikį bus siekiama atitinkamo rezultato rodiklio. | D19: Taip | E19: Taip | F19: Ne | G19: Taip | H19: Ne | I19: Ne | J19: Ne | K19: Ne | L19: Ne | M19: Ne | N19: Ne | O19: Ne | P19: Ne | Q19: Ne | R19: Ne | S19: Ne | T19: Ne | U19: Ne | V19: Ne | W19: Ne
A20: 4.14 | B20: Poreikis siejasi su rezultato rodikliu R.41 (paslaugos ir infrastruktūra; pilnas rodiklio pavadinimas 6 lape) | C20: =$C$17 -> Pasirinkite iš sąrašo (taip arba ne). Sąsaja nėra privaloma. Iš anksto nurodyta reikšmė "Ne". Pasirinkimas "Taip" reiškia, kad tenkinant poreikį bus siekiama atitinkamo rezultato rodiklio. | D20: Taip | E20: Taip | F20: Taip | G20: Taip | H20: Ne | I20: Ne | J20: Ne | K20: Ne | L20: Ne | M20: Ne | N20: Ne | O20: Ne | P20: Ne | Q20: Ne | R20: Ne | S20: Ne | T20: Ne | U20: Ne | V20: Ne | W20: Ne
A21: 4.15 | B21: Poreikis siejasi su rezultato rodikliu R.42 (socialinė įtrauktis; pilnas rodiklio pavadinimas 6 lape) | C21: =$C$17 -> Pasirinkite iš sąrašo (taip arba ne). Sąsaja nėra privaloma. Iš anksto nurodyta reikšmė "Ne". Pasirinkimas "Taip" reiškia, kad tenkinant poreikį bus siekiama atitinkamo rezultato rodiklio. | D21: Ne | E21: Ne | F21: Taip | G21: Taip | H21: Taip | I21: Ne | J21: Ne | K21: Ne | L21: Ne | M21: Ne | N21: Ne | O21: Ne | P21: Ne | Q21: Ne | R21: Ne | S21: Ne | T21: Ne | U21: Ne | V21: Ne | W21: Ne

Sheet 5
A1: 5. | B1: VVG teritorijai aktualūs BŽŪP tikslai
B3: VVG: | C3: ='1'!C8 -> ALYT
B5: 1 | C5: 2 | D5: 3 | E5: 4 | F5: 5 | G5: 6
C6: BŽŪP tikslas | D6: Ar tikslas įgyvendinamas VVG teritorijoje | E6: VPS tikslą įgyvendinančių priemonių skaičius | F6: Priemonių, kurioms tikslas yra pagrindinis, skaičius | G6: Priemonių, kurios tikslą įgyvendina horizontaliai, skaičius
A7: 5.1 | B7: A | C7: BIVP priemonei taikomi BŽŪP tikslai (privalomi)
A8: 5.1.1 | B8: 8 konkretus tikslas (h punktas) | C8: SO8. Skatinti užimtumą, augimą, lyčių lygybę, įskaitant moterų dalyvavimą ūkininkavimo veikloje, socialinę įtrauktį ir vietos plėtrą kaimo vietovėse, įskaitant žiedinę bioekonomiką ir tvarią miškininkystę | D8: Taip | E8: =COUNTIFS('8'!$E$7:$E$26,"taip") -> 7 | F8: =COUNTIFS('10'!$D$11:$W$11,C8) -> 8
A9: 5.1.2 | B9: Kompleksinis tikslas | C9: XCO. Modernizuoti sektorių skatinant žemės ūkio ir kaimo vietovių žinias, inovacijas ir skaitmeninimą bei dalijimąsi jomis, taip pat skatinant jų diegimą | D9: Ne | E9: =COUNTIFS('8'!$F$7:$F$26,"taip") -> 0 | F9: =COUNTIFS('10'!$D$11:$W$11,C9) -> 0
A10: 5.2 | B10: B | C10: BŽŪP tikslai, kurie VPS gali būti įgyvendinami horizontaliai (pasirenkami)
A11: 5.2.1 | B11: 4 konkretus tikslas (d punktas) | C11: SO4. Prisidėti prie klimato kaitos švelninimo ir prisitaikymo prie jos, be kita ko, mažinant išmetamą šiltnamio efektą sukeliančių dujų kiekį ir didinant anglies dioksido sekvestraciją, taip pat plėtoti tvariąją energetiką | D11: Taip | E11: =COUNTIFS('8'!$G$7:$G$26,"taip") -> 7 | F11: =COUNTIFS('10'!$D$11:$W$11,C11) -> 0 | G11: =COUNTIFS('10'!$D$12:$W$12,"Taip") -> 7
A12: 5.2.2 | B12: 5 konkretus tikslas (e punktas) | C12: SO5. Skatinti tvarų vystymąsi ir veiksmingą gamtos išteklių, pavyzdžiui, vandens, dirvožemio ir oro, valdymą, be kita ko, mažinant priklausomybę nuo cheminių medžiagų | D12: Ne | E12: =COUNTIFS('8'!$H$7:H$26,"taip") -> 0 | F12: =COUNTIFS('10'!$D$11:$W$11,C12) -> 0 | G12: =COUNTIFS('10'!$D$13:$W$13,"Taip") -> 0
A13: 5.2.3 | B13: 6 konkretus tikslas (f punktas) | C13: SO6. Prisidėti prie biologinės įvairovės nykimo sustabdymo ir sustabdymo, gerinti ekosistemų funkcijas ir išsaugoti buveines bei kraštovaizdžius | D13: Ne | E13: =COUNTIFS('8'!$I$7:$I$26,"taip") -> 0 | F13: =COUNTIFS('10'!$D$11:$W$11,C13) -> 0 | G13: =COUNTIFS('10'!$D$14:$W$14,"Taip") -> 0
A14: 5.2.4 | B14: 9 konkretus tikslas (i punktas) | C14: SO9. Gerinti Sąjungos žemės ūkio atsaką į visuomenės poreikius, susijusius su maistu ir sveikata, mažinti maisto atliekų kiekį, gerinti gyvūnų gerovę ir kovoti su atsparumu antimikrobinėms medžiagoms | D14: Taip | E14: =COUNTIFS('8'!$J$7:$J$26,"taip") -> 7 | F14: =COUNTIFS('10'!$D$11:$W$11,C14) -> 0 | G14: =COUNTIFS('10'!$D$15:$W$15,"Taip") -> 7
A15: 5.3 | B15: C | C15: Kiti BŽŪP tikslai (neprivalomi)
A16: 5.3.1 | B16: 1 konkretus tikslas (a punktas) | C16: SO1. Remti perspektyvias ūkių pajamas ir žemės ūkio sektoriaus atsparumą visoje Sąjungoje, siekiant didinti ilgalaikį aprūpinimą maistu ir žemės ūkio įvairovę, taip pat užtikrinti žemės ūkio gamybos ekonominį tvarumą Sąjungoje | D16: Ne | E16: =COUNTIFS('8'!$K$7:$K$26,"taip") -> 0 | F16: =COUNTIFS('10'!$D$11:$W$11,C16) -> 0
A17: 5.3.2 | B17: 2 konkretus tikslas (b punktas) | C17: SO2. Labiau orientuotis į rinką ir didinti ūkių konkurencingumą tiek trumpuoju, tiek ilguoju laikotarpiu, be kita ko, daugiau dėmesio skiriant moksliniams tyrimams, technologijoms ir skaitmenizacijai | D17: Ne | E17: =COUNTIFS('8'!$L$7:$L$26,"taip") -> 0 | F17: =COUNTIFS('10'!$D$11:$W$11,C17) -> 0
A18: 5.3.3 | B18: 3 konkretus tikslas (c punktas) | C18: SO3. Gerinti ūkininko padėtį vertės grandinėje | D18: Ne | E18: =COUNTIFS('8'!$M$7:$M$26,"taip") -> 0 | F18: =COUNTIFS('10'!$D$11:$W$11,C18) -> 0
A19: 5.3.4 | B19: 7 konkretus tikslas (g punktas) | C19: SO7. Pritraukti jaunuosius ūkininkus ir kitus naujus ūkininkus, palaikyti jų veiklą ir palengvinti tvarią verslo plėtrą kaimo vietovėse | D19: Ne | E19: =COUNTIFS('8'!$N$7:$N$26,"taip") -> 0 | F19: =COUNTIFS('10'!$D$11:$W$11,C19) -> 0
B20: * Pilna 9 konkretaus tikslo formuluotė yra tokia: Gerinti Sąjungos žemės ūkio atsaką į visuomenės poreikius, susijusius su maistu ir sveikata, įskaitant aukštos kokybės, saugų ir maistingą maistą, pagamintą tvariu būdu, mažinti maisto atliekų kiekį, gerinti gyvūnų gerovę ir kovoti su atsparumu antimikrobinėms medžiagoms.
C22: Pildymo instrukcija (5 lapas):
B23: 1 | C23: Užpildykite 3 stulpelį. Prie kiekvieno BŽŪP tikslo nurodykite, ar jis bus įgyvendinamas VVG teritorijoje (pasirinkite "Taip", jei bus įgyvendinamas).
B24: 2 | C24: 4 stulpelis užpildomas automatiškai, kai yra užpildytas 8 lapas.
B25: 3 | C25: 5 stulpelis užpildomas automatiškai, kai yra užpildytas 10 lapas (10.5 punktas).
B26: 4 | C26: 6 stulpelis užpildomas automatiškai, kai yra užpildytas 10 lapas (10.6-10.9 punktai).
B27: 5 | C27: VPS turi prisidėti prie 8 konkretaus tikslo įgyvendinimo ir kompleksinio tikslo įgyvendinimo (jei pasirenkama siekti rodiklio R.3). VPS turi būti numatyta priemonių, kurioms šie BŽŪP tikslai yra pagrindiniai (pagrindinis BŽŪP tikslas kiekvienai VPS priemonei nurodomas priemonės aprašymo 10.5 punkte).
B28: 6 | C28: 4-6 ir 9 tikslai gali būti pasirenkami įgyvendinti horizontaliai (t. y. prie 8 tikslo arba kompleksinio tikslo prisidedančiose VPS priemonėse papildomai taikant reikalavimus, kurie užtikrintų vietos projektų indėlį į 4, 5, 6 arba 9 tikslo įgyvendinimą). Tokiu atveju suteikiami papildomi atrankos balai. Šiuos tikslus taip pat galima įgyvendinti vertikaliai, t. y. numatyti atskiras VPS priemones, kurioms šie tikslai yra pagrindiniai. Pavyzdžiui, galima numatyti vieną priemonę 4 tikslo ir vieną priemonę 9 tikslo įgyvendinimui, tačiau papildomi balai VPS atrankos metu suteikiami tik data, kai visos VPS priemonės prisideda prie atitinkamų tikslų. VPS galima derinti abu šių tikslų įgyvendinimo būdus, t. y. daliai VPS priemonių šiuos tikslus numatyti kaip pagrindinius (vertikalius), o daliai - kaip papildomus (horizontalius).
B29: 7 | C29: 1-3 ir 7 tikslai nėra privalomi, tačiau jie gali būti įgyvendinami, jei atliekant VVG teritorijos situacijos analizę nustatomi poreikiai, susiję su šiais tikslais, o VPS priemonėmis siekiama pokyčių, kurie siejasi su atitinkamais BŽŪP tikslais. Tokiu atveju tikslinga numatyti VPS produkto ir (arba) rezultato rodiklius, susijusius su šiais BŽŪP tikslais (VPS produkto ir rezultato rodikliai nurodomi 6 lape, o 10 lape jie susiejami su konkrečiomis VPS priemonėmis). Pasirinkus VPS įgyvendinti 1-3 ar 7 tikslus būtina numatyti bent po vieną VPS priemonę, kuriai atitinkamas tikslas būtų pagrindinis. Taip pat rekomenduojame su atitinkamais BŽŪP tikslais susijusius pokyčių rodiklius naudoti pokyčiams kiekybine išraiška apibrėžti (pokyčiai aprašomi 10 lape (10.12 punktas), o pokyčių rodikliai nurodomi 13 lape).

Sheet 6
A1: 6. | B1: VPS produkto ir rezultato rodikliai (VPS lygiu)
B3: VVG: | C3: ='1'!C8 -> ALYT
B5: 1 | C5: 2 | D5: 3 | E5: 4
B6: Rodiklio kodas | C6: Rodiklio pavadinimas | D6: Kiekybinis tikslas iki 2029 m. | E6: Rodklio tipas (R - rezultato, P - produkto)
A7: 6.1 | B7: A | C7: ES bendrieji rezultato rodikliai:
A8: 6.2 | B8: R.3 | C8: Žemės ūkio sektoriaus skaitmeninimas. Ūkių, pagal BŽŪP gaunančių paramą skaitmeninėms ūkininkavimo technologijoms plėtoti, skaičius | D8: ='11'!C9 -> 0
A9: 6.3 | B9: R.37 | C9: Ekonomikos augimas ir darbo vietų kūrimas kaimo vietovėse. BŽŪP projektais remiamas naujų darbo vietų kūrimas | D9: ='11'!C25 -> 18
A10: 6.4 | B10: R.39 | C10: Kaimo ekonomikos plėtojimas. Kaimo verslo įmonių, įskaitant bioekonomikos įmones, kuriamų naudojantis pagal BŽŪP skiriama parama, skaičius | D10: ='11'!C43 -> 13
A11: 6.5 | B11: R.41 | C11: Europos kaimo tinklų kūrimas. Kaimo gyventojų, kuriems, naudojantis BŽŪP parama, sudarytos palankesnės sąlygos naudotis paslaugomis ir infrastruktūra, skaičius | D11: ='11'!C59 -> 4990
A12: 6.6 | B12: R.42 | C12: Socialinės įtraukties skatinimas. Asmenų, kuriems taikomi remiami socialinės įtraukties projektai, skaičius | D12: ='11'!C75 -> 879
A13: 6.7 | B13: B | C13: ES bendrieji produkto rodikliai:
A14: 6.8 | B14: L700 | C14: Vietos lygiu įgyvendintų projektų skaičius (apima vietos ir bendradarbiavimo projektus) | D14: =SUM('10'!D34:W34) -> 24
A15: 6.9 | B15: L710 | C15: Vietos lygiu įgyvendintų projektų, skirtų vietos lygmens inovacijoms, skaičius | D15: =SUM('10'!D46:W46) -> 7
A16: 6.10 | B16: C | C16: Nacionaliniai bendrieji rezultato rodikliai:
A17: 6.11 | B17: C.1 | C17: Įgyvendinant vietos projektus sukurtų darbo vietų pasiskirstymas pagal lytį: | D17: =SUM(D18:D20) -> 18
A18: 6.12 | B18: N-R.37.1 | C18: Sukurtų darbo vietų skaičius moterims | D18: ='13'!C12 -> 0
A19: 6.13 | B19: N-R.37.2 | C19: Sukurtų darbo vietų skaičius vyrams | D19: ='13'!C13 -> 0
A20: 6.14 | B20: N-R.37.3 | C20: Sukurtų darbo vietų skaičius bet kurios lyties asmenims | D20: ='13'!C14 -> 18
A21: 6.15 | B21: C.2 | C21: Įgyvendinant vietos projektus sukurtų darbo vietų pasiskirstymas pagal amžių: | D21: =SUM(D22:D24) -> 18
A22: 6.16 | B22: N-R.37.4 | C22: Sukurtų darbo vietų skaičius asmenims iki 40 m. (imtinai) | D22: ='13'!C16 -> 3
A23: 6.17 | B23: N-R.37.5 | C23: Sukurtų darbo vietų skaičius asmenims nuo 41 m. | D23: ='13'!C17 -> 0
A24: 6.18 | B24: N-R.37.6 | C24: Sukurtų darbo vietų skaičius bet kurio amžiaus asmenims | D24: ='13'!C18 -> 15
A25: 6.19 | B25: D | C25: Nacionaliniai bendrieji produkto rodikliai:
A26: 6.20 | B26: D.1 | C26: Vietos projektų teritorinis pasiskirstymas (seniūnijos):
A27: 6.21 | B27: N-P.1 | C27: VVG teritorijos seniūnijų, kuriose įgyvendinami vietos projektai, skaičius (PLANUOJAMAS) | D27: 12
A28: 6.22 | B28: N-P.2 | C28: VVG teritorijos seniūnijų skaičius, iš viso | D28: ='1'!C9 -> 12
A29: 6.23 | B29: N-P.3 | C29: VVG teritorijos seniūnijų, kuriose įgyvendinami vietos projektai, dalis, proc. | D29: =(D27/D28)*100 -> 100
A30: 6.24 | B30: D.2 | C30: Vietos projektų teritorinis pasiskirstymas (gyvenamosios vietovės):
A31: 6.25 | B31: N-P.4 | C31: VVG teritorijos kaimo gyvenamųjų vietovių, kurių gyventojams sudarytos palankesnės sąlygos naudotis paslaugomis ir infrastruktūra, skaičius (PLANUOJAMAS) | D31: 10
A32: 6.26 | B32: N-P.5 | C32: VVG teritorijos kaimo gyvenamųjų vietovių skaičius, iš viso | D32: ='1'!C10 -> 448
A33: 6.27 | B33: N-P.6 | C33: VVG teritorijos kaimo gyvenamųjų vietovių, kurių gyventojams sudarytos palankesnės sąlygos naudotis paslaugomis ir infrastruktūra, dalis, proc. | D33: =(D31/D32)*100 -> 2.2321429
A34: 6.28 | B34: E | C34: VPS rodikliai (produkto, rezultato):
A35: 6.29 | B35: =CONCATENATE('1'!$C$8,"-",E35,".","1") -> ALYT-P.1 | D35: ='11'!C91 -> 0 | E35: P
A36: 6.30 | B36: =CONCATENATE('1'!$C$8,"-",E36,".","2") -> ALYT-P.2 | D36: ='11'!C107 -> 0 | E36: P
A37: 6.31 | B37: =CONCATENATE('1'!$C$8,"-",E37,".","3") -> ALYT-P.3 | D37: ='11'!C123 -> 0 | E37: P
A38: 6.32 | B38: =CONCATENATE('1'!$C$8,"-",E38,".","4") -> ALYT-P.4 | D38: ='11'!C139 -> 0 | E38: P
A39: 6.33 | B39: =CONCATENATE('1'!$C$8,"-",E39,".","5") -> ALYT-P.5 | D39: ='11'!C155 -> 0 | E39: P
A40: 6.34 | B40: =CONCATENATE('1'!$C$8,"-",E40,".","6") -> ALYT-P.6 | D40: ='11'!C171 -> 0 | E40: P
A41: 6.35 | B41: =CONCATENATE('1'!$C$8,"-",E41,".","7") -> ALYT-P.7 | D41: ='11'!C187 -> 0 | E41: P
A42: 6.36 | B42: =CONCATENATE('1'!$C$8,"-",E42,".","8") -> ALYT-P.8 | D42: ='11'!C203 -> 0 | E42: P
A43: 6.37 | B43: =CONCATENATE('1'!$C$8,"-",E43,".","9") -> ALYT-P.9 | D43: ='11'!C219 -> 0 | E43: P
A44: 6.38 | B44: =CONCATENATE('1'!$C$8,"-",E44,".","10") -> ALYT-P.10 | D44: ='11'!C235 -> 0 | E44: P
C47: Pildymo instrukcija (6 lapas)
B48: 1 | C48: Šiame lape nurodomi VVG pasirinktų rodiklių pavadinimai (pildomi 2 stulpelio 6.29-6.38 punktai) ir kiekvieno pasirinkto rodiklio tipas (P - produkto, R - rezultato, pildomi atitinkami 4 stulpelio punktai). VPS rodikliai nėra privalomi. VPS rodiklių kodai (1 stulpelis) generuojami automatiškai. VPS rodiklių reikšmės (3 stulpelis) nurodomos automatiškai, kai užpildomas 11 lapas.
B49: 2 | C49: 6.21 punkte VVG nurodo, kiek VVG teritorijos seniūnijų apims vietos projektai. Visas seniūnijų skaičius (6.22 punktas) nurodomas automatiškai, kai užpildomas 1 lapas. Ši informacija siejasi su 10 lape pateikto VPS priemonių aprašymo 10.32 ir 10.33 punktais. Realiai pasiekta rodiklio reikšmė (6.23 punktas) vertinama tik VPS įgyvendinimo pabaigoje, centralizuotai apibendrinus duomenis apie visų vietos projektų įgyvendinimo vietą (seniūniją). Šie duomenys turi būti renkami VVG ir NMA nuo vietos projektų įgyvendinimo pradžios. Jei vietos projektas įgyvendinamas keliose seniūnijose, turi būti surinkti duomenys apie visas vietos projekto įgyvendinimo seniūnijas.
B50: 3 | C50: 6.25 punkte VVG nurodo, kiek VVG teritorijos gyvenamųjų vietovių apims vietos projektai. Visas gyvenamųjų vietovių skaičius (6.26 punktas) nurodomas automatiškai, kai užpildomas 1 lapas. Realiai pasiekta rodiklio reikšmė (6.27 punktas) vertinama tik VPS įgyvendinimo pabaigoje, centralizuotai apibendrinus duomenis apie visų vietos projektų įgyvendinimo vietą (gyvenamąją vietovę). Šie duomenys turi būti renkami VVG ir NMA nuo vietos projektų įgyvendinimo pradžios. Jei vietos projektas įgyvendinamas keliose gyvenamosiose vietovėse, turi būti surinkti duomenys apie visas vietos projekto įgyvendinimo gyvenamąsias vietoves.
B51: 4 | C51: ES bendrųjų rezultato rodiklių reikšmės (A dalis) nurodomos automatiškai užpildžius 11 lapą.
B52: 5 | C52: ES bendrųjų produkto rodiklių reikšmės (B dalis) nurodomos automatiškai užpildžius 10 lapą.
B53: 6 | C53: Nacionalinių bendrųjų rezultato rodiklių reikšmės (C dalis) nurodomos automatiškai užpildžius 13 lapą. Šių rodiklių siekiama VVG pasirinkimu (rodikliai nėra privalomi).
B54: 7 | C54: Nacionalinių bendrųjų produkto rodiklių reikšmės (D dalis) nurodomos apskaičiuojamos užpildžius 1 lapą ir atitinkamus baltus langelius šiame lape.

Sheet 7
A1: 7. | B1: VPS priemonės
B3: VVG: | C3: ='1'!C8 -> ALYT
B5: 1 | C5: 2 | D5: 3 | E5: 4 | F5: 5 | G5: 6 | H5: 7 | I5: 8 | J5: 9 | L5: (slėpti)
B6: VPS priemonės numeris | C6: VPS priemonė | D6: Priemonės rūšis (iš sąrašo) | E6: ='10'!B34 -> Planuojama paremti projektų (rodiklis L700) | F6: ='10'!B33 -> Planuojama paramos suma priemonei, Eur | G6: Išlaidų dalis, nuo vietos projektų įgyvendinimo išlaidų, proc. | H6: Priemonės kodas (bendras) | I6: Priemonės kodas (unikalus) | J6: Išlaidų kategorija | L6: Priemonės numeris (kodui)
A7: 7.1 | B7: 1 priemonė | C7: Sveikatinimo paslaugų kokybės gerinimas ir prieinamumo didinimas | D7: Ne žemės ūkio verslo kūrimas ir plėtra | E7: =HLOOKUP($B7,'10'!$D$6:$W$35,29,FALSE) -> 4 | F7: =HLOOKUP($B7,'10'!$D$6:$W$35,28,FALSE) -> 480000 | G7: =IF(J7="Vietos projektų įgyvendinimo išlaidos",F7/$F$29*100,"-") -> 29.867314 | H7: =VLOOKUP(D7,Sąrašai!$A$8:$B$19,2,FALSE) -> LEADER-20VVG-03 | I7: =CONCATENATE('1'!$C$8,"-",H7,"-",L7) -> ALYT-LEADER-20VVG-03-01 | J7: =VLOOKUP(H7,Sąrašai!$B$8:$C$19,2,FALSE) -> Vietos projektų įgyvendinimo išlaidos | L7: 01
A8: 7.2 | B8: 2 priemonė | C8: Darnaus turizmo verslo kūrimas ir plėtra integruojant vietos kultūros ir gamtos išteklius | D8: Ne žemės ūkio verslo kūrimas ir plėtra | E8: =HLOOKUP($B8,'10'!$D$6:$W$35,29,FALSE) -> 4 | F8: =HLOOKUP($B8,'10'!$D$6:$W$35,28,FALSE) -> 450000 | G8: =IF(J8="Vietos projektų įgyvendinimo išlaidos",F8/$F$29*100,"-") -> 28.000607 | H8: =VLOOKUP(D8,Sąrašai!$A$8:$B$19,2,FALSE) -> LEADER-20VVG-03 | I8: =CONCATENATE('1'!$C$8,"-",H8,"-",L8) -> ALYT-LEADER-20VVG-03-02 | J8: =VLOOKUP(H8,Sąrašai!$B$8:$C$19,2,FALSE) -> Vietos projektų įgyvendinimo išlaidos | L8: 02
A9: 7.3 | B9: 3 priemonė | C9: Teminių kaimų kūrimas ir vietos produktų populiarinimas | D9: Bendruomeninis verslas | E9: =HLOOKUP($B9,'10'!$D$6:$W$35,29,FALSE) -> 5 | F9: =HLOOKUP($B9,'10'!$D$6:$W$35,28,FALSE) -> 325000 | G9: =IF(J9="Vietos projektų įgyvendinimo išlaidos",F9/$F$29*100,"-") -> 20.222661 | H9: =VLOOKUP(D9,Sąrašai!$A$8:$B$19,2,FALSE) -> LEADER-20VVG-07 | I9: =CONCATENATE('1'!$C$8,"-",H9,"-",L9) -> ALYT-LEADER-20VVG-07-03 | J9: =VLOOKUP(H9,Sąrašai!$B$8:$C$19,2,FALSE) -> Vietos projektų įgyvendinimo išlaidos | L9: 03
A10: 7.4 | B10: 4 priemonė | C10: Įtraukios infrastruktūros vystymas taikant sumanius sprendimus | D10: Ūkio subjektų (fizinių ir (arba) juridinių asmenų) bendradarbiavimas | E10: =HLOOKUP($B10,'10'!$D$6:$W$35,29,FALSE) -> 0 | F10: =HLOOKUP($B10,'10'!$D$6:$W$35,28,FALSE) -> 0 | G10: =IF(J10="Vietos projektų įgyvendinimo išlaidos",F10/$F$29*100,"-") -> 0 | H10: =VLOOKUP(D10,Sąrašai!$A$8:$B$19,2,FALSE) -> LEADER-20VVG-04 | I10: =CONCATENATE('1'!$C$8,"-",H10,"-",L10) -> ALYT-LEADER-20VVG-04-04 | J10: =VLOOKUP(H10,Sąrašai!$B$8:$C$19,2,FALSE) -> Vietos projektų įgyvendinimo išlaidos | L10: 04
A11: 7.5 | B11: 5 priemonė | C11: Jaunimo verslumo ir įtraukties skatinimas | D11: Veiklos projektai | E11: =HLOOKUP($B11,'10'!$D$6:$W$35,29,FALSE) -> 7 | F11: =HLOOKUP($B11,'10'!$D$6:$W$35,28,FALSE) -> 150500 | G11: =IF(J11="Vietos projektų įgyvendinimo išlaidos",F11/$F$29*100,"-") -> 9.3646476 | H11: =VLOOKUP(D11,Sąrašai!$A$8:$B$19,2,FALSE) -> LEADER-20VVG-09 | I11: =CONCATENATE('1'!$C$8,"-",H11,"-",L11) -> ALYT-LEADER-20VVG-09-05 | J11: =VLOOKUP(H11,Sąrašai!$B$8:$C$19,2,FALSE) -> Vietos projektų įgyvendinimo išlaidos | L11: 05
A12: 7.6 | B12: 6 priemonė | C12: Teritorinis VVG bendradarbiavimas | D12: Teritorinis VVG bendradarbiavimas | E12: =HLOOKUP($B12,'10'!$D$6:$W$35,29,FALSE) -> 1 | F12: =HLOOKUP($B12,'10'!$D$6:$W$35,28,FALSE) -> 5000 | G12: =IF(J12="Vietos projektų įgyvendinimo išlaidos",F12/$F$29*100,"-") -> - | H12: =VLOOKUP(D12,Sąrašai!$A$8:$B$19,2,FALSE) -> LEADER-20VVG-11 | I12: =CONCATENATE('1'!$C$8,"-",H12,"-",L12) -> ALYT-LEADER-20VVG-11-06 | J12: =VLOOKUP(H12,Sąrašai!$B$8:$C$19,2,FALSE) -> VPS administravimo išlaidos | L12: 06
A13: 7.7 | B13: 7 priemonė | C13: Tarptautinis VVG bendradarbiavimas | D13: Tarptautinis VVG bendradarbiavimas | E13: =HLOOKUP($B13,'10'!$D$6:$W$35,29,FALSE) -> 1 | F13: =HLOOKUP($B13,'10'!$D$6:$W$35,28,FALSE) -> 15000 | G13: =IF(J13="Vietos projektų įgyvendinimo išlaidos",F13/$F$29*100,"-") -> - | H13: =VLOOKUP(D13,Sąrašai!$A$8:$B$19,2,FALSE) -> LEADER-20VVG-12 | I13: =CONCATENATE('1'!$C$8,"-",H13,"-",L13) -> ALYT-LEADER-20VVG-12-07 | J13: =VLOOKUP(H13,Sąrašai!$B$8:$C$19,2,FALSE) -> VPS administravimo išlaidos | L13: 07
A14: 7.8 | B14: 8 priemonė | C14: Įtraukios infrastruktūros vystymas taikant sumanius sprendimus | D14: Viešųjų paslaugų prieinamumo didinimas (ne pelno) | E14: =HLOOKUP($B14,'10'!$D$6:$W$35,29,FALSE) -> 2 | F14: =HLOOKUP($B14,'10'!$D$6:$W$35,28,FALSE) -> 201608 | G14: =IF(J14="Vietos projektų įgyvendinimo išlaidos",F14/$F$29*100,"-") -> 12.54477 | H14: =VLOOKUP(D14,Sąrašai!$A$8:$B$19,2,FALSE) -> LEADER-20VVG-08 | I14: =CONCATENATE('1'!$C$8,"-",H14,"-",L14) -> ALYT-LEADER-20VVG-08-08 | J14: =VLOOKUP(H14,Sąrašai!$B$8:$C$19,2,FALSE) -> Vietos projektų įgyvendinimo išlaidos | L14: 08
A15: 7.9 | B15: 9 priemonė | E15: =HLOOKUP($B15,'10'!$D$6:$W$35,29,FALSE) -> 0 | F15: =HLOOKUP($B15,'10'!$D$6:$W$35,28,FALSE) -> 0 | G15: =IF(J15="Vietos projektų įgyvendinimo išlaidos",F15/$F$29*100,"-") -> #N/A | H15: =VLOOKUP(D15,Sąrašai!$A$8:$B$19,2,FALSE) -> #N/A | I15: =CONCATENATE('1'!$C$8,"-",H15,"-",L15) -> #N/A | J15: =VLOOKUP(H15,Sąrašai!$B$8:$C$19,2,FALSE) -> #N/A | L15: 09
A16: 7.10 | B16: 10 priemonė | E16: =HLOOKUP($B16,'10'!$D$6:$W$35,29,FALSE) -> 0 | F16: =HLOOKUP($B16,'10'!$D$6:$W$35,28,FALSE) -> 0 | G16: =IF(J16="Vietos projektų įgyvendinimo išlaidos",F16/$F$29*100,"-") -> #N/A | H16: =VLOOKUP(D16,Sąrašai!$A$8:$B$19,2,FALSE) -> #N/A | I16: =CONCATENATE('1'!$C$8,"-",H16,"-",L16) -> #N/A | J16: =VLOOKUP(H16,Sąrašai!$B$8:$C$19,2,FALSE) -> #N/A | L16: 10
A17: 7.11 | B17: 11 priemonė | E17: =HLOOKUP($B17,'10'!$D$6:$W$35,29,FALSE) -> 0 | F17: =HLOOKUP($B17,'10'!$D$6:$W$35,28,FALSE) -> 0 | G17: =IF(J17="Vietos projektų įgyvendinimo išlaidos",F17/$F$29*100,"-") -> #N/A | H17: =VLOOKUP(D17,Sąrašai!$A$8:$B$19,2,FALSE) -> #N/A | I17: =CONCATENATE('1'!$C$8,"-",H17,"-",L17) -> #N/A | J17: =VLOOKUP(H17,Sąrašai!$B$8:$C$19,2,FALSE) -> #N/A | L17: 11
A18: 7.12 | B18: 12 priemonė | E18: =HLOOKUP($B18,'10'!$D$6:$W$35,29,FALSE) -> 0 | F18: =HLOOKUP($B18,'10'!$D$6:$W$35,28,FALSE) -> 0 | G18: =IF(J18="Vietos projektų įgyvendinimo išlaidos",F18/$F$29*100,"-") -> #N/A | H18: =VLOOKUP(D18,Sąrašai!$A$8:$B$19,2,FALSE) -> #N/A | I18: =CONCATENATE('1'!$C$8,"-",H18,"-",L18) -> #N/A | J18: =VLOOKUP(H18,Sąrašai!$B$8:$C$19,2,FALSE) -> #N/A | L18: 12
A19: 7.13 | B19: 13 priemonė | E19: =HLOOKUP($B19,'10'!$D$6:$W$35,29,FALSE) -> 0 | F19: =HLOOKUP($B19,'10'!$D$6:$W$35,28,FALSE) -> 0 | G19: =IF(J19="Vietos projektų įgyvendinimo išlaidos",F19/$F$29*100,"-") -> #N/A | H19: =VLOOKUP(D19,Sąrašai!$A$8:$B$19,2,FALSE) -> #N/A | I19: =CONCATENATE('1'!$C$8,"-",H19,"-",L19) -> #N/A | J19: =VLOOKUP(H19,Sąrašai!$B$8:$C$19,2,FALSE) -> #N/A | L19: 13
A20: 7.14 | B20: 14 priemonė | E20: =HLOOKUP($B20,'10'!$D$6:$W$35,29,FALSE) -> 0 | F20: =HLOOKUP($B20,'10'!$D$6:$W$35,28,FALSE) -> 0 | G20: =IF(J20="Vietos projektų įgyvendinimo išlaidos",F20/$F$29*100,"-") -> #N/A | H20: =VLOOKUP(D20,Sąrašai!$A$8:$B$19,2,FALSE) -> #N/A | I20: =CONCATENATE('1'!$C$8,"-",H20,"-",L20) -> #N/A | J20: =VLOOKUP(H20,Sąrašai!$B$8:$C$19,2,FALSE) -> #N/A | L20: 14
A21: 7.15 | B21: 15 priemonė | E21: =HLOOKUP($B21,'10'!$D$6:$W$35,29,FALSE) -> 0 | F21: =HLOOKUP($B21,'10'!$D$6:$W$35,28,FALSE) -> 0 | G21: =IF(J21="Vietos projektų įgyvendinimo išlaidos",F21/$F$29*100,"-") -> #N/A | H21: =VLOOKUP(D21,Sąrašai!$A$8:$B$19,2,FALSE) -> #N/A | I21: =CONCATENATE('1'!$C$8,"-",H21,"-",L21) -> #N/A | J21: =VLOOKUP(H21,Sąrašai!$B$8:$C$19,2,FALSE) -> #N/A | L21: 15
A22: 7.16 | B22: 16 priemonė | E22: =HLOOKUP($B22,'10'!$D$6:$W$35,29,FALSE) -> 0 | F22: =HLOOKUP($B22,'10'!$D$6:$W$35,28,FALSE) -> 0 | G22: =IF(J22="Vietos projektų įgyvendinimo išlaidos",F22/$F$29*100,"-") -> #N/A | H22: =VLOOKUP(D22,Sąrašai!$A$8:$B$19,2,FALSE) -> #N/A | I22: =CONCATENATE('1'!$C$8,"-",H22,"-",L22) -> #N/A | J22: =VLOOKUP(H22,Sąrašai!$B$8:$C$19,2,FALSE) -> #N/A | L22: 16
A23: 7.17 | B23: 17 priemonė | E23: =HLOOKUP($B23,'10'!$D$6:$W$35,29,FALSE) -> 0 | F23: =HLOOKUP($B23,'10'!$D$6:$W$35,28,FALSE) -> 0 | G23: =IF(J23="Vietos projektų įgyvendinimo išlaidos",F23/$F$29*100,"-") -> #N/A | H23: =VLOOKUP(D23,Sąrašai!$A$8:$B$19,2,FALSE) -> #N/A | I23: =CONCATENATE('1'!$C$8,"-",H23,"-",L23) -> #N/A | J23: =VLOOKUP(H23,Sąrašai!$B$8:$C$19,2,FALSE) -> #N/A | L23: 17
A24: 7.18 | B24: 18 priemonė | E24: =HLOOKUP($B24,'10'!$D$6:$W$35,29,FALSE) -> 0 | F24: =HLOOKUP($B24,'10'!$D$6:$W$35,28,FALSE) -> 0 | G24: =IF(J24="Vietos projektų įgyvendinimo išlaidos",F24/$F$29*100,"-") -> #N/A | H24: =VLOOKUP(D24,Sąrašai!$A$8:$B$19,2,FALSE) -> #N/A | I24: =CONCATENATE('1'!$C$8,"-",H24,"-",L24) -> #N/A | J24: =VLOOKUP(H24,Sąrašai!$B$8:$C$19,2,FALSE) -> #N/A | L24: 18
A25: 7.19 | B25: 19 priemonė | E25: =HLOOKUP($B25,'10'!$D$6:$W$35,29,FALSE) -> 0 | F25: =HLOOKUP($B25,'10'!$D$6:$W$35,28,FALSE) -> 0 | G25: =IF(J25="Vietos projektų įgyvendinimo išlaidos",F25/$F$29*100,"-") -> #N/A | H25: =VLOOKUP(D25,Sąrašai!$A$8:$B$19,2,FALSE) -> #N/A | I25: =CONCATENATE('1'!$C$8,"-",H25,"-",L25) -> #N/A | J25: =VLOOKUP(H25,Sąrašai!$B$8:$C$19,2,FALSE) -> #N/A | L25: 19
A26: 7.20 | B26: 20 priemonė | E26: =HLOOKUP($B26,'10'!$D$6:$W$35,29,FALSE) -> 0 | F26: =HLOOKUP($B26,'10'!$D$6:$W$35,28,FALSE) -> 0 | G26: =IF(J26="Vietos projektų įgyvendinimo išlaidos",F26/$F$29*100,"-") -> #N/A | H26: =VLOOKUP(D26,Sąrašai!$A$8:$B$19,2,FALSE) -> #N/A | I26: =CONCATENATE('1'!$C$8,"-",H26,"-",L26) -> #N/A | J26: =VLOOKUP(H26,Sąrašai!$B$8:$C$19,2,FALSE) -> #N/A | L26: 20
A27: 7.21 | C27: Visos VPS priemonės, iš viso | E27: =SUM(E7:E26) -> 24 | F27: =SUM(F7:F26) -> 1627108 | G27: -
A28: 7.22 | C28: VVG bendradarbiavimo projektams skirtos priemonės, iš viso | E28: =E27-E29 -> 2 | F28: =F27-F29 -> 20000
A29: 7.23 | C29: Vietos projektams skirtos priemonės, iš viso | E29: =SUMIFS($E$7:$E$26,$J$7:$J$26,"Vietos projektų įgyvendinimo išlaidos") -> 22 | F29: =SUMIFS($F$7:$F$26,$J$7:$J$26,"Vietos projektų įgyvendinimo išlaidos") -> 1607108 | G29: 100
C32: Pildymo instrukcija (7 lapas)
B33: 1 | C33: Šiame lape nurodomi VPS priemonių pavadinimai (2 stulpelis). Nurodžius priemonės pavadinimą 3 stulpelyje iš sąrašo pasirenkama kiekvienos priemonės rūšis. Visi kiti stulpeliai užsipildo automatiškai. 4, 5 ir 6 stulpeliai užsipildo, kai yra užpildytas 10 lapas.
B34: 2 | C34: Jei VPS įgyvendinimo metu iškyla poreikis įtraukti naujas VPS priemones, pakeitimai atliekami šiame lape (įrašoma nauja priemonė ir atitinkamai užpildomi 8-15 lapai).
B35: 3 | C35: Rekomenduojamas VPS priemonės pavadinimo ilgis - ne daugiau kaip 70 simbolių (t. y., kad tilptų į vieną eilutę atitinkamame stulpelyje). Maksimalus leidžiamas VPS priemonės pavadinimo ilgis - ne daugiau kaip 100 simbolių.
B36: 4 | C36: Rekomenduojamas priemonių skaičius - ne daugiau kaip 5-10 priemonių. Gali būti ir mažiau nei 5 priemonės.

Sheet 8
A1: 8. | B1: VPS priemonių sąsajos su BŽŪP tikslais
B3: VVG: | C3: ='1'!C8 -> ALYT
B5: 1 | C5: 2 | D5: 3 | E5: 4 | F5: 5 | G5: 6 | H5: 7 | I5: 8 | J5: 9 | K5: 10 | L5: 11 | M5: 12 | N5: 13 | O5: 14
B6: VPS priemonės numeris | C6: VPS priemonė | D6: Iš viso įgyvendina BŽŪP tikslų | E6: 8 konkretus tikslas (h) | F6: Kompleksinis tikslas (k) | G6: 4 konkretus tikslas (d) | H6: 5 konkretus tikslas (e) | I6: 6 konkretus tikslas (f) | J6: 9 konkretus tikslas (i) | K6: 1 konkretus tikslas (a) | L6: 2 konkretus tikslas (b) | M6: 3 konkretus tikslas (c) | N6: 7 konkretus tikslas (g) | O6: Klaidų tikrinimas
A7: 8.1 | B7: 1 priemonė | C7: ='7'!C7 -> Sveikatinimo paslaugų kokybės gerinimas ir prieinamumo didinimas | D7: =COUNTIFS($E7:$N7,"taip") -> 3 | E7: Taip | F7: Ne | G7: Taip | H7: Ne | I7: Ne | J7: Taip | K7: Ne | L7: Ne | M7: Ne | N7: Ne | O7: =IF(D7<4,"Gerai","Per daug tikslų") -> Gerai
A8: 8.2 | B8: 2 priemonė | C8: ='7'!C8 -> Darnaus turizmo verslo kūrimas ir plėtra integruojant vietos kultūros ir gamtos išteklius | D8: =COUNTIFS($E8:$N8,"taip") -> 3 | E8: Taip | F8: Ne | G8: Taip | H8: Ne | I8: Ne | J8: Taip | K8: Ne | L8: Ne | M8: Ne | N8: Ne | O8: =IF(D8<4,"Gerai","Per daug tikslų") -> Gerai
A9: 8.3 | B9: 3 priemonė | C9: ='7'!C9 -> Teminių kaimų kūrimas ir vietos produktų populiarinimas | D9: =COUNTIFS($E9:$N9,"taip") -> 3 | E9: Taip | F9: Ne | G9: Taip | H9: Ne | I9: Ne | J9: Taip | K9: Ne | L9: Ne | M9: Ne | N9: Ne | O9: =IF(D9<4,"Gerai","Per daug tikslų") -> Gerai
A10: 8.4 | B10: 4 priemonė | C10: ='7'!C10 -> Įtraukios infrastruktūros vystymas taikant sumanius sprendimus | D10: =COUNTIFS($E10:$N10,"taip") -> 0 | E10: Ne | F10: Ne | G10: Ne | H10: Ne | I10: Ne | J10: Ne | K10: Ne | L10: Ne | M10: Ne | N10: Ne | O10: =IF(D10<4,"Gerai","Per daug tikslų") -> Gerai
A11: 8.5 | B11: 5 priemonė | C11: ='7'!C11 -> Jaunimo verslumo ir įtraukties skatinimas | D11: =COUNTIFS($E11:$N11,"taip") -> 3 | E11: Taip | F11: Ne | G11: Taip | H11: Ne | I11: Ne | J11: Taip | K11: Ne | L11: Ne | M11: Ne | N11: Ne | O11: =IF(D11<4,"Gerai","Per daug tikslų") -> Gerai
A12: 8.6 | B12: 6 priemonė | C12: ='7'!C12 -> Teritorinis VVG bendradarbiavimas | D12: =COUNTIFS($E12:$N12,"taip") -> 3 | E12: Taip | F12: Ne | G12: Taip | H12: Ne | I12: Ne | J12: Taip | K12: Ne | L12: Ne | M12: Ne | N12: Ne | O12: =IF(D12<4,"Gerai","Per daug tikslų") -> Gerai
A13: 8.7 | B13: 7 priemonė | C13: ='7'!C13 -> Tarptautinis VVG bendradarbiavimas | D13: =COUNTIFS($E13:$N13,"taip") -> 3 | E13: Taip | F13: Ne | G13: Taip | H13: Ne | I13: Ne | J13: Taip | K13: Ne | L13: Ne | M13: Ne | N13: Ne | O13: =IF(D13<4,"Gerai","Per daug tikslų") -> Gerai
A14: 8.8 | B14: 8 priemonė | C14: ='7'!C14 -> Įtraukios infrastruktūros vystymas taikant sumanius sprendimus | D14: =COUNTIFS($E14:$N14,"taip") -> 3 | E14: Taip | F14: Ne | G14: Taip | H14: Ne | I14: Ne | J14: Taip | K14: Ne | L14: Ne | M14: Ne | N14: Ne | O14: =IF(D14<4,"Gerai","Per daug tikslų") -> Gerai
A15: 8.9 | B15: 9 priemonė | C15: ='7'!C15 -> 0 | D15: =COUNTIFS($E15:$N15,"taip") -> 0 | E15: Ne | F15: Ne | G15: Ne | H15: Ne | I15: Ne | J15: Ne | K15: Ne | L15: Ne | M15: Ne | N15: Ne | O15: =IF(D15<4,"Gerai","Per daug tikslų") -> Gerai
A16: 8.10 | B16: 10 priemonė | C16: ='7'!C16 -> 0 | D16: =COUNTIFS($E16:$N16,"taip") -> 0 | E16: Ne | F16: Ne | G16: Ne | H16: Ne | I16: Ne | J16: Ne | K16: Ne | L16: Ne | M16: Ne | N16: Ne | O16: =IF(D16<4,"Gerai","Per daug tikslų") -> Gerai
A17: 8.11 | B17: 11 priemonė | C17: ='7'!C17 -> 0 | D17: =COUNTIFS($E17:$N17,"taip") -> 0 | E17: Ne | F17: Ne | G17: Ne | H17: Ne | I17: Ne | J17: Ne | K17: Ne | L17: Ne | M17: Ne | N17: Ne | O17: =IF(D17<4,"Gerai","Per daug tikslų") -> Gerai
A18: 8.12 | B18: 12 priemonė | C18: ='7'!C18 -> 0 | D18: =COUNTIFS($E18:$N18,"taip") -> 0 | E18: Ne | F18: Ne | G18: Ne | H18: Ne | I18: Ne | J18: Ne | K18: Ne | L18: Ne | M18: Ne | N18: Ne | O18: =IF(D18<4,"Gerai","Per daug tikslų") -> Gerai
... A26: 8.20 | B26: 20 priemonė | C26: ='7'!C26 -> 0 | D26: =COUNTIFS($E26:$N26,"taip") -> 0 | E26: Ne | F26: Ne | G26: Ne | H26: Ne | I26: Ne | J26: Ne | K26: Ne | L26: Ne | M26: Ne | N26: Ne | O26: =IF(D26<4,"Gerai","Per daug tikslų") -> Gerai
C29: Pildymo instrukcija (8 lapas)
B30: 1 | C30: 4-13 stulpeliuose pasirinkite "Taip", jei atitinkama VPS priemonė prisideda prie BŽŪP tikslo įgyvendinimo. Viena priemonė gali prisidėti prie 1-3 BŽŪP tikslų įgyvendinimo. Jei priemonė prisideda prie 3 BŽŪP tikslų įgyvendinimo, vienas tikslas bus pagrindinis priemonės tikslas (pavyzdžiui, 8 tikslas), vieną tikslą priemonė įgyvendins prisidėdama prie to tikslo rodiklių pasiekimo (pavyzdžiui, įgyvendinant kompleksinį tikslą prisidedama prie R.3 rodiklio), o vieną tikslą (pavyzdžiui, 4 tikslą) įgyvendins horizontaliai (per papildomus vietos projektams taikomus reikalavimus, susijusius su prisitaikymu ir klimato kaitos arba neigiamo poveikio klimatui mažinimu).
B31: 2 | C31: Visuose langeliuose iš anksto nurodyta reikšmė "Ne".
B32: 3 | C32: Įsitikinkite, kad klaidų tikrinimo stulpelyje nėra klaidų, t. y. 3 stulpelio reikšmė ne daugiau kaip 3.

Sheet 9
A1: 9. | B1: VPS priemonių sąsajos su VVG teritorijos poreikiais
B3: VVG: | C3: ='1'!C8 -> ALYT
B5: 1 | C5: 2 | D5: 3 | E5: 4 | F5: 5 | G5: 6 | H5: 7 | I5: 8 | J5: 9 | K5: 10 | L5: 11 | M5: 12 | N5: 13 | O5: 14 | P5: 15 | Q5: 16 | R5: 17 | S5: 18 | T5: 19 | U5: 20 | V5: 21 | W5: 22 | X5: 23 | Y5: 24
B6: VPS priemonės numeris | C6: VPS priemonė | D6: Iš viso tenkina poreikių | E6: 1 poreikis | F6: 2 poreikis | G6: 3 poreikis | H6: 4 poreikis | I6: 5 poreikis | J6: 6 poreikis | K6: 7 poreikis | L6: 8 poreikis | M6: 9 poreikis | N6: 10 poreikis | O6: 11 poreikis | P6: 12 poreikis | Q6: 13 poreikis | R6: 14 poreikis | S6: 15 poreikis | T6: 16 poreikis | U6: 17 poreikis | V6: 18 poreikis | W6: 19 poreikis | X6: 20 poreikis
E7: ='3'!C7 -> Įvairinti ir pagerinti sveikatinimo paslaugas, plėtoti verslo paslaugas sanatorijoms, stambesniems sveikatinimo ir turizmo paslaugų teikėjams | F7: ='3'!C8 -> Atrasti turizmo ir sveikatos paslaugoms patrauklius objektus, integruojant gamtos ir kultūros išteklius sukurti vertingus produktus turizmo rinkai | G7: ='3'!C9 -> Teminių kaimų ir labiau vietos gyventojų bei turistų poreikius atliepiančių paslaugų kūrimas, turizmo maršrutų, vietos produktų populiarinimas | H7: ='3'!C10 -> Diegiant žaliuosius sprendimus išsaugoti gamtos išteklius ir kultūros paveldą, pagerinti turizmo infrastruktūrą, ugdyti kaimo bendruomenės sumanumą | I7: ='3'!C11 -> Jaunimo įtraukimas į kaimo bendruomenės veiklas, verslumo ugdymas ir veiklų skatinančių tvarumą ir sveiką gyvenseną organizavimas | J7: ='3'!C12 -> 0 | K7: ='3'!C13 -> 0 | L7: ='3'!C14 -> 0 | M7: ='3'!C15 -> 0 | N7: ='3'!C16 -> 0 | O7: ='3'!C17 -> 0 | P7: ='3'!C18 -> 0 | Q7: ='3'!C19 -> 0 | R7: ='3'!C20 -> 0 | S7: ='3'!C21 -> 0 | T7: ='3'!C22 -> 0 | U7: ='3'!C23 -> 0 | V7: ='3'!C24 -> 0 | W7: ='3'!C25 -> 0 | X7: ='3'!C26 -> 0 | Y7: Klaidų tikrinimas
A8: 9.1 | B8: 1 priemonė | C8: ='7'!C7 -> Sveikatinimo paslaugų kokybės gerinimas ir prieinamumo didinimas | D8: =COUNTIFS($E8:$X8,"taip") -> 2 | E8: Taip | F8: Taip | G8: Ne | H8: Ne | I8: Ne | J8: Ne | K8: Ne | L8: Ne | M8: Ne | N8: Ne | O8: Ne | P8: Ne | Q8: Ne | R8: Ne | S8: Ne | T8: Ne | U8: Ne | V8: Ne | W8: Ne | X8: Ne | Y8: =IF(D8<4,"Gerai","Per daug poreikių") -> Gerai
A9: 9.2 | B9: 2 priemonė | C9: ='7'!C8 -> Darnaus turizmo verslo kūrimas ir plėtra integruojant vietos kultūros ir gamtos išteklius | D9: =COUNTIFS($E9:$X9,"taip") -> 2 | E9: Taip | F9: Taip | G9: Ne | H9: Ne | I9: Ne | J9: Ne | K9: Ne | L9: Ne | M9: Ne | N9: Ne | O9: Ne | P9: Ne | Q9: Ne | R9: Ne | S9: Ne | T9: Ne | U9: Ne | V9: Ne | W9: Ne | X9: Ne | Y9: =IF(D9<4,"Gerai","Per daug poreikių") -> Gerai
A10: 9.3 | B10: 3 priemonė | C10: ='7'!C9 -> Teminių kaimų kūrimas ir vietos produktų populiarinimas | D10: =COUNTIFS($E10:$X10,"taip") -> 2 | E10: Ne | F10: Taip | G10: Taip | H10: Ne | I10: Ne | J10: Ne | K10: Ne | L10: Ne | M10: Ne | N10: Ne | O10: Ne | P10: Ne | Q10: Ne | R10: Ne | S10: Ne | T10: Ne | U10: Ne | V10: Ne | W10: Ne | X10: Ne | Y10: =IF(D10<4,"Gerai","Per daug poreikių") -> Gerai
A11: 9.4 | B11: 4 priemonė | C11: ='7'!C10 -> Įtraukios infrastruktūros vystymas taikant sumanius sprendimus | D11: =COUNTIFS($E11:$X11,"taip") -> 0 | E11: Ne | F11: Ne | G11: Ne | H11: Ne | I11: Ne | J11: Ne | K11: Ne | L11: Ne | M11: Ne | N11: Ne | O11: Ne | P11: Ne | Q11: Ne | R11: Ne | S11: Ne | T11: Ne | U11: Ne | V11: Ne | W11: Ne | X11: Ne | Y11: =IF(D11<4,"Gerai","Per daug poreikių") -> Gerai
A12: 9.5 | B12: 5 priemonė | C12: ='7'!C11 -> Jaunimo verslumo ir įtraukties skatinimas | D12: =COUNTIFS($E12:$X12,"taip") -> 2 | E12: Ne | F12: Ne | G12: Taip | H12: Ne | I12: Taip | J12: Ne | K12: Ne | L12: Ne | M12: Ne | N12: Ne | O12: Ne | P12: Ne | Q12: Ne | R12: Ne | S12: Ne | T12: Ne | U12: Ne | V12: Ne | W12: Ne | X12: Ne | Y12: =IF(D12<4,"Gerai","Per daug poreikių") -> Gerai
A13: 9.6 | B13: 6 priemonė | C13: ='7'!C12 -> Teritorinis VVG bendradarbiavimas | D13: =COUNTIFS($E13:$X13,"taip") -> 5 | E13: Taip | F13: Taip | G13: Taip | H13: Taip | I13: Taip | J13: Ne | K13: Ne | L13: Ne | M13: Ne | N13: Ne | O13: Ne | P13: Ne | Q13: Ne | R13: Ne | S13: Ne | T13: Ne | U13: Ne | V13: Ne | W13: Ne | X13: Ne | Y13: =IF(D13<4,"Gerai","Per daug poreikių") -> Per daug poreikių
A14: 9.7 | B14: 7 priemonė | C14: ='7'!C13 -> Tarptautinis VVG bendradarbiavimas | D14: =COUNTIFS($E14:$X14,"taip") -> 5 | E14: Taip | F14: Taip | G14: Taip | H14: Taip | I14: Taip | J14: Ne | K14: Ne | L14: Ne | M14: Ne | N14: Ne | O14: Ne | P14: Ne | Q14: Ne | R14: Ne | S14: Ne | T14: Ne | U14: Ne | V14: Ne | W14: Ne | X14: Ne | Y14: =IF(D14<4,"Gerai","Per daug poreikių") -> Per daug poreikių
A15: 9.8 | B15: 8 priemonė | C15: ='7'!C14 -> Įtraukios infrastruktūros vystymas taikant sumanius sprendimus | D15: =COUNTIFS($E15:$X15,"taip") -> 3 | E15: Taip | F15: Taip | G15: Ne | H15: Taip | I15: Ne | J15: Ne | K15: Ne | L15: Ne | M15: Ne | N15: Ne | O15: Ne | P15: Ne | Q15: Ne | R15: Ne | S15: Ne | T15: Ne | U15: Ne | V15: Ne | W15: Ne | X15: Ne | Y15: =IF(D15<4,"Gerai","Per daug poreikių") -> Gerai
A16: 9.9 | B16: 9 priemonė | C16: ='7'!C15 -> 0 | D16: =COUNTIFS($E16:$X16,"taip") -> 0 | E16: Ne | F16: Ne | G16: Ne | H16: Ne | I16: Ne | J16: Ne | K16: Ne | L16: Ne | M16: Ne | N16: Ne | O16: Ne | P16: Ne | Q16: Ne | R16: Ne | S16: Ne | T16: Ne | U16: Ne | V16: Ne | W16: Ne | X16: Ne | Y16: =IF(D16<4,"Gerai","Per daug poreikių") -> Gerai
A17: 9.10 | B17: 10 priemonė | C17: ='7'!C16 -> 0 | D17: =COUNTIFS($E17:$X17,"taip") -> 0 | E17: Ne | F17: Ne | G17: Ne | H17: Ne | I17: Ne | J17: Ne | K17: Ne | L17: Ne | M17: Ne | N17: Ne | O17: Ne | P17: Ne | Q17: Ne | R17: Ne | S17: Ne | T17: Ne | U17: Ne | V17: Ne | W17: Ne | X17: Ne | Y17: =IF(D17<4,"Gerai","Per daug poreikių") -> Gerai
A18: 9.11 | B18: 11 priemonė | C18: ='7'!C17 -> 0 | D18: =COUNTIFS($E18:$X18,"taip") -> 0 | E18: Ne | F18: Ne | G18: Ne | H18: Ne | I18: Ne | J18: Ne | K18: Ne | L18: Ne | M18: Ne | N18: Ne | O18: Ne | P18: Ne | Q18: Ne | R18: Ne | S18: Ne | T18: Ne | U18: Ne | V18: Ne | W18: Ne | X18: Ne | Y18: =IF(D18<4,"Gerai","Per daug poreikių") -> Gerai
A19: 9.12 | B19: 12 priemonė | C19: ='7'!C18 -> 0 | D19: =COUNTIFS($E19:$X19,"taip") -> 0 | E19: Ne | F19: Ne | G19: Ne | H19: Ne | I19: Ne | J19: Ne | K19: Ne | L19: Ne | M19: Ne | N19: Ne | O19: Ne | P19: Ne | Q19: Ne | R19: Ne | S19: Ne | T19: Ne | U19: Ne | V19: Ne | W19: Ne | X19: Ne | Y19: =IF(D19<4,"Gerai","Per daug poreikių") -> Gerai
... A27: 9.20 | B27: 20 priemonė | C27: ='7'!C26 -> 0 | D27: =COUNTIFS($E27:$X27,"taip") -> 0 | E27: Ne | F27: Ne | G27: Ne | H27: Ne | I27: Ne | J27: Ne | K27: Ne | L27: Ne | M27: Ne | N27: Ne | O27: Ne | P27: Ne | Q27: Ne | R27: Ne | S27: Ne | T27: Ne | U27: Ne | V27: Ne | W27: Ne | X27: Ne | Y27: =IF(D27<4,"Gerai","Per daug poreikių") -> Gerai
C30: Pildymo instrukcija (9 lapas)
B31: 1 | C31: 4-23 stulpeliuose pasirinkite "Taip", jei atitinkama VPS priemonė prisideda prie VVG teritorijos poreikio patenkinimo. Viena priemonė gali prisidėti prie 1-3 poreikių tenkinimo. Aprašant pokyčius, kurių siekiama atitinkama VPS priemone (10 lapo 10.12 punkte ir 13 lape), turi būti naudojami su atitinkamu poreikiu susiję pokyčių rodikliai. Su poreikiu susiję rodikliai nurodomi 4 lapo 4.4 punkte, tie patys rodikliai gali būti naudojami 13 lape kaip kiekybiniai pokyčių rodikliai.
B32: 2 | C32: Visuose langeliuose iš anksto nurodyta reikšmė "Ne".
B33: 3 | C33: Įsitikinkite, kad klaidų tikrinimo stulpelyje (24 stulpelis) nėra klaidų, t. y. 3 stulpelio reikšmė ne daugiau kaip 3.

Sheet 10
A1: 10. | B1: VPS priemonių aprašymas
B3: VVG: | D3: ='1'!C8 -> ALYT
B5: 1 | C5: Pildymo instrukcija (10 lapas) | D5: 2 | E5: 3 | F5: 4 | G5: 5 | H5: 6 | I5: 7 | J5: 8 | K5: 9 | L5: 10 | M5: 11 | N5: 12 | O5: 13 | P5: 14 | Q5: 15 | R5: 16 | S5: 17 | T5: 18 | U5: 19 | V5: 20 | W5: 21
C6: VVG pildo stulpelius nuo 2 iki 21 (tiek stulpelių, kiek planuoja priemonių). Priemonės aprašymą sudaro 6 dalys (žymimos raidėmis nuo A iki F) ir 75 eilutės, iš kurių 13 - nepildomos, 5 - užsipildo automatiškai, 35 eilučių reikšmės pasirenkamos iš sąrašo (iš jų 32 eilutėse sąrašas yra taip/ne tipo), 3 eilutėse nurodomi tik skaičiai (paramos suma priemonei ir planuojamų paremti projektų skaičius), o 19 eilučių įvedamas laisvas tekstas (iš jų 11 eilučių privaloma užpildyti, o 8 pildomos pasirinktinai). | D6: 1 priemonė | E6: 2 priemonė | F6: 3 priemonė | G6: 4 priemonė | H6: 5 priemonė | I6: 6 priemonė | J6: 7 priemonė | K6: 8 priemonė | L6: 9 priemonė | M6: 10 priemonė | N6: 11 priemonė | O6: 12 priemonė | P6: 13 priemonė | Q6: 14 priemonė | R6: 15 priemonė | S6: 16 priemonė | T6: 17 priemonė | U6: 18 priemonė | V6: 19 priemonė | W6: 20 priemonė
A7: 10.1 | B7: Priemonės pavadinimas | C7: Užsipildo automatiškai, kai yra užpildytas 7 lapas. | D7: =VLOOKUP(D6,'7'!$B$7:$C$26,2,FALSE) -> Sveikatinimo paslaugų kokybės gerinimas ir prieinamumo didinimas | E7: =VLOOKUP(E6,'7'!$B$7:$C$26,2,FALSE) -> Darnaus turizmo verslo kūrimas ir plėtra integruojant vietos kultūros ir gamtos išteklius | F7: =VLOOKUP(F6,'7'!$B$7:$C$26,2,FALSE) -> Teminių kaimų kūrimas ir vietos produktų populiarinimas | G7: =VLOOKUP(G6,'7'!$B$7:$C$26,2,FALSE) -> Įtraukios infrastruktūros vystymas taikant sumanius sprendimus | H7: =VLOOKUP(H6,'7'!$B$7:$C$26,2,FALSE) -> Jaunimo verslumo ir įtraukties skatinimas | I7: =VLOOKUP(I6,'7'!$B$7:$C$26,2,FALSE) -> Teritorinis VVG bendradarbiavimas | J7: =VLOOKUP(J6,'7'!$B$7:$C$26,2,FALSE) -> Tarptautinis VVG bendradarbiavimas | K7: =VLOOKUP(K6,'7'!$B$7:$C$26,2,FALSE) -> Įtraukios infrastruktūros vystymas taikant sumanius sprendimus | ... W7: =VLOOKUP(W6,'7'!$B$7:$C$26,2,FALSE) -> 0
A8: 10.2 | B8: Priemonės rūšis | C8: Užsipildo automatiškai, kai yra užpildytas 7 lapas. | D8: =VLOOKUP(D$6,'7'!$B$7:$D$26,3,FALSE) -> Ne žemės ūkio verslo kūrimas ir plėtra | E8: =VLOOKUP(E$6,'7'!$B$7:$D$26,3,FALSE) -> Ne žemės ūkio verslo kūrimas ir plėtra | F8: =VLOOKUP(F$6,'7'!$B$7:$D$26,3,FALSE) -> Bendruomeninis verslas | G8: =VLOOKUP(G$6,'7'!$B$7:$D$26,3,FALSE) -> Ūkio subjektų (fizinių ir (arba) juridinių asmenų) bendradarbiavimas | H8: =VLOOKUP(H$6,'7'!$B$7:$D$26,3,FALSE) -> Veiklos projektai | I8: =VLOOKUP(I$6,'7'!$B$7:$D$26,3,FALSE) -> Teritorinis VVG bendradarbiavimas | J8: =VLOOKUP(J$6,'7'!$B$7:$D$26,3,FALSE) -> Tarptautinis VVG bendradarbiavimas | K8: =VLOOKUP(K$6,'7'!$B$7:$D$26,3,FALSE) -> Viešųjų paslaugų prieinamumo didinimas (ne pelno) | ... W8: =VLOOKUP(W$6,'7'!$B$7:$D$26,3,FALSE) -> 0
A9: 10.3 | B9: VVG teritorijos poreikių, kuriuos tenkina priemonė, skaičius | C9: Užsipildo automatiškai, kai yra užpildytas 9 lapas. | D9: =VLOOKUP(D$6,'9'!$B$8:$D$27,3,FALSE) -> 2 | E9: =VLOOKUP(E$6,'9'!$B$8:$D$27,3,FALSE) -> 2 | F9: =VLOOKUP(F$6,'9'!$B$8:$D$27,3,FALSE) -> 2 | G9: =VLOOKUP(G$6,'9'!$B$8:$D$27,3,FALSE) -> 0 | H9: =VLOOKUP(H$6,'9'!$B$8:$D$27,3,FALSE) -> 2 | I9: =VLOOKUP(I$6,'9'!$B$8:$D$27,3,FALSE) -> 5 | J9: =VLOOKUP(J$6,'9'!$B$8:$D$27,3,FALSE) -> 5 | K9: =VLOOKUP(K$6,'9'!$B$8:$D$27,3,FALSE) -> 3 | ... W9: =VLOOKUP(W$6,'9'!$B$8:$D$27,3,FALSE) -> 0
A10: 10.4 | B10: BŽŪP tikslų, kuriuos įgyvendina priemonė, skaičius | C10: Užsipildo automatiškai, kai yra užpildytas 8 lapas. | D10: =VLOOKUP(D$6,'8'!$B$7:$D$26,3,FALSE) -> 3 | E10: =VLOOKUP(E$6,'8'!$B$7:$D$26,3,FALSE) -> 3 | F10: =VLOOKUP(F$6,'8'!$B$7:$D$26,3,FALSE) -> 3 | G10: =VLOOKUP(G$6,'8'!$B$7:$D$26,3,FALSE) -> 0 | H10: =VLOOKUP(H$6,'8'!$B$7:$D$26,3,FALSE) -> 3 | I10: =VLOOKUP(I$6,'8'!$B$7:$D$26,3,FALSE) -> 3 | J10: =VLOOKUP(J$6,'8'!$B$7:$D$26,3,FALSE) -> 3 | K10: =VLOOKUP(K$6,'8'!$B$7:$D$26,3,FALSE) -> 3 | ... W10: =VLOOKUP(W$6,'8'!$B$7:$D$26,3,FALSE) -> 0
A11: 10.5 | B11: Pagrindinis BŽŪP tikslas, kurį įgyvendina VPS priemonė | C11: Pasirinkite iš sąrašo. Jei priemonė įgyvendina kelis BŽŪP tikslus (jie nurodomi 8 lape), šioje eilutėje reikia pasirinkti vieną (pagrindinį). Priemonės sąsaja su kitais pasirinktais BŽŪP tikslais atskleidžiama pildant priemonės aprašymo 10.6-10.9 punktus (juose nurodoma, prie kurių BŽŪP tikslų priemonė prisidės horizontaliai) ir E ir F dalis (juose nurodomi visi rodikliai, prie kurių prisidės VPS priemonė). VPS rodikliai gali būti susiję su BŽŪP 1-3 ir 7 tikslais. | D11: SO8. Skatinti užimtumą, augimą, lyčių lygybę, įskaitant moterų dalyvavimą ūkininkavimo veikloje, socialinę įtrauktį ir vietos plėtrą kaimo vietovėse, įskaitant žiedinę bioekonomiką ir tvarią miškininkystę | E11: SO8. Skatinti užimtumą, augimą, lyčių lygybę, įskaitant moterų dalyvavimą ūkininkavimo veikloje, socialinę įtrauktį ir vietos plėtrą kaimo vietovėse, įskaitant žiedinę bioekonomiką ir tvarią miškininkystę | F11: SO8. Skatinti užimtumą, augimą, lyčių lygybę, įskaitant moterų dalyvavimą ūkininkavimo veikloje, socialinę įtrauktį ir vietos plėtrą kaimo vietovėse, įskaitant žiedinę bioekonomiką ir tvarią miškininkystę | G11: SO8. Skatinti užimtumą, augimą, lyčių lygybę, įskaitant moterų dalyvavimą ūkininkavimo veikloje, socialinę įtrauktį ir vietos plėtrą kaimo vietovėse, įskaitant žiedinę bioekonomiką ir tvarią miškininkystę | H11: SO8. Skatinti užimtumą, augimą, lyčių lygybę, įskaitant moterų dalyvavimą ūkininkavimo veikloje, socialinę įtrauktį ir vietos plėtrą kaimo vietovėse, įskaitant žiedinę bioekonomiką ir tvarią miškininkystę | I11: SO8. Skatinti užimtumą, augimą, lyčių lygybę, įskaitant moterų dalyvavimą ūkininkavimo veikloje, socialinę įtrauktį ir vietos plėtrą kaimo vietovėse, įskaitant žiedinę bioekonomiką ir tvarią miškininkystę | J11: SO8. Skatinti užimtumą, augimą, lyčių lygybę, įskaitant moterų dalyvavimą ūkininkavimo veikloje, socialinę įtrauktį ir vietos plėtrą kaimo vietovėse, įskaitant žiedinę bioekonomiką ir tvarią miškininkystę | K11: SO8. Skatinti užimtumą, augimą, lyčių lygybę, įskaitant moterų dalyvavimą ūkininkavimo veikloje, socialinę įtrauktį ir vietos plėtrą kaimo vietovėse, įskaitant žiedinę bioekonomiką ir tvarią miškininkystę | L11: Pasirinkite | M11: Pasirinkite | N11: Pasirinkite | O11: Pasirinkite | P11: Pasirinkite | Q11: Pasirinkite | R11: Pasirinkite | S11: Pasirinkite | T11: Pasirinkite | U11: Pasirinkite | V11: Pasirinkite | W11: Pasirinkite
A12: 10.6 | B12: Ar priemonė prisideda prie 4 konkretaus BŽŪP tikslo? (tikslas nurodytas 5 lape) | C12: Pasirinkite taip arba ne. Jei šis tikslas yra pagrindinis priemonės tikslas, kurį nurodėte 10.5 punkte, šioje eilutėje galima rinktis "Ne". | D12: Taip | E12: Taip | F12: Taip | G12: Ne | H12: Taip | I12: Taip | J12: Taip | K12: Taip | L12: Ne | M12: Ne | N12: Ne | O12: Ne | P12: Ne | Q12: Ne | R12: Ne | S12: Ne | T12: Ne | U12: Ne | V12: Ne | W12: Ne
A13: 10.7 | B13: Ar priemonė prisideda prie 5 konkretaus BŽŪP tikslo? (tikslas nurodytas 5 lape) | C13: Pasirinkite taip arba ne. Jei šis tikslas yra pagrindinis priemonės tikslas, kurį nurodėte 10.5 punkte, šioje eilutėje galima rinktis "Ne". | D13: Ne | E13: Ne | F13: Ne | G13: Ne | H13: Ne | I13: Ne | J13: Ne | K13: Ne | L13: Ne | M13: Ne | N13: Ne | O13: Ne | P13: Ne | Q13: Ne | R13: Ne | S13: Ne | T13: Ne | U13: Ne | V13: Ne | W13: Ne
A14: 10.8 | B14: Ar priemonė prisideda prie 6 konkretaus BŽŪP tikslo? (tikslas nurodytas 5 lape) | C14: Pasirinkite taip arba ne. Jei šis tikslas yra pagrindinis priemonės tikslas, kurį nurodėte 10.5 punkte, šioje eilutėje galima rinktis "Ne". | D14: Ne | E14: Ne | F14: Ne | G14: Ne | H14: Ne | I14: Ne | J14: Ne | K14: Ne | L14: Ne | M14: Ne | N14: Ne | O14: Ne | P14: Ne | Q14: Ne | R14: Ne | S14: Ne | T14: Ne | U14: Ne | V14: Ne | W14: Ne
A15: 10.9 | B15: Ar priemonė prisideda prie 9 konkretaus BŽŪP tikslo? (tikslas nurodytas 5 lape) | C15: Pasirinkite taip arba ne. Jei šis tikslas yra pagrindinis priemonės tikslas, kurį nurodėte 10.5 punkte, šioje eilutėje galima rinktis "Ne". | D15: Taip | E15: Taip | F15: Taip | G15: Ne | H15: Taip | I15: Taip | J15: Taip | K15: Taip | L15: Ne | M15: Ne | N15: Ne | O15: Ne | P15: Ne | Q15: Ne | R15: Ne | S15: Ne | T15: Ne | U15: Ne | V15: Ne | W15: Ne
A16: 10.10 | B16: A dalis. Priemonės intervencijos logika: | C16: EILUTĖ NEPILDOMA.
A17: 10.11 | B17: Priemonės tikslas, ryšys su pagrindiniu BŽŪP tikslu ir VVG teritorijos poreikiais (problemomis ir (arba) potencialu), ryšys su VPS tema (jei taikoma) | C17: Laisvas tekstas (ne daugiau kaip 1000 simbolių). Nurodykite priemonės tikslą ir kaip priemonė siejasi su 10.5 punkte nurodytu pagrindiniu BŽŪP tikslu. Jei priemonė įgyvendina 8 konkretų tikslą, paaiškinkite, su kokiais šio tikslo siekiais (ekonominis augimas, darbo vietų kūrimas, vietos plėtra, socialinė įtrauktis, lyčių lygybė, bioekonomika, tvari miškininkystė) ir rezultato rodikliais siejasi priemonė. Aprašykite problemą, iliustruojant kiekybiniais duomenimis ir rodikliais. Pagrįskite intervencijos logiką (kokios problemos priežastys, ar priemonė padės pašalinti problemos priežastis ir pan.). Jei VPS teminė, nurodykite, kaip priemonė siejasi su pasirinkta VPS tema. | D17: Tikslas – integruojant gamtos ir kultūros išteklius pagerinti sveikatinimo paslaugų kokybę, padidinti jų prieinamumą vietos gyventojams ir turistams. Vietovė turi gausius išteklius, retai apgyvendinta, todėl gali būti ekonomiškiau organizuoti kompleksines gyventojams ir turistams skirtas paslaugas, jų teikimo kaštai gali būti mažesni, paslaugų paklausa gali būti didesnė. Atliepiami poreikiai įvairinti ir pagerinti sveikatinimo, plėtoti verslo paslaugas sanatorijoms, stambesniems sveikatinimo ir turizmo paslaugų teikėjams; atrasti turizmo ir sveikatos paslaugoms patrauklius objektus, integruojant gamtos ir kultūros išteklius sukurti vertingus produktus turizmo rinkai. Įgyvendinama plėtojant 1, 2, 4, 5, 6 stiprybes ir atsiveriančias 1, 3, 7 galimybes. Tikimasi, kad bus išvengta 2, 4, 6 grėsmių, sumažintos ir (arba) visiškai panaikintos 3, 4, 5 silpnybės. Priemonė prisidės prie SO8 siekių – paskatins ekonominį augimą, darbo vietų kūrimą, vietos plėtrą, sustiprins bendradarbiavimą | E17: Tikslas - skatinti darnaus turizmo verslo kūrimą ir plėtrą integruojant vietos kultūros ir gamtos išteklius. Atitinka VPS temą, nes vietovė turi gamtinių ir kultūros išteklių, turizmo objektų, kuriuos reikia pritaikyti turistų saugiam lankymui, padidinti sveikatinimo paslaugų prieinamumą vietos bendruomenei. Atliepiami poreikiai atrasti turizmo ir sveikatos paslaugoms patrauklius objektus, integruojant gamtos ir kultūros išteklius sukurti vertingus produktus turizmo rinkai; įvairinti ir pagerinti sveikatinimo paslaugas, plėtoti verslo paslaugas sanatorijoms, stambesniems sveikatinimo ir turizmo paslaugų teikėjams. Gali būti įgyvendinama panaudojant teritorijos 1, 4, 6 stiprybes ir atsiveriančias 1, 2, 3, 4, 6 galimybes, bus išvengta 5 grėsmės ir bent iš dalies sumažintos ir (arba) visiškai panaikintos 2, 4, 5 silpnybės. Priemonė prisidės prie SO8 siekių – paskatins ekonominį augimą, darbo vietų kūrimą, vietos plėtrą, sustiprins bendradarbiavimą | F17: Tikslas - skatinti darnaus turizmo verslo kūrimą ir plėtrą integruojant vietos kultūros ir gamtos išteklius. Atitinka VPS temą, nes vietovė turi gamtinių ir kultūros išteklių, turizmo objektų, kuriuos reikia pritaikyti turistų saugiam lankymui, padidinti sveikatinimo paslaugų prieinamumą vietos bendruomenei. Atliepiami poreikiai atrasti turizmo ir sveikatos paslaugoms patrauklius objektus, integruojant gamtos ir kultūros išteklius sukurti vertingus produktus turizmo rinkai; įvairinti ir pagerinti sveikatinimo paslaugas, plėtoti verslo paslaugas sanatorijoms, stambesniems sveikatinimo ir turizmo paslaugų teikėjams. Gali būti įgyvendinama panaudojant teritorijos 1, 4, 6 stiprybes ir atsiveriančias 1, 2, 3, 4, 6 galimybes, bus išvengta 5 grėsmės ir bent iš dalies sumažintos ir (arba) visiškai panaikintos 2, 4, 5 silpnybės. Priemonė prisidės prie SO8 siekių – paskatins ekonominį augimą, darbo vietų kūrimą, vietos plėtrą, sustiprins bendradarbiavimą | G17: Tikslas – skatinti įtraukios infrastruktūros vystymą taikant sumanius sprendimus. Plėtojant įtraukią, pagrįstą unikaliais kultūros ir gamtos ištekliais infrastruktūrą, galima padidinti paslaugų prieinamumą, o verslininkai, ūkininkai, bendruomeninės organizacijos, įtraukiant gyventojus, galėtų inovatyviai teikti kompleksines turizmo ir sveikatinimo paslaugas. Atliepiami poreikiai diegiant žaliuosius sprendimus išsaugoti gamtos išteklius ir kultūros paveldą, pagerinti turizmo infrastruktūrą, ugdyti kaimo bendruomenės sumanumą; įvairinti ir pagerinti sveikatinimo paslaugas, plėtoti verslo paslaugas sanatorijoms, stambesniems sveikatinimo ir turizmo paslaugų teikėjams; sukurti vertingus produktus turizmo rinkai. Tvariai plėtoti teritorijos 1, 2, 3, 5 stiprybes, atsiveriančias 3, 4, 5, 6, 7 galimybes, išvengti 1, 2, 3, 4, 5, 7 grėsmių, sumažinti 1, 2, 4, 5 silpnybes. Priemonė prisidės prie SO8 siekių – paskatins ekonominį augimą, vietos plėtrą (infrastruktūrą), padidins soc. įtrauktį | H17: Tikslas – skatinti jaunimo verslumą ir įtraukti juos į kaimo vietovių pokyčių valdymo procesus. Atitinka VPS temą, nes yra veikiančios dalijimosi ir žiedinės ekonomikos iniciatyvos, puoselėjama etninė kultūra, amatai, vedamos edukacijos, organizuojami respublikinės reikšmės tradiciniai renginiai. Atliepiami poreikiai jaunimo įtraukimo į kaimo bendruomenės veiklas, verslumo ugdymo ir veiklų skatinančių tvarumą ir sveiką gyvenseną organizavimo; teminių kaimų ir labiau vietos gyventojų bei turistų poreikius atliepiančių paslaugų kūrimas, turizmo maršrutų, vietos produktų populiarinimas. Tvariai plėtojamos teritorijos 3, 5, 6 stiprybės ir atsiveriančios 2, 4, 5 galimybės, išvengta 1, 6, 7 grėsmės ir bent iš dalies sumažintos ir (arba) visiškai panaikintos 1, 2, 4, 6 silpnybės. Priemonė prisidės prie SO8 siekių – paskatins vietos plėtrą, padidins socialinę įtrauktį. | I17: Priemonės tikslas – per teritorinį bendradarbiavimą keistis gerąja patirtimi su kitomis VVG įgyvendinant pasirinktą temą – geriausias gamtos ir kultūros išteklių panaudojimas gyventojų sveikatai stiprinti ir turizmui vystyti, siekiant perimti ir diegti žinias, metodus, inovatyvius, tvarius ir išmanius sprendimus, prisidedančius prie kaimiškųjų teritorijų plėtros sėkmingai sprendžiant ekonominius, kultūrinius, socialinius, aplinkosauginius iššūkius, įvardintus situacijos analizėje ir tenkinant gyventojų ir turistų poreikius.Priemonė prisidės prie SO8 siekių – paskatins vietos plėtrą, padidins socialinę įtrauktį. | J17: Priemonės tikslas – per tarptautinį bendradarbiavimą keistis gerąja patirtimi su kitomis VVG įgyvendinant pasirinktą temą – geriausias gamtos ir kultūros išteklių panaudojimas gyventojų sveikatai stiprinti ir turizmui vystyti, siekiant perimti ir diegti žinias, metodus, inovatyvius, tvarius ir išmanius sprendimus, prisidedančius prie kaimiškųjų teritorijų plėtros sėkmingai sprendžiant ekonominius, kultūrinius, socialinius, aplinkosauginius iššūkius, įvardintus situacijos analizėje ir tenkinant gyventojų ir turistų poreikius.Priemonė prisidės prie SO8 siekių – paskatins vietos plėtrą, padidins socialinę įtrauktį. | K17: Priemonės tikslas – įtraukios, gyventojų poreikius atliepiančios viešosios infrastruktūros kūrimas ar vystymas, taikant sumanius, tvarius sprendimus, pagerinančius viešųjų paslaugų (socialinių, kultūros, švietimo, sveikatinimo, rekreacines, turizmo ar kt.) kokybę, prieinamumą. Projektas turi atliepti VPS temą "Geriausias gamtos ir kultūros išteklių panaudojimas gyventojų sveikatai stiprinti ir turizmui vystyti". Priemonė yra ne pelno ir prisideda prie kaimo vietovių plėtros, gyventojų socialinės įtraukties didinimo ir atskirties mažinimo.
A18: 10.12 | B18: Pokytis, kurio siekiama VPS priemone | C18: Laisvas tekstas (ne daugiau kaip 500 simbolių). Aprašykite pokytį, kurio siekiama šia VPS priemone. Nurodykite, kokiu mastu priemonė prisidės problemos sprendimo, VVG teritorijos poreikių patenkinimo (VVG teritorijos poreikiai, kuriuos siekiama patenkinti konkrečia VPS priemone, nurodyti 9 lape). Teiginius iliustruokite kiekybiniais duomenimis ir rodikliais. | D18: Pokytis: 1) pasitelkiant vietos išteklius sukurtos ir (ar) pagerinta sveikatinimo paslaugų kokybė; 2) padidintos materialinės investicijos, ekonomiškai aktyvių gyventojų ir verslų skaičius; 3) padidintas sveikatinimo paslaugų prieinamumas vietos gyventojams ir turistams; 4) padidintas sveikatingumas, gyvūnų gerovė, aplinkosauginis sąmoningumas, prisidedama prie klimato kaitos švelninimo ir prisitaikymo prie jos | E18: Pokytis: 1) padidėjusios materialinės investicijos, ekonomiškai aktyvių gyventojų ir darbo vietų skaičius; 2) sukurtos ir pradėtos teikti darnaus turizmo paslaugos; 3) padidintas turizmo paslaugų prieinamumas vietos gyventojams ir turistams; 4) padidintas sveikatingumas, gyvūnų gerovė, aplinkosauginis sąmoningumas, prisidedama prie klimato kaitos švelninimo ir prisitaikymo prie jos | F18: Pokytis: 1) padidintas naujai kuriamų arba plėtojamų bendruomeninių verslų kaime skaičius; 2) išugdyti reikalingi gebėjimai teminti kultūros ir gamtos objektus, plėtoti teminius kaimus; padidintas teminių kaimų paslaugų populiarumas; 3) padidintas kaimo gyventojų, ypač mažiau galimybių turinčių asmenų, įtrauktis teikiant ir vartojant paslaugas; 4) padidintas sveikatingumas, gyvūnų gerovė, aplinkosauginis sąmoningumas, prisidedama prie klimato kaitos švelninimo ir prisitaikymo prie jos. | G18: Pokytis: 1) pasitelkiant vietos išteklius sukurtos ir (ar) pagerinta sveikatinimo paslaugų kokybė; 2) padidintos materialinės investicijos, ekonomiškai aktyvių gyventojų ir verslų skaičius; 3) padidintas sveikatinimo paslaugų prieinamumas vietos gyventojams ir turistams; 4) padidintas sveikatingumas, gyvūnų gerovė, aplinkosauginis sąmoningumas, prisidedama prie klimato kaitos švelninimo ir prisitaikymo prie jos | H18: Pokytis: 1) padidintos galimybės teikti paslaugas ir jų prieinamumas; 2) išugdyti reikalingi gebėjimai teminti kultūros ir gamtos objektus bei padidintas sveikatinimo ir turizmo paslaugų populiarumas; 3) padidintas kaimo gyventojų, ypač mažiau galimybių turinčių asmenų, įtrauktis teikiant (edukacijos, turizmo maršrutai) ir vartojant paslaugas; 4) padidintas verslumas, sveikatingumas, gyvūnų gerovė, aplinkosauginis sąmoningumas, prisidedama prie klimato kaitos švelninimo ir prisitaikymo prie jos | I18: Pokytis: 1) padidintos galimybės teikti paslaugas ir jų prieinamumas; 2) išugdyti reikalingi gebėjimai, padidintas fizinių ir juridinių asmenų, kurie kūrybiškai pritaikys gerosios patirties pavyzdžius VP, skaičius; 3) bendradarbiavimo kūrimas, sustiprinti ryšiai su fiziniais ir juridiniais asmenimis kitoje VVG; 4) padidintas VVG teritorijos, veikiančių subjektų žinomumas, teikiamų sveikatinimo ir turizmo paslaugų populiarumas. | J18: Pokytis: 1) padidintos galimybės teikti paslaugas ir jų prieinamumas; 2) išugdyti reikalingi gebėjimai, padidintas fizinių ir juridinių asmenų, kurie kūrybiškai pritaikys gerosios patirties pavyzdžius VP, skaičius; 3) bendradarbiavimo kūrimas, sustiprinti ryšiai su fiziniais ir juridiniais asmenimis užsienio VVG; 4) padidintas VVG teritorijos, veikiančių subjektų žinomumas, teikiamų sveikatinimo ir turizmo paslaugų populiarumas. | K18: Pokytis: 1) padidintas viešųjų paslaugų prieinamumas ir galimybės teikti paslaugas; 2) padidėjęs skaitmeninių ir kitų technologijų naudojimas, svariau prisidedama prie klimato kaitos švelninimo ir prisitaikymo prie jos; 3) pagerėję įgūdžiai dirbti su duomenimis ir žiedinės bioekonomikos principais grįstais sprendimais, geresnis vietos išteklių valdymas; 4) padidėjusi kaimo gyventojų, ypač mažiau galimybių turinčių asmenų, įtrauktis ir gyvenamosios vietos patrauklumas
A19: 10.13 | B19: Kaip priemonė prisidės prie horizontalaus tikslo d įgyvendinimo? (pildoma, jei taikoma) | C19: Laisvas tekstas (ne daugiau kaip 500 simbolių). Pildoma, jei 10.6 punkte nurodyta "Taip". Nurodykite, kokie vietos projektams taikomi reikalavimai užtikrins, kad pagal priemonę finansuojami projektai prisidėtų prie 4 konkretaus tikslo įgyvendinimo, kokių su 4-uoju tikslu susijusių pokyčių ir (arba) rodiklių siekiama įgyvendinant šią VPS priemonę. Jei 10.6 punkte nurodėte "Ne", šioje eilutėje įrašykite "Netaikoma". | D19: Pareiškėjai bus skatinami pereiti prie tvarios energetikos, naudoti tvarius, draugiškus aplinkai ir žmogaus sveikatai palankius metodus bei klimato kaitą švelninančias priemones. Per papildomus projektų atrankos balus bus siekiama, kad įsigytos technologijos, įranga, medžiagos ar sukurtos paslaugos būtų palankūs aplinkai ir prisidėtų prie klimato kaitos švelninimo | E19: Pareiškėjai bus skatinami pereiti prie tvarios energetikos, naudoti tvarius, draugiškus aplinkai ir žmogaus sveikatai palankius metodus bei klimato kaitą švelninančias priemones. Per papildomus projektų atrankos balus bus siekiama, kad įsigytos technologijos, įranga, medžiagos ar sukurtos paslaugos būtų palankūs aplinkai ir prisidėtų prie klimato kaitos švelninimo. | F19: Pareiškėjai bus skatinami naudoti tvarius, draugiškus aplinkai ir žmogaus sveikatai palankius metodus bei klimato kaitą švelninančias priemones. Per papildomus projektų atrankos balus bus siekiama, kad įsigytos medžiagos ar sukurtos paslaugos būtų palankūs aplinkai ir prisidėtų prie klimato kaitos švelninimo. | G19: Pareiškėjai bus skatinami pereiti prie tvarios energetikos, naudoti tvarius, draugiškus aplinkai ir žmogaus sveikatai palankius metodus bei klimato kaitą švelninančias priemones. Per papildomus projektų atrankos balus bus siekiama, kad įsigytos technologijos, įranga, medžiagos ar sukurtos paslaugos būtų palankūs aplinkai ir prisidėtų prie klimato kaitos švelninimo. | H19: Pareiškėjai bus skatinami naudoti tvarius, draugiškus aplinkai ir žmogaus sveikatai palankius metodus bei klimato kaitą švelninančias priemones. Per papildomus projektų atrankos balus bus siekiama, kad įsigytos medžiagos ar sukurtos paslaugos būtų palankūs aplinkai ir prisidėtų prie klimato kaitos švelninimo. | I19: Siekiama susipažinti su gerosios praktikos pavyzdžiais, kaip teikiant sveikatinimo ir turizmo paslaugas diegiamos inovacijos ir išmanūs sprendimai, kaip suinteresuotieji skatinami naudoti tvarius, draugiškus aplinkai ir žmogaus sveikatai palankius metodus bei klimato kaitą švelninančias priemones. | J19: Siekiama susipažinti su gerosios praktikos pavyzdžiais, kaip teikiant sveikatinimo ir turizmo paslaugas diegiamos inovacijos ir išmanūs sprendimai, kaip suinteresuotieji skatinami naudoti tvarius, draugiškus aplinkai ir žmogaus sveikatai palankius metodus bei klimato kaitą švelninančias priemones. | K19: Pareiškėjai bus skatinami pereiti prie tvarios energetikos, naudoti tvarius, draugiškus aplinkai ir žmogaus sveikatai palankius metodus bei klimato kaitą švelninančias priemones. Per papildomus projektų atrankos balus bus siekiama, kad įsigytos technologijos, įranga, medžiagos ar sukurtos paslaugos būtų palankūs aplinkai ir prisidėtų prie klimato kaitos švelninimo.
A20: 10.14 | B20: Kaip priemonė prisidės prie horizontalaus tikslo e įgyvendinimo? (pildoma, jei taikoma) | C20: Laisvas tekstas (ne daugiau kaip 500 simbolių). Pildoma, jei 10.7 punkte nurodyta "Taip". Nurodykite, kokie vietos projektams taikomi reikalavimai užtikrins, kad pagal priemonę finansuojami projektai prisidėtų prie 5 konkretaus tikslo įgyvendinimo, kokių su 5-uoju tikslu susijusių pokyčių ir (arba) rodiklių siekiama įgyvendinant šią VPS priemonę. Jei 10.7 punkte nurodėte "Ne", šioje eilutėje įrašykite "Netaikoma".
A21: 10.15 | B21: Kaip priemonė prisidės prie horizontalaus tikslo f įgyvendinimo? (pildoma, jei taikoma) | C21: Laisvas tekstas (ne daugiau kaip 500 simbolių). Pildoma, jei 10.8 punkte nurodyta "Taip". Nurodykite, kokie vietos projektams taikomi reikalavimai užtikrins, kad pagal priemonę finansuojami projektai prisidėtų prie 6 konkretaus tikslo įgyvendinimo, kokių su 6-uoju tikslu susijusių pokyčių ir (arba) rodiklių siekiama įgyvendinant šią VPS priemonę. Jei 10.8 punkte nurodėte "Ne", šioje eilutėje įrašykite "Netaikoma".
A22: 10.16 | B22: Kaip priemonė prisidės prie horizontalaus tikslo i įgyvendinimo? (pildoma, jei taikoma) | C22: Laisvas tekstas (ne daugiau kaip 500 simbolių). Pildoma, jei 10.9 punkte nurodyta "Taip". Nurodykite, kokie vietos projektams taikomi reikalavimai užtikrins, kad pagal priemonę finansuojami projektai prisidėtų prie 9 konkretaus tikslo įgyvendinimo, kokių su 9-uoju tikslu susijusių pokyčių ir (arba) rodiklių siekiama įgyvendinant šią VPS priemonę. Jei 10.9 punkte nurodėte "Ne", šioje eilutėje įrašykite "Netaikoma". | D22: Pareiškėjai bus skatinami atliepti visuomenės poreikius, susijusius su maistu ir sveikata, įskaitant aukštos kokybės, saugius ir maistingus maisto produktus, pagamintus tvariu būdu, mažinti maisto atliekas, didinti gyvūnų gerovę ir kovoti su antimikrobiniu atsparumu. Bus skatinama parengti ir publikuoti straipsnį VVG tinklalapyje apie tai, kaip VP investicijos ar veiklos prisideda prie ES BŽŪP 9 konkretaus tikslo įgyvendinimo | E22: Pareiškėjai bus skatinami atliepti visuomenės poreikius, susijusius su maistu ir sveikata, įskaitant aukštos kokybės, saugius ir maistingus maisto produktus, pagamintus tvariu būdu, mažinti maisto atliekas, didinti gyvūnų gerovę ir kovoti su antimikrobiniu atsparumu. Bus skatinama parengti ir publikuoti straipsnį VVG tinklalapyje apie tai, kaip VP investicijos ar veiklos prisideda prie ES BŽŪP 9 konkretaus tikslo įgyvendinimo | F22: Pareiškėjai bus skatinami atliepti visuomenės poreikius, susijusius su maistu ir sveikata, įskaitant aukštos kokybės, saugius ir maistingus maisto produktus, pagamintus tvariu būdu, mažinti maisto atliekas, didinti gyvūnų gerovę ir kovoti su antimikrobiniu atsparumu. Bus skatinama parengti ir publikuoti straipsnį VVG tinklalapyje apie tai, kaip VP investicijos ar veiklos prisideda prie ES BŽŪP 9 konkretaus tikslo įgyvendinimo. | G22: Pareiškėjai bus skatinami atliepti visuomenės poreikius, susijusius su maistu ir sveikata, įskaitant aukštos kokybės, saugius ir maistingus maisto produktus, pagamintus tvariu būdu, mažinti maisto atliekas, didinti gyvūnų gerovę ir kovoti su antimikrobiniu atsparumu. Bus skatinama parengti ir publikuoti straipsnį VVG tinklalapyje apie tai, kaip VP investicijos ar veiklos prisideda prie ES BŽŪP 9 konkretaus tikslo įgyvendinimo. | H22: Pareiškėjai bus skatinami atliepti visuomenės poreikius, susijusius su maistu ir sveikata, įskaitant aukštos kokybės, saugius ir maistingus maisto produktus, pagamintus tvariu būdu, mažinti maisto atliekas, didinti gyvūnų gerovę ir kovoti su antimikrobiniu atsparumu. Bus skatinama parengti ir publikuoti straipsnį VVG tinklalapyje apie tai, kaip VP investicijos ar veiklos prisideda prie ES BŽŪP 9 konkretaus tikslo įgyvendinimo. | I22: Siekiama susipažinti su gerosios praktikos pavyzdžiais įgyvendinant iniciatyvas ir veiklas skirtas atliepti visuomenės poreikius, susijusius su maistu ir sveikata, įskaitant aukštos kokybės, saugius ir maistingus maisto produktus, pagamintus tvariu būdu, mažinti maisto atliekas, didinti gyvūnų gerovę ir kovoti su antimikrobiniu atsparumu. Skatinama parengti ir publikuoti straipsnį VVG tinklalapyje apie tai, kaip VP investicijos ar veiklos prisideda prie ES BŽŪP 9 konkretaus tikslo įgyvendinimo. | J22: Siekiama susipažinti su gerosios praktikos pavyzdžiais įgyvendinant iniciatyvas ir veiklas skirtas atliepti visuomenės poreikius, susijusius su maistu ir sveikata, įskaitant aukštos kokybės, saugius ir maistingus maisto produktus, pagamintus tvariu būdu, mažinti maisto atliekas, didinti gyvūnų gerovę ir kovoti su antimikrobiniu atsparumu. Skatinama parengti ir publikuoti straipsnį VVG tinklalapyje apie tai, kaip VP investicijos ar veiklos prisideda prie ES BŽŪP 9 konkretaus tikslo įgyvendinimo. | K22: Pareiškėjai bus skatinami atliepti visuomenės poreikius, susijusius su maistu ir sveikata, įskaitant aukštos kokybės, saugius ir maistingus maisto produktus, pagamintus tvariu būdu, mažinti maisto atliekas, didinti gyvūnų gerovę ir kovoti su antimikrobiniu atsparumu (taikoma pagal projekto turinį ir vertinama tik ta visuomenės poreikio sritis, kuri yra tiesiogiai arba pagrįstai susijusi su konkrečiomis projekto veiklomis ir numatomu poveikiu).
A23: 10.17 | B23: B dalis. Pareiškėjų ir projektų tinkamumo sąlygos, projektų atrankos principai: | C23: EILUTĖ NEPILDOMA.
A24: 10.18 | B24: Pagal priemonę remiamos veiklos | C24: Laisvas tekstas (ne daugiau kaip 300 simbolių). Nurodykite, kokios veiklos gali būti remiamos pagal priemonę (pavyzdžiui, įrangos įsigijimas, atnaujinimas, renginių, mokymų organizavimas ir kt.). | D24: Remtinas paslaugų, įrangos ir (arba) technikos įsigijimas ir (arba) atnaujinimas; intelektinės, sveikatinimo ir užimtumo, turizmo oragnizavimo ir paslaugų teikimo gyventojams, turistams, sanatorijoms ir kt. verslams veiklos, kurios padeda kurti darbo vietas ir vystyti verslus | E24: Remtinas paslaugų, įrangos ir (arba) technikos įsigijimas ir (arba) atnaujinimas, darnaus turizmo (apjungiant gamtos ir kultūros išteklius) orgnizavimo ir paslaugų teikimo gyventojams, turistams ir kt. veiklos, kurios padeda kurti darbo vietas ir vystyti verslus | F24: Remtinas paslaugų, įrangos ir (arba) technikos įsigijimas ir (arba) atnaujinimas; intelektinės, sveikatinimo ir užimtumo, turizmo oragnizavimo, paslaugų teikimo ir kitos veiklos padedančios kurti darbo vietas ir vystyti bendruomeninius verslus | G24: .Finansuojami projektai, skirti viešųjų paslaugų (socialinių, sveikatingumo, sveikatos priežiūros, švietimo, kultūros, sporto ir kt.) įvairovės kaimo vietovėse didinimui, modernizavimui, prieinamumo didinimui. | H24: NVO aktyvumą skatinančios veiklos susijusios su neformalaus ugdymo, užimtumo organizavimu, ekologiniu švietimu, klimato kaita, tvarumu, sveikatingumu, sportu, verslumo ir kultūriniu ugdymu, teminių kaimų ir kitų turizmo paslaugų populiarinimu | I24: Bendradarbiavimo veiklos | J24: Bendradarbiavimo veiklos | K24: Finansuojami projektai, skirti viešųjų paslaugų (socialinių, sveikatingumo, sveikatos priežiūros, švietimo, kultūros, sporto ir kt.) įvairovės kaimo vietovėse didinimui, modernizavimui, prieinamumo didinimui.
A25: 10.19 | B25: Tinkami pareiškėjai ir partneriai (jei taikomas reikalavimas projektus įgyvendinti su partneriais) | C25: Laisvas tekstas (ne daugiau kaip 150 simbolių). Nurodykite tinkamo (-ų) paramos gavėjo (-ų) teisinį statusą (juridinis asmuo arba fizinis asmuo) ir trumpai apibūdinkite tinkamo paramos gavėjo pobūdį (pvz., NVO, bendruomeninė organizacija, jaunimo organizacija, maža įmonė, ūkininkas ar kita). | D25: Juridinis asmuo, fizinis asmuo (FA). VVG teritorijoje registruota, veikianti l. maža arba maža įmonė; gyvenantis ir/ar veikiantis ūkininkas, FA | E25: Juridinis asmuo, fizinis asmuo (FA). VVG teritorijoje registruota, veikianti l. maža arba maža įmonė; gyvenantis ir/ar veikiantis ūkininkas, FA | F25: bendruomeninės organizacijos atitinkančios LR Bendruomeninių organizacijų įstatymą ir veikiančios ne mažiau nei 1 metus Alytaus r. VVG teritorijoje | G25: Pareiškėjai ir partneriai: viešieji juridiniai asmenys, biudžetinės įstaigos veikiančios Alytaus r. VVG teritorijoje ne mažiau kaip 1 m. | H25: Pareiškėjai ir partneriai: Alytaus r. VVG teritorijoje registruotos ir veikiančios NVO, biudžetinės įstaigos, asociacijos ne mažiau kaip 1 metus | I25: Alytaus rajono VVG | J25: Alytaus rajono VVG | K25: Pareiškėjai ir partneriai: viešieji juridiniai asmenys, biudžetinės įstaigos veikiančios Alytaus r. VVG teritorijoje ne mažiau kaip 1 m.
A26: 10.20 | B26: Priemonės tikslinė grupė (pildoma, jei nesutampa su tinkamais pareiškėjais ir (arba) partneriais) | C26: Laisvas tekstas (ne daugiau kaip 150 simbolių). Pildykite, jei projekto pareiškėjai ir (arba) partneriai nėra galutiniai priemonės naudos gavėjai. Nurodykite tikslinę grupę žmonių, kurių problemų sprendimui ar poreikių tenkinimui skirta priemonė (pvz., socialiai pažeidžiamos grupės (senyvo amžiaus žmonės, negalią turintys asmenys), skurdo riziką patiriančios šeimos, daugiavaikės šeimos, kaimo bendruomenės, jaunimas). Nepildykite, jeigu tikslinė grupė sutampa su tinkamais pareiškėjais ir (arba) partneriais. | D26: Tikslinė grupė Alytaus r. VVG teritorijos gyventojai ir turistai (lankytojai) | E26: Tikslinė grupė Alytaus r. VVG teritorijos gyventojai ir turistai (lankytojai) | F26: Alytaus r. VVG teritorijos gyventojai ir turistai (lankytojai), sunkumus patiriančių, socialiai pažeidžiamų grupių atstovai, vaikai ir jaunimas | G26: Tikslinė grupė Alytaus r. VVG teritorijos gyventojai ir turistai (lankytojai), sunkumus patiriančių, socialiai pažeidžiamų grupių atstovai | H26: Tikslinė grupė Alytaus r. VVG teritorijos gyventojai ir turistai (lankytojai), sunkumus patiriančių, socialiai pažeidžiamų grupių atstovai | I26: Tikslinė grupė Alytaus r. VVG teritorijos gyventojai | J26: Tikslinė grupė Alytaus r. VVG teritorijos gyventojai | K26: Tikslinė grupė Alytaus r. VVG teritorijos gyventojai ir turistai (lankytojai), sunkumus patiriančių, socialiai pažeidžiamų grupių atstovai
A27: 10.21 | B27: Tinkamumo sąlygos pareiškėjams ir projektams | C27: Laisvas tekstas (ne daugiau kaip 500 simbolių). Nurodykite bent dvi tinkamumo sąlygas, taikomas vietos projekto pareiškėjams ir (arba) partneriams ir (arba) vietos projektams, kurios bus taikomos įgyvendinant priemonę. Tinkamumo sąlygos turi būti suformuluotos taip, kad jos būtų patikrinamos ir galima jų įgyvendinimo kontrolė vietos projekto įgyvendinimo metu ir kontrolės laikotarpiu. Tinkamumo sąlygos negali dubliuoti Strateginio plano 4.7.3 dalyje nustatytų bendrųjų tinkamumo sąlygų ir reikalavimų (kai taikoma). | D27: 1. Atliepia visuomenės poreikius, susijusius su maistu ir sveikata, įskaitant aukštos kokybės, saugius ir maistingus maisto produktus, pagamintus tvariu būdu, mažinti maisto atliekas, didinti gyvūnų gerovę ir kovoti su antimikrobiniu atsparumu; 2. Prisideda prie klimato kaitos švelninimo ir prisitaikymo prie jos, be kita ko, mažinant išmetamą šiltnamio efektą sukeliančių dujų kiekį ir didinant anglies dioksido sekvestraciją, taip pat plėtoti tvariąją energetiką | E27: 1. Atliepia visuomenės poreikius, susijusius su maistu ir sveikata, įskaitant aukštos kokybės, saugius ir maistingus maisto produktus, pagamintus tvariu būdu, mažinti maisto atliekas, didinti gyvūnų gerovę ir kovoti su antimikrobiniu atsparumu; 2. Prisideda prie klimato kaitos švelninimo ir prisitaikymo prie jos, be kita ko, mažinant išmetamą šiltnamio efektą sukeliančių dujų kiekį ir didinant anglies dioksido sekvestraciją, taip pat plėtoti tvariąją energetiką. | F27: 1. Atliepia visuomenės poreikius, susijusius su maistu ir sveikata, įskaitant aukštos kokybės, saugius ir maistingus maisto produktus, pagamintus tvariu būdu, mažinti maisto atliekas, didinti gyvūnų gerovę ir kovoti su antimikrobiniu atsparumu; 2. Prisideda prie klimato kaitos švelninimo ir prisitaikymo prie jos, be kita ko, mažinant išmetamą šiltnamio efektą sukeliančių dujų kiekį ir didinant anglies dioksido sekvestraciją, taip pat plėtoti tvariąją energetiką; | G27: 1. Atliepia visuomenės poreikius, susijusius su maistu ir sveikata, įskaitant aukštos kokybės, saugius ir maistingus maisto produktus, pagamintus tvariu būdu, mažinti maisto atliekas, didinti gyvūnų gerovę, kovoti su antimikrobiniu atsparumu; 2. Prisideda prie klimato kaitos švelninimo ir prisitaikymo prie jos, be kita ko, mažinant išmetamą šiltnamio efektą sukeliančių dujų kiekį, didinant anglies dioksido sekvestraciją, plėtoti tvariąją energetiką; 3. Kuriamos inovacijos (sumanūs sprendimai); | H27: 1. Atliepia visuomenės poreikius, susijusius su maistu ir sveikata, įskaitant aukštos kokybės, saugius ir maistingus maisto produktus, pagamintus tvariu būdu, mažinti maisto atliekas, didinti gyvūnų gerovę, kovoti su antimikrobiniu atsparumu; 2. Prisideda prie klimato kaitos švelninimo, be kita ko, mažinant išmetamą šiltnamio efektą sukeliančių dujų kiekį ir didinant anglies dioksido sekvestraciją, taip pat plėtoti tvariąją energetiką; 3. Įtraukiami mažiau galimybių turintys asmenys. | I27: 1. Atliepia visuomenės poreikius, susijusius su maistu ir sveikata, įskaitant aukštos kokybės, saugius ir maistingus maisto produktus, pagamintus tvariu būdu, mažinti maisto atliekas, didinti gyvūnų gerovę, kovoti su antimikrobiniu atsparumu; 2.Prisideda prie klimato kaitos švelninimo, be kita ko, mažinant išmetamą šiltnamio efektą sukeliančių dujų kiekį ir didinant anglies dioksido sekvestraciją, taip pat plėtoti tvariąją energetiką; | J27: 1. Atliepia visuomenės poreikius, susijusius su maistu ir sveikata, įskaitant aukštos kokybės, saugius ir maistingus maisto produktus, pagamintus tvariu būdu, mažinti maisto atliekas, didinti gyvūnų gerovę, kovoti su antimikrobiniu atsparumu; 2.Prisideda prie klimato kaitos švelninimo, be kita ko, mažinant išmetamą šiltnamio efektą sukeliančių dujų kiekį ir didinant anglies dioksido sekvestraciją, taip pat plėtoti tvariąją energetiką; | K27: 1. Atliepia visuomenės poreikius, susijusius su maistu ir sveikata, įskaitant aukštos kokybės, saugius ir maistingus maisto produktus, pagamintus tvariu būdu, mažinti maisto atliekas, didinti gyvūnų gerovę, kovoti su antimikrobiniu atsparumu; 2.Prisideda prie klimato kaitos švelninimo, be kita ko, mažinant išmetamą šiltnamio efektą sukeliančių dujų kiekį ir didinant anglies dioksido sekvestraciją, taip pat plėtoti tvariąją energetiką;3.Diegiama inovacija (seniūnijos lygmeniu).
A28: 10.22 | B28: Projektų atrankos principai | C28: Laisvas tekstas (ne daugiau kaip 500 simbolių). Nurodykite bent du vietos projektų atrankos kriterijus, kurie, naudojant balų sistemą, bus taikomi siekiant atrinkti ir finansuoti geriausius (sukuriančius daugiausia pridėtinės vertės) vietos projektus. Vietos projektų atrankos kriterijais turi būti siekiama geriausios atitikties VVG teritorijos poreikiams, siekiamiems pokyčiams, įgyvendinamiems BŽŪP tikslams, priemonės tikslui, turi būti sudaromos vienodos sąlygos vietos projektų pareiškėjams. Tinkamais vietos projektų atrankos kriterijais gali būti: mažesni naujos darbo vietos sukūrimo kaštai, didesnis naujų darbo vietų skaičius, didesnis projekto naudos gavėjų skaičius, geresni vietos projekto pareiškėjo finansų valdymo gebėjimai ir pan. Netinkamais vietos projektų atrankos kriterijais laikomi kriterijai, kurių neįmanoma išmatuoti ir patikrinti (pvz., „vietos projektas turi ypatingos reikšmės VVG teritorijai“), taip pat diskriminuojamojo pobūdžio (pvz., „pareiškėjas yra VVG narys, dalyvaujantis ne mažiau kaip x metų VVG veikloje“, „pareiškėjas nėra anksčiau gavęs ES paramos“, „pareiškėjas – naujai įsteigtas juridinis asmuo“, „pareiškėjas – bendruomeninė organizacija“ (šis atrankos kriterijus gali būti laikomas tinkamu, jeigu VPS priemonės tikslai tiesiogiai susiję su bendruomeninio sektoriaus plėtra, o priemonės tiksline grupe aiškiai įvardytos bendruomeninės organizacijos). | D28: Kriterijai: Privalomas - projektu numatoma sukurti arba plėtoti verslą, numatoma sukurti ir išlaikyti ne mažiau kaip 2 naujas (2,0 etatai) darbo vietas.. Pasirinktinai bent 2: 1) didesnis galutinių naudos gavėjų skaičius, vnt.; 2) projekto metu įtraukiami mažiau galimybių turintys asmenys, jaunimas iki 29, ir/arba jauni žmonės iki 40 m.; 3) pasirinktinai bendradarbiaujant derinamos „kietosios“ investicijos ir „minkštosios“ tęstinės veiklos | E28: Kriterijai: Privalomas - projektu numatoma sukurti arba plėtoti verslą, sukurti ir išlaikyti ne mažiau kaip 2 naujas (2,0 etatai) darbo vietas. Pasirinktinai bent 2: 1) bendradarbiaujant derinamos „kietosios“ investicijos ir „minkštosios“ tęstinės veiklos; 2) sukuriamos darbo vietos jauniems žmonėms iki 40 m.; 3) mažesni darbo vietos sukūrimo kaštai. | F28: Kriterijai: Privalomas - projektu numatoma sukurti arba plėtoti bendruomeninį verslą. Pasirinktinai bent 2: 1) projektu kuriamos ar plėtojamos viešosios paslaugos, kurių aktualumas bendruomenei pagrįstas projekte; 2) pasiekiamas didesnis galutinių naudos gavėjų, mažiau galimybių turinčių asmenų skaičius; 3) į projekto veiklas įtraukiamas jaunimas iki 29, ir/arba jauni žmonės iki 40 m. | G28: 1. Atliepia visuomenės poreikius, susijusius su maistu ir sveikata, įskaitant aukštos kokybės, saugius ir maistingus maisto produktus, pagamintus tvariu būdu, mažinti maisto atliekas, didinti gyvūnų gerovę, kovoti su antimikrobiniu atsparumu; 2. Prisideda prie klimato kaitos švelninimo ir prisitaikymo prie jos, be kita ko, mažinant išmetamą šiltnamio efektą sukeliančių dujų kiekį, didinant anglies dioksido sekvestraciją, plėtoti tvariąją energetiką; 3. Kuriamos inovacijos (sumanūs sprendimai); | H28: Kriterijai: Privalomas - projektu numatoma investuoti į žmogiškąjį kapitalą. Pasirinktinai bent 2: 1)pasiekiamas didesnis galutinių naudos gavėjų, mažiau galimybių turinčių asmenų skaičius; 2) įtraukiamas jaunimas iki 29, ir/arba jauni žmonės iki 40 m.; 3) prioritetas skiriamas VP, kuriuose numatoma sukurti edukacines programas ir/ar turizmo maršrutus. | I28: Projektu numatomos veiklos pagal pasirinktą temą – geriausias gamtos ir kultūros išteklių panaudojimas gyventojų sveikatai stiprinti ir turizmui vystyti | J28: Projektu numatomos veiklos pagal pasirinktą temą – geriausias gamtos ir kultūros išteklių panaudojimas gyventojų sveikatai stiprinti ir turizmui vystyti | K28: Kriterijai: Pasirinktinai bent 2: 1) platesnis modernių ir (arba) skaitmeninių technologijų panaudojimas; 2)pasiekiamas didesnis galutinių naudos gavėjų, mažiau galimybių turinčių asmenų skaičius;
A29: 10.23 | B29: Planuojamų kvietimų teikti paraiškas skaičius | C29: Užsipildo automatiškai, kai yra užpildytas 15 lapas. | D29: =VLOOKUP(D$6,'15'!$B$8:$E$27,4,FALSE) -> 3 | E29: =VLOOKUP(E$6,'15'!$B$8:$E$27,4,FALSE) -> 3 | F29: =VLOOKUP(F$6,'15'!$B$8:$E$27,4,FALSE) -> 3 | G29: =VLOOKUP(G$6,'15'!$B$8:$E$27,4,FALSE) -> 0 | H29: =VLOOKUP(H$6,'15'!$B$8:$E$27,4,FALSE) -> 4 | I29: =VLOOKUP(I$6,'15'!$B$8:$E$27,4,FALSE) -> 1 | J29: =VLOOKUP(J$6,'15'!$B$8:$E$27,4,FALSE) -> 1 | K29: =VLOOKUP(K$6,'15'!$B$8:$E$27,4,FALSE) -> 2 | ... W29: =VLOOKUP(W$6,'15'!$B$8:$E$27,4,FALSE) -> 0
A30: 10.24 | B30: C dalis. Paramos dydžiai: | C30: EILUTĖ NEPILDOMA.
A31: 10.25 | B31: Didžiausia paramos suma vietos projektui, Eur | C31: Laisvas tekstas (ne daugiau kaip 50 simbolių). Nurodykite didžiausią paramos sumą (Eur), kuri gali būti skiriama vietos projektui įgyvendinti pagal šią priemonę. Paramos suma vienam vietos projektui negali viršyti 200 000 Eur. Užtikrinkite, kad didžiausia paramos suma vietos projektui ir numatomų pasiekti rodiklių reikšmė logiškai susijusi. | D31: 160000 | E31: 150000 | F31: 65000 | G31: 0 | H31: 21500 | I31: 5000 | J31: 15000 | K31: 100804
A32: 10.26 | B32: Paramos lyginamoji dalis, proc. | C32: Laisvas tekstas (ne daugiau kaip 200 simbolių). Galimas didžiausias paramos intensyvumas (VVG turi teisę sumažinti nurodytą didžiausią paramos lyginamąją dalį): 1) iki 65 proc. verslo projektams; 2) iki 95 proc. viešųjų ir socialinių paslaugų projektams, įskaitant socialinio ir bendruomeninio verslo projektus; 3) iki 40 proc. viešosios naudos (ne pelno) projektams, kuriais kuriamas arba didinamas viešųjų paslaugų prieinamumas vietos bendruomenei. Investicijos į viešąją infrastruktūrą (privažiavimų, viešųjų erdvių kūrimo ir (ar) jų pritaikymo negalią turintiems asmenims ir pan.) negali būti vienintelis vietos projekto objektas / tikslas; 4) iki 100 proc. tarptautiniam VVG bendradarbiavimui; 5) iki 95 proc. teritoriniam VVG bendradarbiavimui; 6) iki 90 proc. veiklos ir mokymų projektams. | D32: iki 65 proc. | E32: iki 65 proc. | F32: iki 95 proc. | G32: iki 40 proc.; iki 65 proc.; iki 90 proc.; iki 95 proc. | H32: iki 90 proc.; | I32: iki 95 proc. | J32: iki 100 proc. | K32: iki 40 proc.
A33: 10.27 | B33: Planuojama paramos suma priemonei, Eur | C33: Nurodykite tik skaičių (sumą) be tarpų. Galimi dešimtainiai skaičiai (centai atskiriami kabeliu). Maksimali suma - 2 000 000. Šiame punkte pateikti duomenys naudojami 7 lape, o iš jo - ir kituose lapuose (15, 16, 17). | D33: 480000 | E33: 450000 | F33: 325000 | G33: 0 | H33: 150500 | I33: 5000 | J33: 15000 | K33: 201608
A34: 10.28 | B34: Planuojama paremti projektų (rodiklis L700) | C34: Nurodykite tik sveiką skaičių be tarpų. Maksimali reikšmė - 200. Šiame punkte pateikti duomenys naudojami 6 ir 7 lapuose. | D34: 4 | E34: 4 | F34: 5 | G34: 0 | H34: 7 | I34: 1 | J34: 1 | K34: 2
A35: 10.29 | B35: Paaiškinimas, kaip nustatyta rodiklio L700 reikšmė | C35: Laisvas tekstas (ne daugiau kaip 300 simbolių). Nurodykite, kaip apskaičiavote pagal priemonę planuojamų paremti projektų skaičių (pavyzdžiui, pagal maksimalią arba vidutinę paramos sumą ar pan.). Paaiškinkite skaičiavimus. | D35: Projektų skaičius grindžiamas vietos gyventojų susidomėjimu (per gyventojų grupių diskusijas, darbo grupės susitikimus) bei turima praeitų laikotarpių patirtimi. | E35: Projektų skaičius grindžiamas vietos gyventojų susidomėjimu (per gyventojų grupių diskusijas, darbo grupės susitikimus) bei turima praeitų laikotarpių patirtimi. | F35: Projektų skaičius grindžiamas vietos gyventojų susidomėjimu (per gyventojų grupių diskusijas, darbo grupės susitikimus) bei turima praeitų laikotarpių patirtimi. | G35: Projektų skaičius grindžiamas vietos gyventojų susidomėjimu (per gyventojų grupių diskusijas, darbo grupės susitikimus) bei turima praeitų laikotarpių patirtimi. | H35: Projektų skaičius grindžiamas vietos gyventojų susidomėjimu (per gyventojų grupių diskusijas, darbo grupės susitikimus) bei turima praeitų laikotarpių patirtimi. | I35: Projektų skaičius grindžiamas vietos gyventojų susidomėjimu (per gyventojų grupių diskusijas, darbo grupės susitikimus) bei turima praeitų laikotarpių patirtimi. | J35: Projektų skaičius grindžiamas vietos gyventojų susidomėjimu (per gyventojų grupių diskusijas, darbo grupės susitikimus) bei turima praeitų laikotarpių patirtimi. | K35: Projektų skaičius grindžiamas vietos gyventojų susidomėjimu (per gyventojų grupių diskusijas, darbo grupės susitikimus) bei turima praeitų laikotarpių patirtimi.
A36: 10.30 | B36: D dalis. Priemonės indėlis į ES ir nacionalinių horizontaliųjų principų įgyvendinimą: | C36: EILUTĖ NEPILDOMA.
A37: 10.31 | B37: Subregioninės vietovės principas: | C37: EILUTĖ NEPILDOMA.
A38: 10.32 | B38: Ar siekiama, kad pagal priemonę finansuojami projektai apimtų visas VVG teritorijos seniūnijas? | C38: Pasirinkite taip arba ne. | D38: Taip | E38: Taip | F38: Taip | G38: Ne | H38: Taip | I38: Ne | J38: Ne | K38: Taip | L38: Ne | M38: Ne | N38: Ne | O38: Ne | P38: Ne | Q38: Ne | R38: Ne | S38: Ne | T38: Ne | U38: Ne | V38: Ne | W38: Ne
A39: 10.33 | B39: Pasirinkimo pagrindimas | C39: Laisvas tekstas (ne daugiau kaip 300 simbolių). Jei 10.32 punkte pasirinkote "Taip", nurodykite, kokiu būdu užtikrinsite, kad pagal priemonę finansuojami projektai apimtų visas VVG teritorijos seniūnijas, kokie situacijos analizėje pateikti duomenys rodo, kad yra poreikis ar potencialas projektus įgyvendinti visose VVG teritorijos seniūnijose. Jei pasirinkote "Ne", paaiškinkite, kodėl neaktualu pagal šią priemonę finansuojamus projektus įgyvendinti visose VVG teritorijos seniūnijose. | D39: Pagal priemonę siekiama platesnio investicijų ir veiklų pasiskirstymo, didesnio naudos gavėjų skaičiaus, didesnio paslaugų prieinamumo vietos gyventojams ir turistams, didesnio aplinkosauginio sąmoningumo, prisidėjimo prie klimato kaitos švelninimo ir prisitaikymo prie jos | E39: Siekiama platesnio investicijų ir naujų veiklų pasiskirstymo, didesnio naudos gavėjų skaičiaus ir suinteresuotųjų įsitraukimo, paslaugų prieinamumo bendradarbiaujant, didesnio bendruomenės aplinkosauginio sąmoningumo, prisidėjimo prie klimato kaitos švelninimo ir prisitaikymo prie jos. | F39: Pagal priemonę siekiama platesnio investicijų ir veiklų pasiskirstymo, didesnio naudos gavėjų skaičiaus, didesnio paslaugų prieinamumo vietos gyventojams ir turistams, didesnio aplinkosauginio sąmoningumo, prisidėjimo prie klimato kaitos švelninimo ir prisitaikymo prie jos. | G39: Siekiama platesnio investicijų ir veiklų panaudojimo, sisteminio pokyčio VVG teritorijoje, didesnio naudos gavėjų skaičiaus, didesnio paslaugų prieinamumo vietos gyventojams ir turistams, didesnio aplinkosauginio sąmoningumo, prisidėjimo prie klimato kaitos švelninimo ir prisitaikymo prie jos. | H39: Siekiama platesnio investicijų ir veiklų pasiskirstymo, didesnio naudos gavėjų skaičiaus, didesnio edukacinių programų, renginių, turizmo maršrutų prieinamumo vietos gyventojams ir turistams, didesnio aplinkosauginio sąmoningumo, prisidėjimo prie klimato kaitos švelninimo ir prisitaikymo prie jos. | K39: Siekiama platesnio investicijų ir veiklų panaudojimo, sisteminio pokyčio VVG teritorijoje, didesnio naudos gavėjų skaičiaus, didesnio paslaugų prieinamumo vietos gyventojams ir/ar turistams, didesnio aplinkosauginio sąmoningumo, prisidėjimo prie klimato kaitos švelninimo ir prisitaikymo prie jos.
A40: 10.34 | B40: Partnerystės principas: | C40: EILUTĖ NEPILDOMA.
A41: 10.35 | B41: Ar siekiama, kad pagal priemonę finansuojami projektai būtų vykdomi su partneriais? | C41: Pasirinkite iš sąrašo. Galimi 3 variantai: 1) "Taip, privalomai" (kai reikalavimas bus taikomas visiems priemonės projektams, pavyzdžiui, kaip tinkamumo sąlyga); 2) "Taip, pasirinktinai" (kai pareiškėjai turės galimybę pasirinkti, ar atsižvelgti į reikalavimą, arba reikalavimas bus taikomas tik daliai kvietimų ar vietos projektų, pavyzdžiui, suteikiant papildomus atrankos balus); 3) "Ne" (kai reikalavimas neaktualus arba netaikomas). | D41: Taip, pasirinktinai | E41: Taip, privalomai | F41: Taip, pasirinktinai | G41: Ne | H41: Taip, pasirinktinai | I41: Taip, privalomai | J41: Taip, privalomai | K41: Taip, privalomai | L41: Ne | M41: Ne | N41: Ne | O41: Ne | P41: Ne | Q41: Ne | R41: Ne | S41: Ne | T41: Ne | U41: Ne | V41: Ne | W41: Ne
A42: 10.36 | B42: Pasirinkimo pagrindimas | C42: Laisvas tekstas (ne daugiau kaip 300 simbolių). Nurodykite, kokie vietos projektams taikomi reikalavimai užtikrins, kad projektai prisidėtų prie partnerystės principo įgyvendinimo. | D42: Skatinama bendradarbiaujant organizacijoms integruoti gamtos ir kultūros išteklius, jų pagrindu sukurti ir teikti sveikatinimo paslaugas, pagerinti jų kokybę. Vienas iš atrankos kriterijų „Projektas įgyvendinamas kartu su partneriais" | E42: Skatinama bendradarbiaujant organizacijoms integruoti gamtos ir kultūros išteklius, jų pagrindu sukurti ir teikti darnaus turizmo paslaugas, pagerinti jų kokybę. Vienas iš atrankos kriterijų „Projektas įgyvendinamas kartu su partneriais" | F42: Siekiama platesnės partnerystės, tinklaveikos populiarinant teminius kaimus ir paslaugas, platesnio vietos ir išorinių suinteresuotųjų įsitraukimo į etnokultūrines veiklas, amatus, ugdyti bendruomenės rinkodarines kompetencijas. 1 atrankos kriterijų „Projektas įgyvendinamas kartu su partneriais". | G42: Siekiama platesnio naujų veiklų pasiskirstymo, partnerystės ryšių tarp kaimų, sektorių ir veiklų; tinklaveikos, paslaugų prieinamumo, aplinkosauginio sąmoningumo, prisidėjimo prie klimato kaitos švelninimo. Vienas iš atrankos kriterijų „Projektas įgyvendinamas kartu su partneriais". | H42: Siekiama platesnės tinklaveikos populiarinant sveikatinimo ir turizmo paslaugas, platesnio suinteresuotųjų įsitraukimo į verslumą skatinančias veiklas, amatų vystymą, ugdyti bendruomenės rinkodarines kompetencijas. Vienas iš atrankos kriterijų „Projektas įgyvendinamas kartu su partneriais". | I42: Skatinama bendradarbiaujant organizacijoms integruoti gamtos ir kultūros išteklius, jų pagrindu sukurti ir teikti sveikatinimo paslaugas, pagerinti jų kokybę, veiklos bus vykdomos su partnere - VVG | J42: Skatinama bendradarbiaujant organizacijoms integruoti gamtos ir kultūros išteklius, jų pagrindu sukurti ir teikti sveikatinimo paslaugas, pagerinti jų kokybę, veiklos bus vykdomos su partnere - VVG | K42: Siekiama platesnio naujų veiklų pasiskirstymo, partnerystės ryšių tarp kaimų, sektorių ir veiklų; tinklaveikos, paslaugų prieinamumo, aplinkosauginio sąmoningumo, prisidėjimo prie klimato kaitos švelninimo. Vienas iš atrankos kriterijų „Projektas įgyvendinamas kartu su partneriais".
A43: 10.37 | B43: Inovacijų principas: | C43: EILUTĖ NEPILDOMA.
A44: 10.38 | B44: Ar siekiama, kad pagal priemonę finansuojami projektai būtų skirti inovacijoms vietos lygiu diegti? | C44: =C41 -> Pasirinkite iš sąrašo. Galimi 3 variantai: 1) "Taip, privalomai" (kai reikalavimas bus taikomas visiems priemonės projektams, pavyzdžiui, kaip tinkamumo sąlyga); 2) "Taip, pasirinktinai" (kai pareiškėjai turės galimybę pasirinkti, ar atsižvelgti į reikalavimą, arba reikalavimas bus taikomas tik daliai kvietimų ar vietos projektų, pavyzdžiui, suteikiant papildomus atrankos balus); 3) "Ne" (kai reikalavimas neaktualus arba netaikomas). | D44: Ne | E44: Ne | F44: Taip, privalomai | G44: Ne | H44: Ne | I44: Taip, pasirinktinai | J44: Taip, pasirinktinai | K44: Taip, privalomai | L44: Ne | M44: Ne | N44: Ne | O44: Ne | P44: Ne | Q44: Ne | R44: Ne | S44: Ne | T44: Ne | U44: Ne | V44: Ne | W44: Ne
A45: 10.39 | B45: Pasirinkimo pagrindimas | C45: Laisvas tekstas (ne daugiau kaip 300 simbolių). Nurodykite, kokie vietos projektams taikomi reikalavimai užtikrins, kad pagal priemonę finansuojami projektai prisidėtų inovacijų diegimo vietos lygiu. Nurodykite, kas bus laikoma inovacija vietos lygiu (jei to nenurodėte priemonės aprašymo B dalyje). Jei reikalavimas diegti inovacijas bus taikomas pasirinktinai, nurodykite, kaip apskaičiavote pagal priemonę planuojamų paremti vietos projektų, skirtų inovacijoms vietos lygiu diegti, skaičių, kuris nurodytas 10.40 punkte. | F45: Priemone diegiamos socialinės inovacijos, bendruomeninio verslo projektai įgyvendinami NVO, savaime yra socialinės inovacijos. Šios priemonės tikslas yra paskatinti tvarių socialinio verslo modelių atsiradimą rajone | G45: Siekiama platesnio naujų veiklų pasiskirstymo, partnerystės ryšių tarp kaimų, sektorių ir veiklų; tinklaveikos, paslaugų prieinamumo, aplinkosauginio sąmoningumo, prisidėjimo prie klimato kaitos švelninimo. Vienas iš atrankos kriterijų „Projektas įgyvendinamas kartu su partneriais". | I45: Pagal poreikį inovacijos gali būti diegiamos. | J45: Pagal poreikį inovacijos gali būti diegiamos. | K45: Siekiama, kad vietos išteklių pagrindu kuriamos, diegiamos įvairios inovacijos, diegiami dalijimosi, žiedinės bioekonomikos principai ir pan. Inovacija bus vertinama (seniūnijos lygmeniu) pagal ŽUM paruoštą inovacijų vertinimo metodiką.
A46: 10.40 | B46: Planuojama paremti projektų, skirtų inovacijoms vietos lygiu diegti (rodiklis L710) | C46: Nurodykite tik sveiką skaičių be tarpų. Maksimali reikšmė - 200. Šiame punkte pateikti duomenys naudojami 6 lape. Jei nebus remiami projektai, skirti inovacijoms vietos lygiu diegti, nurodykite 0. | F46: 5 | G46: 0 | K46: 2
A47: 10.41 | B47: Lyčių lygybė ir nediskriminavimas: | C47: EILUTĖ NEPILDOMA.
A48: 10.42 | B48: Ar pagal priemonę finansuojami projektai, skirti lyčių lygybei ir nediskriminavimui? | C48: Pasirinkite taip arba ne. Pasirinkus "Taip" ir planuojant kurti naujas darbo vietas (priemonei taikant rodiklį R.37, kuris pasirenkamas šio aprašymo 10.50 punkte), gali būti aktualu užpildyti 13 lapą. Atkreipiame dėmesį, kad lyčių lygybės ir nediskriminavimo principas turi būti suprantamas taip, kaip jis apibrėžtas Strateginio valdymo įstatymo 4 straipsnyje. | D48: Taip | E48: Taip | F48: Taip | G48: Ne | H48: Taip | I48: Taip | J48: Taip | K48: Taip | L48: Taip | M48: Ne | N48: Ne | O48: Ne | P48: Ne | Q48: Ne | R48: Ne | S48: Ne | T48: Ne | U48: Ne | V48: Ne | W48: Ne
A49: 10.43 | B49: Pasirinkimo pagrindimas (jei taip, kaip bus užtikrinta) | C49: Laisvas tekstas (ne daugiau kaip 300 simbolių). Jei 10.42 punkte pasirinkote "Taip", nurodykite, kokie vietos projektams taikomi reikalavimai užtikrins šio horizontalaus principo įgyvendinimą. Jei pasirinkote "Ne", šioje eilutėje įrašykite "Netaikoma". | D49: Visuose projektuose bus integruotas lyčių lygybės principas. Naudos gavėjams ir skirtingų tikslinių grupių atstovams bus suteiktos lygios teisės dalyvauti veiklose ir naudotis projektų rezultatais. Įvairioms socialinėms grupėms suteikta vienoda galimybė pasinaudoti parama pagal visus prioritetus. | E49: Visuose projektuose bus integruotas lyčių lygybės principas. Naudos gavėjams ir skirtingų tikslinių grupių atstovams bus suteiktos lygios teisės dalyvauti veiklose ir naudotis projektų rezultatais. Įvairioms socialinėms grupėms suteikta vienoda galimybė pasinaudoti parama pagal visus prioritetus | F49: Visuose projektuose bus integruotas lyčių lygybės principas. Naudos gavėjams ir skirtingų tikslinių grupių atstovams bus suteiktos lygios teisės dalyvauti veiklose ir naudotis projektų rezultatais. Įvairioms socialinėms grupėms suteikta vienoda galimybė pasinaudoti parama pagal visus prioritetus | G49: Visuose projektuose bus integruotas lyčių lygybės principas. Naudos gavėjams ir skirtingų tikslinių grupių atstovams bus suteiktos lygios teisės dalyvauti veiklose ir naudotis projektų rezultatais. Įvairioms socialinėms grupėms suteikta vienoda galimybė pasinaudoti parama pagal visus prioritetus | H49: Visuose projektuose bus integruotas lyčių lygybės principas. Naudos gavėjams ir skirtingų tikslinių grupių atstovams bus suteiktos lygios teisės dalyvauti veiklose ir naudotis projektų rezultatais. Įvairioms socialinėms grupėms suteikta vienoda galimybė pasinaudoti parama pagal visus prioritetus | I49: Visuose projektuose bus integruotas lyčių lygybės principas. Naudos gavėjams ir skirtingų tikslinių grupių atstovams bus suteiktos lygios teisės dalyvauti veiklose ir naudotis projektų rezultatais. Įvairioms socialinėms grupėms suteikta vienoda galimybė pasinaudoti parama pagal visus prioritetus | J49: Visuose projektuose bus integruotas lyčių lygybės principas. Naudos gavėjams ir skirtingų tikslinių grupių atstovams bus suteiktos lygios teisės dalyvauti veiklose ir naudotis projektų rezultatais. Įvairioms socialinėms grupėms suteikta vienoda galimybė pasinaudoti parama pagal visus prioritetus | K49: Projektuose integruotas lyčių lygybės principas. Naudos gavėjams ir skirtingų tikslinių grupių atstovams bus suteiktos lygios teisės dalyvauti veiklose ir naudotis projektų rezultatais. Įvairioms socialinėms grupėms suteikta vienoda galimybė pasinaudoti parama pagal visus prioritetus
A50: 10.44 | B50: Jaunimas: | C50: EILUTĖ NEPILDOMA.
A51: 10.45 | B51: Ar pagal priemonę finansuojami projektai, skirti jaunimui? | C51: =C48 -> Pasirinkite taip arba ne. Pasirinkus "Taip" ir planuojant kurti naujas darbo vietas (priemonei taikant rodiklį R.37, kuris pasirenkamas šio aprašymo 10.50 punkte), gali būti aktualu užpildyti 13 lapą. Atkreipiame dėmesį, kad lyčių lygybės ir nediskriminavimo principas turi būti suprantamas taip, kaip jis apibrėžtas Strateginio valdymo įstatymo 4 straipsnyje. | D51: Taip | E51: Taip | F51: Taip | G51: Ne | H51: Taip | I51: Ne | J51: Ne | K51: Ne | L51: Ne | M51: Ne | N51: Ne | O51: Ne | P51: Ne | Q51: Ne | R51: Ne | S51: Ne | T51: Ne | U51: Ne | V51: Ne | W51: Ne
A52: 10.46 | B52: Pasirinkimo pagrindimas (jei taip, kaip bus užtikrinta) | C52: Laisvas tekstas (ne daugiau kaip 300 simbolių). Jei 10.45 punkte pasirinkote "Taip", nurodykite, kokie vietos projektams taikomi reikalavimai užtikrins šio horizontalaus principo įgyvendinimą. Jei pasirinkote "Ne", šioje eilutėje įrašykite "Netaikoma". | D52: Vienas iš projektų atrankos principų - į projekto veiklas įtraukiamas jaunimas iki 29, ir/arba jauni žmonės iki 40 m.. | E52: Vienas iš projektų atrankos principų - projekto tikslinė grupė jaunimas iki 29, ir/arba jauni žmonės iki 40 m.. Tai sudaro galimybes jaunam žmogui teikti savo projektus arba jaunimui įsidarbinti | F52: Vienas iš projektų atrankos principų - projekto tikslinė grupė vaikai ir jaunimas. Tai sudaro galimybes jaunimo organizacijai teikti savo projektus, didinti paslaugų prieinamumą jaunimui arba jaunimui įsidarbinti. | H52: Per atrankos kriterijus VP skirtas jaunimo iki 29 ir/arba jaunų žmonių iki 40 m. verslumui ugdyti, įtraukti į kaimo vietovių pokyčių valdymą, sveikatinimo ir turizmo paslaugoms populiarinti.
A53: 10.47 | B53: E dalis. Priemonės rezultato rodikliai: | C53: EILUTĖ NEPILDOMA.
A54: 10.48 | B54: SP rezultato rodiklių taikymas priemonei: | C54: EILUTĖ NEPILDOMA.
A55: 10.49 | B55: ='6'!B8 -> R.3 | C55: Pasirinkite taip arba ne. Pasirinkus "Taip" reikia užpildyti atitinkamą 11 lapo lentelę (nurodyti planuojamas rodiklio reikšmes). | D55: Ne | E55: Ne | F55: Ne | G55: Ne | H55: Ne | I55: Ne | J55: Ne | K55: Ne | L55: Ne | M55: Ne | N55: Ne | O55: Ne | P55: Ne | Q55: Ne | R55: Ne | S55: Ne | T55: Ne | U55: Ne | V55: Ne | W55: Ne
A56: 10.50 | B56: ='6'!B9 -> R.37 | C56: Pasirinkite taip arba ne. Pasirinkus "Taip" reikia užpildyti atitinkamą 11 lapo lentelę (nurodyti planuojamas rodiklio reikšmes). | D56: Taip | E56: Taip | F56: Taip | G56: Ne | H56: Ne | I56: Ne | J56: Ne | K56: Ne | L56: Ne | M56: Ne | N56: Ne | O56: Ne | P56: Ne | Q56: Ne | R56: Ne | S56: Ne | T56: Ne | U56: Ne | V56: Ne | W56: Ne
A57: 10.51 | B57: ='6'!B10 -> R.39 | C57: Pasirinkite taip arba ne. Pasirinkus "Taip" reikia užpildyti atitinkamą 11 lapo lentelę (nurodyti planuojamas rodiklio reikšmes). | D57: Taip | E57: Taip | F57: Taip | G57: Ne | H57: Ne | I57: Ne | J57: Ne | K57: Ne | L57: Ne | M57: Ne | N57: Ne | O57: Ne | P57: Ne | Q57: Ne | R57: Ne | S57: Ne | T57: Ne | U57: Ne | V57: Ne | W57: Ne
A58: 10.52 | B58: ='6'!B11 -> R.41 | C58: Pasirinkite taip arba ne. Pasirinkus "Taip" reikia užpildyti atitinkamą 11 lapo lentelę (nurodyti planuojamas rodiklio reikšmes). | D58: Ne | E58: Taip | F58: Taip | G58: Ne | H58: Ne | I58: Ne | J58: Ne | K58: Taip | L58: Ne | M58: Ne | N58: Ne | O58: Ne | P58: Ne | Q58: Ne | R58: Ne | S58: Ne | T58: Ne | U58: Ne | V58: Ne | W58: Ne
A59: 10.53 | B59: ='6'!B12 -> R.42 | C59: Pasirinkite taip arba ne. Pasirinkus "Taip" reikia užpildyti atitinkamą 11 lapo lentelę (nurodyti planuojamas rodiklio reikšmes). | D59: Ne | E59: Ne | F59: Taip | G59: Ne | H59: Taip | I59: Taip | J59: Taip | K59: Taip | L59: Ne | M59: Ne | N59: Ne | O59: Ne | P59: Ne | Q59: Ne | R59: Ne | S59: Ne | T59: Ne | U59: Ne | V59: Ne | W59: Ne
A60: 10.54 | B60: VPS rodiklių taikymas priemonei: | C60: EILUTĖ NEPILDOMA.
A61: 10.55 | B61: ='6'!B35 -> ALYT-P.1 | C61: Pasirinkite taip arba ne. Pasirinkus "Taip" reikia užpildyti atitinkamą 11 lapo lentelę (nurodyti planuojamas rodiklio reikšmes). | D61: Ne | E61: Ne | F61: Ne | G61: Ne | H61: Ne | I61: Ne | J61: Ne | K61: Ne | L61: Ne | M61: Ne | N61: Ne | O61: Ne | P61: Ne | Q61: Ne | R61: Ne | S61: Ne | T61: Ne | U61: Ne | V61: Ne | W61: Ne
A62: 10.56 | B62: ='6'!B36 -> ALYT-P.2 | C62: Pasirinkite taip arba ne. Pasirinkus "Taip" reikia užpildyti atitinkamą 11 lapo lentelę (nurodyti planuojamas rodiklio reikšmes). | D62: Ne | E62: Ne | F62: Ne | G62: Ne | H62: Ne | I62: Ne | J62: Ne | K62: Ne | L62: Ne | M62: Ne | N62: Ne | O62: Ne | P62: Ne | Q62: Ne | R62: Ne | S62: Ne | T62: Ne | U62: Ne | V62: Ne | W62: Ne
A63: 10.57 | B63: ='6'!B37 -> ALYT-P.3 | C63: Pasirinkite taip arba ne. Pasirinkus "Taip" reikia užpildyti atitinkamą 11 lapo lentelę (nurodyti planuojamas rodiklio reikšmes). | D63: Ne | E63: Ne | F63: Ne | G63: Ne | H63: Ne | I63: Ne | J63: Ne | K63: Ne | L63: Ne | M63: Ne | N63: Ne | O63: Ne | P63: Ne | Q63: Ne | R63: Ne | S63: Ne | T63: Ne | U63: Ne | V63: Ne | W63: Ne
A64: 10.58 | B64: ='6'!B38 -> ALYT-P.4 | C64: Pasirinkite taip arba ne. Pasirinkus "Taip" reikia užpildyti atitinkamą 11 lapo lentelę (nurodyti planuojamas rodiklio reikšmes). | D64: Ne | E64: Ne | F64: Ne | G64: Ne | H64: Ne | I64: Ne | J64: Ne | K64: Ne | L64: Ne | M64: Ne | N64: Ne | O64: Ne | P64: Ne | Q64: Ne | R64: Ne | S64: Ne | T64: Ne | U64: Ne | V64: Ne | W64: Ne
A65: 10.59 | B65: ='6'!B39 -> ALYT-P.5 | C65: Pasirinkite taip arba ne. Pasirinkus "Taip" reikia užpildyti atitinkamą 11 lapo lentelę (nurodyti planuojamas rodiklio reikšmes). | D65: Ne | E65: Ne | F65: Ne | G65: Ne | H65: Ne | I65: Ne | J65: Ne | K65: Ne | L65: Ne | M65: Ne | N65: Ne | O65: Ne | P65: Ne | Q65: Ne | R65: Ne | S65: Ne | T65: Ne | U65: Ne | V65: Ne | W65: Ne
A66: 10.60 | B66: ='6'!B40 -> ALYT-P.6 | C66: Pasirinkite taip arba ne. Pasirinkus "Taip" reikia užpildyti atitinkamą 11 lapo lentelę (nurodyti planuojamas rodiklio reikšmes). | D66: Ne | E66: Ne | F66: Ne | G66: Ne | H66: Ne | I66: Ne | J66: Ne | K66: Ne | L66: Ne | M66: Ne | N66: Ne | O66: Ne | P66: Ne | Q66: Ne | R66: Ne | S66: Ne | T66: Ne | U66: Ne | V66: Ne | W66: Ne
A67: 10.61 | B67: ='6'!B41 -> ALYT-P.7 | C67: Pasirinkite taip arba ne. Pasirinkus "Taip" reikia užpildyti atitinkamą 11 lapo lentelę (nurodyti planuojamas rodiklio reikšmes). | D67: Ne | E67: Ne | F67: Ne | G67: Ne | H67: Ne | I67: Ne | J67: Ne | K67: Ne | L67: Ne | M67: Ne | N67: Ne | O67: Ne | P67: Ne | Q67: Ne | R67: Ne | S67: Ne | T67: Ne | U67: Ne | V67: Ne | W67: Ne
A68: 10.62 | B68: ='6'!B42 -> ALYT-P.8 | C68: Pasirinkite taip arba ne. Pasirinkus "Taip" reikia užpildyti atitinkamą 11 lapo lentelę (nurodyti planuojamas rodiklio reikšmes). | D68: Ne | E68: Ne | F68: Ne | G68: Ne | H68: Ne | I68: Ne | J68: Ne | K68: Ne | L68: Ne | M68: Ne | N68: Ne | O68: Ne | P68: Ne | Q68: Ne | R68: Ne | S68: Ne | T68: Ne | U68: Ne | V68: Ne | W68: Ne
A69: 10.63 | B69: ='6'!B43 -> ALYT-P.9 | C69: Pasirinkite taip arba ne. Pasirinkus "Taip" reikia užpildyti atitinkamą 11 lapo lentelę (nurodyti planuojamas rodiklio reikšmes). | D69: Ne | E69: Ne | F69: Ne | G69: Ne | H69: Ne | I69: Ne | J69: Ne | K69: Ne | L69: Ne | M69: Ne | N69: Ne | O69: Ne | P69: Ne | Q69: Ne | R69: Ne | S69: Ne | T69: Ne | U69: Ne | V69: Ne | W69: Ne
A70: 10.64 | B70: ='6'!B44 -> ALYT-P.10 | C70: Pasirinkite taip arba ne. Pasirinkus "Taip" reikia užpildyti atitinkamą 11 lapo lentelę (nurodyti planuojamas rodiklio reikšmes). | D70: Ne | E70: Ne | F70: Ne | G70: Ne | H70: Ne | I70: Ne | J70: Ne | K70: Ne | L70: Ne | M70: Ne | N70: Ne | O70: Ne | P70: Ne | Q70: Ne | R70: Ne | S70: Ne | T70: Ne | U70: Ne | V70: Ne | W70: Ne
A71: 10.65 | B71: F dalis. Pagal priemonę remiamų projektų pobūdis: | C71: EILUTĖ NEPILDOMA.
A72: 10.66 | B72: Remiami pelno projektai | C72: Pasirinkite taip arba ne. | D72: Taip | E72: Taip | F72: Taip | G72: Ne | H72: Ne | I72: Ne | J72: Ne | K72: Ne | L72: Ne | M72: Ne | N72: Ne | O72: Ne | P72: Ne | Q72: Ne | R72: Ne | S72: Ne | T72: Ne | U72: Ne | V72: Ne | W72: Ne
A73: 10.67 | B73: Remiami projektai, susiję su žinių perdavimu, įskaitant konsultacijas, mokymą ir keitimąsi žiniomis apie tvarią, ekonominę, socialinę, aplinką ir klimatą tausojančią veiklą (aktualu rodikliui L801) | C73: Pasirinkite taip arba ne. Šie projektai prisideda prie BŽŪP kompleksinio tikslo. Jei pagal VPS priemonę finansuojami tokie projektai, priemonė galėtų siekti rodiklio R.3 arba VVG pasirinktų produkto ir (arba) rezultato rodiklių, susijusių su BŽŪP kompleksiniu tikslu (galima rinktis SP reglamento 1 priede nurodytus rodiklius). | D73: Ne | E73: Ne | F73: Ne | G73: Ne | H73: Taip | I73: Taip | J73: Taip | K73: Ne | L73: Ne | M73: Ne | N73: Ne | O73: Ne | P73: Ne | Q73: Ne | R73: Ne | S73: Ne | T73: Ne | U73: Ne | V73: Ne | W73: Ne
A74: 10.68 | B74: Remiami projektai, susiję su gamintojų organizacijomis, vietinėmis rinkomis, trumpomis tiekimo grandinėmis ir kokybės schemomis, įskaitant paramą investicijoms, rinkodaros veiklą ir kt. (aktualu rodikliui L802) | C74: Pasirinkite taip arba ne. Šie projektai prisideda prie BŽŪP 3 konkretaus tikslo. Jei pagal VPS priemonę finansuojami tokie projektai, priemonė galėtų siekti VVG pasirinktų produkto ir (arba) rezultato rodiklių, susijusių su BŽŪP 3 konkrečiu tikslu (galima rinktis SP reglamento 1 priede nurodytus rodiklius). | D74: Taip | E74: Taip | F74: Taip | G74: Ne | H74: Taip | I74: Ne | J74: Ne | K74: Ne | L74: Ne | M74: Ne | N74: Ne | O74: Ne | P74: Ne | Q74: Ne | R74: Ne | S74: Ne | T74: Ne | U74: Ne | V74: Ne | W74: Ne
A75: 10.69 | B75: Remiami projektai, susiję su atsinaujinančios energijos gamybos pajėgumais, įskaitant biologinę (aktualu rodikliui L803) | C75: Pasirinkite taip arba ne. Šie projektai prisideda prie BŽŪP 4 konkretaus tikslo. Jei pagal VPS priemonę finansuojami tokie projektai, priemonė galėtų siekti VVG pasirinktų produkto ir (arba) rezultato rodiklių, susijusių su BŽŪP 4 konkrečiu tikslu (galima rinktis SP reglamento 1 priede nurodytus rodiklius). | D75: Ne | E75: Taip | F75: Taip | G75: Ne | H75: Ne | I75: Ne | J75: Ne | K75: Ne | L75: Ne | M75: Ne | N75: Ne | O75: Ne | P75: Ne | Q75: Ne | R75: Ne | S75: Ne | T75: Ne | U75: Ne | V75: Ne | W75: Ne
A76: 10.70 | B76: Remiami projektai, prisidedantys prie aplinkos tvarumo, klimato kaitos švelninimo bei prisitaikymo prie jos tikslų įgyvendinimo kaimo vietovėse (aktualu rodikliui L804) | C76: Pasirinkite taip arba ne. Šie projektai prisideda prie BŽŪP 4 konkretaus tikslo. Jei pagal VPS priemonę finansuojami tokie projektai, priemonė galėtų siekti VVG pasirinktų produkto ir (arba) rezultato rodiklių, susijusių su BŽŪP 4 konkrečiu tikslu (galima rinktis SP reglamento 1 priede nurodytus rodiklius). | D76: Taip | E76: Taip | F76: Taip | G76: Ne | H76: Taip | I76: Taip | J76: Taip | K76: Taip | L76: Ne | M76: Ne | N76: Ne | O76: Ne | P76: Ne | Q76: Ne | R76: Ne | S76: Ne | T76: Ne | U76: Ne | V76: Ne | W76: Ne
A77: 10.71 | B77: Remiami projektai, kurie kuria darbo vietas (aktualu rodikliui L805) | C77: Pasirinkite taip arba ne. Šie projektai prisideda prie BŽŪP 8 konkretaus tikslo. Jei pagal VPS priemonę finansuojami tokie projektai, priemonė turėtų siekti rodiklio R.37. | D77: Ne | E77: Taip | F77: Ne | G77: Ne | H77: Ne | I77: Ne | J77: Ne | K77: Ne | L77: Ne | M77: Ne | N77: Ne | O77: Ne | P77: Ne | Q77: Ne | R77: Ne | S77: Ne | T77: Ne | U77: Ne | V77: Ne | W77: Ne
A78: 10.72 | B78: Remiami kaimo verslų, įskaitant bioekonomiką, projektai (aktualu rodikliui L 806) | C78: Pasirinkite taip arba ne. Šie projektai prisideda prie BŽŪP 8 konkretaus tikslo. Jei pagal VPS priemonę finansuojami tokie projektai, priemonė turėtų siekti rodiklio R.39. | D78: Taip | E78: Taip | F78: Taip | G78: Ne | H78: Ne | I78: Ne | J78: Ne | K78: Ne | L78: Ne | M78: Ne | N78: Ne | O78: Ne | P78: Ne | Q78: Ne | R78: Ne | S78: Ne | T78: Ne | U78: Ne | V78: Ne | W78: Ne
A79: 10.73 | B79: Remiami projektai, susiję su sumanių kaimų strategijomis (aktualu rodikliui L807) | C79: Pasirinkite taip arba ne. Šie projektai prisideda prie BŽŪP 8 konkretaus tikslo. Jei pagal VPS priemonę finansuojami tokie projektai, priemonė galėtų siekti rodiklio R.38 (žr. SP reglamento 1 priedą). | D79: Ne | E79: Ne | F79: Ne | G79: Ne | H79: Ne | I79: Ne | J79: Ne | K79: Ne | L79: Ne | M79: Ne | N79: Ne | O79: Ne | P79: Ne | Q79: Ne | R79: Ne | S79: Ne | T79: Ne | U79: Ne | V79: Ne | W79: Ne
A80: 10.74 | B80: Remiami projektai, gerinantys paslaugų prieinamumą ir infrastruktūrą (aktualu rodikliui L808) | C80: Pasirinkite taip arba ne. Šie projektai prisideda prie BŽŪP 8 konkretaus tikslo. Jei pagal VPS priemonę finansuojami tokie projektai, priemonė turėtų siekti rodiklio R.41. | D80: Taip | E80: Taip | F80: Taip | G80: Ne | H80: Ne | I80: Ne | J80: Ne | K80: Taip | L80: Ne | M80: Ne | N80: Ne | O80: Ne | P80: Ne | Q80: Ne | R80: Ne | S80: Ne | T80: Ne | U80: Ne | V80: Ne | W80: Ne
A81: 10.75 | B81: Remiami socialinės įtraukties projektai (aktualu rodikliui L809) | C81: Pasirinkite taip arba ne. Šie projektai prisideda prie BŽŪP 8 konkretaus tikslo. Jei pagal VPS priemonę finansuojami tokie projektai, priemonė turėtų siekti rodiklio R.42. | D81: Ne | E81: Ne | F81: Ne | G81: Ne | H81: Taip | I81: Ne | J81: Ne | K81: Taip | L81: Ne | M81: Ne | N81: Ne | O81: Ne | P81: Ne | Q81: Ne | R81: Ne | S81: Ne | T81: Ne | U81: Ne | V81: Ne | W81: Ne

Sheet 11
A1: 11. | B1: VPS priemonių rodikliai ir metiniai tikslai
B3: VVG: | C3: ='1'!C8 -> ALYT
B5: 1 | C5: 2 | D5: 3 | E5: 4 | F5: 5 | G5: 6 | H5: 7 | I5: 8 | J5: 9 | K5: 10 | L5: 11 | M5: 12 | N5: 13 | O5: 14 | P5: 15 | Q5: 16 | R5: 17 | S5: 18 | T5: 19 | U5: 20 | V5: 21 | W5: 22 | Y5: (slėpti)
A6: 11.1 | B6: 1 lentelė | C6: R.3 | D6: 1 priemonė | E6: 2 priemonė | F6: 3 priemonė | G6: 4 priemonė | H6: 5 priemonė | I6: 6 priemonė | J6: 7 priemonė | K6: 8 priemonė | L6: 9 priemonė | M6: 10 priemonė | N6: 11 priemonė | O6: 12 priemonė | P6: 13 priemonė | Q6: 14 priemonė | R6: 15 priemonė | S6: 16 priemonė | T6: 17 priemonė | U6: 18 priemonė | V6: 19 priemonė | W6: 20 priemonė | Y6: Adreso eilutė
A7: 11.2 | C7: Iš viso | D7: ='10'!D7 -> Sveikatinimo paslaugų kokybės gerinimas ir prieinamumo didinimas | E7: ='10'!E7 -> Darnaus turizmo verslo kūrimas ir plėtra integruojant vietos kultūros ir gamtos išteklius | F7: ='10'!F7 -> Teminių kaimų kūrimas ir vietos produktų populiarinimas | G7: ='10'!G7 -> Įtraukios infrastruktūros vystymas taikant sumanius sprendimus | H7: ='10'!H7 -> Jaunimo verslumo ir įtraukties skatinimas | I7: ='10'!I7 -> Teritorinis VVG bendradarbiavimas | J7: ='10'!J7 -> Tarptautinis VVG bendradarbiavimas | K7: ='10'!K7 -> Įtraukios infrastruktūros vystymas taikant sumanius sprendimus | ... W7: ='10'!W7 -> 0
A8: 11.3 | B8: Ar rodiklis taikomas VPS priemonei? | C8: =COUNTIFS(D8:W8,"taip") -> 0 | D8: =HLOOKUP(D$6,'10'!D$6:D$70,$Y8,FALSE) -> Ne | E8: =HLOOKUP(E$6,'10'!E$6:E$70,$Y8,FALSE) -> Ne | F8: =HLOOKUP(F$6,'10'!F$6:F$70,$Y8,FALSE) -> Ne | G8: =HLOOKUP(G$6,'10'!G$6:G$70,$Y8,FALSE) -> Ne | H8: =HLOOKUP(H$6,'10'!H$6:H$70,$Y8,FALSE) -> Ne | I8: =HLOOKUP(I$6,'10'!I$6:I$70,$Y8,FALSE) -> Ne | J8: =HLOOKUP(J$6,'10'!J$6:J$70,$Y8,FALSE) -> Ne | K8: =HLOOKUP(K$6,'10'!K$6:K$70,$Y8,FALSE) -> Ne | ... W8: =HLOOKUP(W$6,'10'!W$6:W$70,$Y8,FALSE) -> Ne | Y8: 50
A9: 11.4 | B9: Kiekybinis tikslas iki 2029 m. | C9: =SUM(D9:W9) -> 0
A10: 11.5 | B10: Metiniai tikslai:
A11: 11.6 | B11: 2024 m.
A12: 11.7 | B12: 2025 m.
A13: 11.8 | B13: 2026 m.
A14: 11.9 | B14: 2027 m.
A15: 11.10 | B15: 2028 m.
A16: 11.11 | B16: 2029 m.
A17: 11.12 | B17: 2030 m.
A18: 11.13 | B18: 2031 m.
A19: 11.14 | B19: Iš viso | C19: =SUM(C11:C16) -> 0
A20: 11.15 | B20: Klaidų tikrinimas | C20: =IF(C9=C19,"Gerai","Klaida") -> Gerai
A21: 11.16
A22: 11.17 | B22: 2 lentelė | C22: R.37 | D22: 1 priemonė | E22: 2 priemonė | F22: 3 priemonė | G22: 4 priemonė | H22: 5 priemonė | I22: 6 priemonė | J22: 7 priemonė | K22: 8 priemonė | L22: 9 priemonė | M22: 10 priemonė | N22: 11 priemonė | O22: 12 priemonė | P22: 13 priemonė | Q22: 14 priemonė | R22: 15 priemonė | S22: 16 priemonė | T22: 17 priemonė | U22: 18 priemonė | V22: 19 priemonė | W22: 20 priemonė
A23: 11.18 | C23: Iš viso
A24: 11.19 | B24: =$B$8 -> Ar rodiklis taikomas VPS priemonei? | C24: =COUNTIFS(D24:W24,"taip") -> 3 | D24: =HLOOKUP(D$6,'10'!D$6:D$70,$Y24,FALSE) -> Taip | E24: =HLOOKUP(E$6,'10'!E$6:E$70,$Y24,FALSE) -> Taip | F24: =HLOOKUP(F$6,'10'!F$6:F$70,$Y24,FALSE) -> Taip | G24: =HLOOKUP(G$6,'10'!G$6:G$70,$Y24,FALSE) -> Ne | H24: =HLOOKUP(H$6,'10'!H$6:H$70,$Y24,FALSE) -> Ne | I24: =HLOOKUP(I$6,'10'!I$6:I$70,$Y24,FALSE) -> Ne | J24: =HLOOKUP(J$6,'10'!J$6:J$70,$Y24,FALSE) -> Ne | K24: =HLOOKUP(K$6,'10'!K$6:K$70,$Y24,FALSE) -> Ne | ... W24: =HLOOKUP(W$6,'10'!W$6:W$70,$Y24,FALSE) -> Ne | Y24: 51
A25: 11.20 | B25: =B9 -> Kiekybinis tikslas iki 2029 m. | C25: =SUM(D25:W25) -> 18 | D25: 6.5 | E25: 6.5 | F25: 5
A26: 11.21 | B26: Ar aktualus darbo vietų paskirstymas pagal lytį? | D26: Ne | E26: Ne | F26: Ne | G26: Ne | H26: Ne | I26: Ne | J26: Ne | K26: Ne | L26: Ne | M26: Ne | N26: Ne | O26: Ne | P26: Ne | Q26: Ne | R26: Ne | S26: Ne | T26: Ne | U26: Ne | V26: Ne | W26: Ne
A27: 11.22 | B27: Ar aktualus darbo vietų paskirstymas pagal amžių? | D27: Ne | E27: Taip | F27: Ne | G27: Ne | H27: Ne | I27: Ne | J27: Ne | K27: Ne | L27: Ne | M27: Ne | N27: Ne | O27: Ne | P27: Ne | Q27: Ne | R27: Ne | S27: Ne | T27: Ne | U27: Ne | V27: Ne | W27: Ne
A28: 11.23 | B28: Metiniai tikslai:
A29: 11.24 | B29: 2024 m. | C29: 0
A30: 11.25 | B30: 2025 m. | C30: 0
A31: 11.26 | B31: 2026 m. | C31: 16 | D31: 6.5 | E31: 6.5 | F31: 3
A32: 11.27 | B32: 2027 m. | C32: 2 | F32: 2
A33: 11.28 | B33: 2028 m.
A34: 11.29 | B34: 2029 m.
A35: 11.30 | B35: 2030 m.
A36: 11.31 | B36: 2031 m.
A37: 11.32 | B37: Iš viso | C37: =SUM(C29:C34) -> 18
A38: 11.33 | B38: Klaidų tikrinimas | C38: =IF(C25=C37,"Gerai","Klaida") -> Gerai
A39: 11.34
A40: 11.35 | B40: 3 lentelė | C40: R.39 | D40: 1 priemonė | E40: 2 priemonė | F40: 3 priemonė | G40: 4 priemonė | H40: 5 priemonė | I40: 6 priemonė | J40: 7 priemonė | K40: 8 priemonė | L40: 9 priemonė | M40: 10 priemonė | N40: 11 priemonė | O40: 12 priemonė | P40: 13 priemonė | Q40: 14 priemonė | R40: 15 priemonė | S40: 16 priemonė | T40: 17 priemonė | U40: 18 priemonė | V40: 19 priemonė | W40: 20 priemonė
A41: 11.36 | C41: Iš viso
A42: 11.37 | B42: =$B$8 -> Ar rodiklis taikomas VPS priemonei? | C42: =COUNTIFS(D42:W42,"taip") -> 3 | D42: =HLOOKUP(D$6,'10'!D$6:D$70,$Y42,FALSE) -> Taip | E42: =HLOOKUP(E$6,'10'!E$6:E$70,$Y42,FALSE) -> Taip | F42: =HLOOKUP(F$6,'10'!F$6:F$70,$Y42,FALSE) -> Taip | G42: =HLOOKUP(G$6,'10'!G$6:G$70,$Y42,FALSE) -> Ne | H42: =HLOOKUP(H$6,'10'!H$6:H$70,$Y42,FALSE) -> Ne | I42: =HLOOKUP(I$6,'10'!I$6:I$70,$Y42,FALSE) -> Ne | J42: =HLOOKUP(J$6,'10'!J$6:J$70,$Y42,FALSE) -> Ne | K42: =HLOOKUP(K$6,'10'!K$6:K$70,$Y42,FALSE) -> Ne | ... W42: =HLOOKUP(W$6,'10'!W$6:W$70,$Y42,FALSE) -> Ne | Y42: 52
A43: 11.38 | B43: =$B$9 -> Kiekybinis tikslas iki 2029 m. | C43: =SUM(D43:W43) -> 13 | D43: 4 | E43: 4 | F43: 5
A44: 11.39 | B44: Metiniai tikslai:
A45: 11.40 | B45: 2024 m. | C45: 0
A46: 11.41 | B46: 2025 m. | C46: 0
A47: 11.42 | B47: 2026 m. | C47: 8 | D47: 4 | E47: 4
A48: 11.43 | B48: 2027 m. | C48: 5 | F48: 5
A49: 11.44 | B49: 2028 m.
A50: 11.45 | B50: 2029 m.
A51: 11.46 | B51: 2030 m.
A52: 11.47 | B52: 2031 m.
A53: 11.48 | B53: Iš viso | C53: =SUM(C45:C50) -> 13
A54: 11.49 | B54: Klaidų tikrinimas | C54: =IF(C43=C53,"Gerai","Klaida") -> Gerai
A55: 11.50
A56: 11.51 | B56: 4 lentelė | C56: R.41 | D56: 1 priemonė | E56: 2 priemonė | F56: 3 priemonė | G56: 4 priemonė | H56: 5 priemonė | I56: 6 priemonė | J56: 7 priemonė | K56: 8 priemonė | L56: 9 priemonė | M56: 10 priemonė | N56: 11 priemonė | O56: 12 priemonė | P56: 13 priemonė | Q56: 14 priemonė | R56: 15 priemonė | S56: 16 priemonė | T56: 17 priemonė | U56: 18 priemonė | V56: 19 priemonė | W56: 20 priemonė
A57: 11.52 | C57: Iš viso
A58: 11.53 | B58: =$B$8 -> Ar rodiklis taikomas VPS priemonei? | C58: =COUNTIFS(D58:W58,"taip") -> 3 | D58: =HLOOKUP(D$6,'10'!D$6:D$70,$Y58,FALSE) -> Ne | E58: =HLOOKUP(E$6,'10'!E$6:E$70,$Y58,FALSE) -> Taip | F58: =HLOOKUP(F$6,'10'!F$6:F$70,$Y58,FALSE) -> Taip | G58: =HLOOKUP(G$6,'10'!G$6:G$70,$Y58,FALSE) -> Ne | H58: =HLOOKUP(H$6,'10'!H$6:H$70,$Y58,FALSE) -> Ne | I58: =HLOOKUP(I$6,'10'!I$6:I$70,$Y58,FALSE) -> Ne | J58: =HLOOKUP(J$6,'10'!J$6:J$70,$Y58,FALSE) -> Ne | K58: =HLOOKUP(K$6,'10'!K$6:K$70,$Y58,FALSE) -> Taip | ... W58: =HLOOKUP(W$6,'10'!W$6:W$70,$Y58,FALSE) -> Ne | Y58: 53
A59: 11.54 | B59: =$B$9 -> Kiekybinis tikslas iki 2029 m. | C59: =SUM(D59:W59) -> 4990 | E59: 2244 | F59: 1250 | K59: 1496
A60: 11.55 | B60: Metiniai tikslai:
A61: 11.56 | B61: 2024 m.
A62: 11.57 | B62: 2025 m.
A63: 11.58 | B63: 2026 m. | C63: 4116 | E63: 2244 | F63: 376 | K63: 1496
A64: 11.59 | B64: 2027 m. | C64: 874 | F64: 874
A65: 11.60 | B65: 2028 m.
A66: 11.61 | B66: 2029 m.
A67: 11.62 | B67: 2030 m.
A68: 11.63 | B68: 2031 m.
A69: 11.64 | B69: Iš viso | C69: =SUM(C61:C66) -> 4990
A70: 11.65 | B70: Klaidų tikrinimas | C70: =IF(C59=C69,"Gerai","Klaida") -> Gerai
A71: 11.66
A72: 11.67 | B72: 5 lentelė | C72: R.42 | D72: 1 priemonė | E72: 2 priemonė | F72: 3 priemonė | G72: 4 priemonė | H72: 5 priemonė | I72: 6 priemonė | J72: 7 priemonė | K72: 8 priemonė | L72: 9 priemonė | M72: 10 priemonė | N72: 11 priemonė | O72: 12 priemonė | P72: 13 priemonė | Q72: 14 priemonė | R72: 15 priemonė | S72: 16 priemonė | T72: 17 priemonė | U72: 18 priemonė | V72: 19 priemonė | W72: 20 priemonė
A73: 11.68 | C73: Iš viso
A74: 11.69 | B74: =$B$8 -> Ar rodiklis taikomas VPS priemonei? | C74: =COUNTIFS(D74:W74,"taip") -> 5 | D74: =HLOOKUP(D$6,'10'!D$6:D$70,$Y74,FALSE) -> Ne | E74: =HLOOKUP(E$6,'10'!E$6:E$70,$Y74,FALSE) -> Ne | F74: =HLOOKUP(F$6,'10'!F$6:F$70,$Y74,FALSE) -> Taip | G74: =HLOOKUP(G$6,'10'!G$6:G$70,$Y74,FALSE) -> Ne | H74: =HLOOKUP(H$6,'10'!H$6:H$70,$Y74,FALSE) -> Taip | I74: =HLOOKUP(I$6,'10'!I$6:I$70,$Y74,FALSE) -> Taip | J74: =HLOOKUP(J$6,'10'!J$6:J$70,$Y74,FALSE) -> Taip | K74: =HLOOKUP(K$6,'10'!K$6:K$70,$Y74,FALSE) -> Taip | ... W74: =HLOOKUP(W$6,'10'!W$6:W$70,$Y74,FALSE) -> Ne | Y74: 54
A75: 11.70 | B75: =$B$9 -> Kiekybinis tikslas iki 2029 m. | C75: =SUM(D75:W75) -> 879 | E75: 0 | F75: 310 | G75: 0 | H75: 175 | I75: 10 | J75: 10 | K75: 374
A76: 11.71 | B76: Metiniai tikslai:
A77: 11.72 | B77: 2024 m.
A78: 11.73 | B78: 2025 m.
A79: 11.74 | B79: 2026 m. | C79: 673 | F79: 310 | K79: 363
A80: 11.75 | B80: 2027 m. | C80: 206 | H80: 175 | I80: 10 | J80: 10 | K80: 11
A81: 11.76 | B81: 2028 m.
A82: 11.77 | B82: 2029 m.
A83: 11.78 | B83: 2030 m.
A84: 11.79 | B84: 2031 m.
A85: 11.80 | B85: Iš viso | C85: =SUM(C77:C82) -> 879
A86: 11.81 | B86: Klaidų tikrinimas | C86: =IF(C75=C85,"Gerai","Klaida") -> Gerai
A87: 11.82
A88: 11.83 | B88: 6 lentelė | C88: ='6'!B35 -> ALYT-P.1 | D88: 1 priemonė | E88: 2 priemonė | F88: 3 priemonė | G88: 4 priemonė | H88: 5 priemonė | I88: 6 priemonė | J88: 7 priemonė | K88: 8 priemonė | L88: 9 priemonė | M88: 10 priemonė | N88: 11 priemonė | O88: 12 priemonė | P88: 13 priemonė | Q88: 14 priemonė | R88: 15 priemonė | S88: 16 priemonė | T88: 17 priemonė | U88: 18 priemonė | V88: 19 priemonė | W88: 20 priemonė
A89: 11.84 | C89: Iš viso
A90: 11.85 | B90: =$B$8 -> Ar rodiklis taikomas VPS priemonei? | C90: =COUNTIFS(D90:W90,"taip") -> 0 | D90: =HLOOKUP(D$6,'10'!D$6:D$70,$Y90,FALSE) -> Ne | E90: =HLOOKUP(E$6,'10'!E$6:E$70,$Y90,FALSE) -> Ne | F90: =HLOOKUP(F$6,'10'!F$6:F$70,$Y90,FALSE) -> Ne | G90: =HLOOKUP(G$6,'10'!G$6:G$70,$Y90,FALSE) -> Ne | H90: =HLOOKUP(H$6,'10'!H$6:H$70,$Y90,FALSE) -> Ne | I90: =HLOOKUP(I$6,'10'!I$6:I$70,$Y90,FALSE) -> Ne | J90: =HLOOKUP(J$6,'10'!J$6:J$70,$Y90,FALSE) -> Ne | K90: =HLOOKUP(K$6,'10'!K$6:K$70,$Y90,FALSE) -> Ne | ... W90: =HLOOKUP(W$6,'10'!W$6:W$70,$Y90,FALSE) -> Ne | Y90: 56
A91: 11.86 | B91: =$B$9 -> Kiekybinis tikslas iki 2029 m. | C91: =SUM(D91:W91) -> 0
A92: 11.87 | B92: Metiniai tikslai:
A93: 11.88 | B93: 2024 m.
A94: 11.89 | B94: 2025 m.
A95: 11.90 | B95: 2026 m.
A96: 11.91 | B96: 2027 m.
A97: 11.92 | B97: 2028 m.
A98: 11.93 | B98: 2029 m.
A99: 11.94 | B99: 2030 m.
A100: 11.95 | B100: 2031 m.
A101: 11.96 | B101: Iš viso | C101: =SUM(C93:C98) -> 0
A102: 11.97 | B102: Klaidų tikrinimas | C102: =IF(C91=C101,"Gerai","Klaida") -> Gerai
...

Sheet 12
A1: 12. | B1: VPS priemonių rezultato rodiklių pagrindimas
B3: VVG: | C3: ='1'!C8 -> ALYT
B5: 1 | C5: 2 | D5: 3 | E5: 4 | F5: 5 | G5: 6
B6: VPS priemonės numeris | C6: VPS priemonė | D6: Kiekybinis tikslas iki 2029 m. | E6: Kiekybinio tikslo pagrindimas | F6: Klaidų tikrinimas | G6: Pagrindimo ilgis
A7: 12.1 | B7: R.3 | C7: ='6'!C8 -> Žemės ūkio sektoriaus skaitmeninimas. Ūkių, pagal BŽŪP gaunančių paramą skaitmeninėms ūkininkavimo technologijoms plėtoti, skaičius
A8: 12.2 | B8: 1 priemonė | C8: =VLOOKUP(B8,'7'!$B$7:$C$26,2,FALSE) -> Sveikatinimo paslaugų kokybės gerinimas ir prieinamumo didinimas | D8: =HLOOKUP(B8,'11'!$D$6:$W$75,4,FALSE) -> 0 | F8: =IF(AND(D8>0,ISBLANK(E8)),"Trūksta pagrindimo","Gerai") -> Gerai | G8: =LEN(E8) -> 0
A9: 12.3 | B9: 2 priemonė | C9: =VLOOKUP(B9,'7'!$B$7:$C$26,2,FALSE) -> Darnaus turizmo verslo kūrimas ir plėtra integruojant vietos kultūros ir gamtos išteklius | D9: =HLOOKUP(B9,'11'!$D$6:$W$75,4,FALSE) -> 0 | F9: =IF(AND(D9>0,ISBLANK(E9)),"Trūksta pagrindimo","Gerai") -> Gerai | G9: =LEN(E9) -> 0
A10: 12.4 | B10: 3 priemonė | C10: =VLOOKUP(B10,'7'!$B$7:$C$26,2,FALSE) -> Teminių kaimų kūrimas ir vietos produktų populiarinimas | D10: =HLOOKUP(B10,'11'!$D$6:$W$75,4,FALSE) -> 0 | F10: =IF(AND(D10>0,ISBLANK(E10)),"Trūksta pagrindimo","Gerai") -> Gerai | G10: =LEN(E10) -> 0
A11: 12.5 | B11: 4 priemonė | C11: =VLOOKUP(B11,'7'!$B$7:$C$26,2,FALSE) -> Įtraukios infrastruktūros vystymas taikant sumanius sprendimus | D11: =HLOOKUP(B11,'11'!$D$6:$W$75,4,FALSE) -> 0 | F11: =IF(AND(D11>0,ISBLANK(E11)),"Trūksta pagrindimo","Gerai") -> Gerai | G11: =LEN(E11) -> 0
A12: 12.6 | B12: 5 priemonė | C12: =VLOOKUP(B12,'7'!$B$7:$C$26,2,FALSE) -> Jaunimo verslumo ir įtraukties skatinimas | D12: =HLOOKUP(B12,'11'!$D$6:$W$75,4,FALSE) -> 0 | F12: =IF(AND(D12>0,ISBLANK(E12)),"Trūksta pagrindimo","Gerai") -> Gerai | G12: =LEN(E12) -> 0
A13: 12.7 | B13: 6 priemonė | C13: =VLOOKUP(B13,'7'!$B$7:$C$26,2,FALSE) -> Teritorinis VVG bendradarbiavimas | D13: =HLOOKUP(B13,'11'!$D$6:$W$75,4,FALSE) -> 0 | F13: =IF(AND(D13>0,ISBLANK(E13)),"Trūksta pagrindimo","Gerai") -> Gerai | G13: =LEN(E13) -> 0
A14: 12.8 | B14: 7 priemonė | C14: =VLOOKUP(B14,'7'!$B$7:$C$26,2,FALSE) -> Tarptautinis VVG bendradarbiavimas | D14: =HLOOKUP(B14,'11'!$D$6:$W$75,4,FALSE) -> 0 | F14: =IF(AND(D14>0,ISBLANK(E14)),"Trūksta pagrindimo","Gerai") -> Gerai | G14: =LEN(E14) -> 0
A15: 12.9 | B15: 8 priemonė | C15: =VLOOKUP(B15,'7'!$B$7:$C$26,2,FALSE) -> Įtraukios infrastruktūros vystymas taikant sumanius sprendimus | D15: =HLOOKUP(B15,'11'!$D$6:$W$75,4,FALSE) -> 0 | F15: =IF(AND(D15>0,ISBLANK(E15)),"Trūksta pagrindimo","Gerai") -> Gerai | G15: =LEN(E15) -> 0
A16: 12.10 | B16: 9 priemonė | C16: =VLOOKUP(B16,'7'!$B$7:$C$26,2,FALSE) -> 0 | D16: =HLOOKUP(B16,'11'!$D$6:$W$75,4,FALSE) -> 0 | F16: =IF(AND(D16>0,ISBLANK(E16)),"Trūksta pagrindimo","Gerai") -> Gerai | G16: =LEN(E16) -> 0
A17: 12.11 | B17: 10 priemonė | C17: =VLOOKUP(B17,'7'!$B$7:$C$26,2,FALSE) -> 0 | D17: =HLOOKUP(B17,'11'!$D$6:$W$75,4,FALSE) -> 0 | F17: =IF(AND(D17>0,ISBLANK(E17)),"Trūksta pagrindimo","Gerai") -> Gerai | G17: =LEN(E17) -> 0
A18: 12.12 | B18: 11 priemonė | C18: =VLOOKUP(B18,'7'!$B$7:$C$26,2,FALSE) -> 0 | D18: =HLOOKUP(B18,'11'!$D$6:$W$75,4,FALSE) -> 0 | F18: =IF(AND(D18>0,ISBLANK(E18)),"Trūksta pagrindimo","Gerai") -> Gerai | G18: =LEN(E18) -> 0
A19: 12.13 | B19: 12 priemonė | C19: =VLOOKUP(B19,'7'!$B$7:$C$26,2,FALSE) -> 0 | D19: =HLOOKUP(B19,'11'!$D$6:$W$75,4,FALSE) -> 0 | F19: =IF(AND(D19>0,ISBLANK(E19)),"Trūksta pagrindimo","Gerai") -> Gerai | G19: =LEN(E19) -> 0
... A27: 12.21 | B27: 20 priemonė | C27: =VLOOKUP(B27,'7'!$B$7:$C$26,2,FALSE) -> 0 | D27: =HLOOKUP(B27,'11'!$D$6:$W$75,4,FALSE) -> 0 | F27: =IF(AND(D27>0,ISBLANK(E27)),"Trūksta pagrindimo","Gerai") -> Gerai | G27: =LEN(E27) -> 0
A28: 12.22 | B28: R.37 | C28: ='6'!C9 -> Ekonomikos augimas ir darbo vietų kūrimas kaimo vietovėse. BŽŪP projektais remiamas naujų darbo vietų kūrimas
A29: 12.23 | B29: 1 priemonė | C29: =VLOOKUP(B29,'7'!$B$7:$C$26,2,FALSE) -> Sveikatinimo paslaugų kokybės gerinimas ir prieinamumo didinimas | D29: =HLOOKUP(B29,'11'!$D$6:$W$75,20,FALSE) -> 6.5 | E29: Vadovaujantis poreikių tyrimais ir Fokus grupių interviu pagal priemonę planuojama paremti 4 ūkio subjektų (fizinių ir (arba) juridinių asmenų) projektus. Darbo vietų kūrimas yra privalomas, ne mažiau kaip po 1,625 darbo vietas | F29: =IF(AND(D29>0,ISBLANK(E29)),"Trūksta pagrindimo","Gerai") -> Gerai | G29: =LEN(E29) -> 229
A30: 12.24 | B30: 2 priemonė | C30: =VLOOKUP(B30,'7'!$B$7:$C$26,2,FALSE) -> Darnaus turizmo verslo kūrimas ir plėtra integruojant vietos kultūros ir gamtos išteklius | D30: =HLOOKUP(B30,'11'!$D$6:$W$75,20,FALSE) -> 6.5 | E30: Vadovaujantis poreikių tyrimais ir Fokus grupių interviu pagal priemonę planuojama paremti 4 ūkio subjektų (fizinių ir (arba) juridinių asmenų) bendradarbiavimo projektus. Darbo vietų kūrimas yra privalomas, ne mažiau kaip po 1,625 darbo vietas. | F30: =IF(AND(D30>0,ISBLANK(E30)),"Trūksta pagrindimo","Gerai") -> Gerai | G30: =LEN(E30) -> 247
A31: 12.25 | B31: 3 priemonė | C31: =VLOOKUP(B31,'7'!$B$7:$C$26,2,FALSE) -> Teminių kaimų kūrimas ir vietos produktų populiarinimas | D31: =HLOOKUP(B31,'11'!$D$6:$W$75,20,FALSE) -> 5 | E31: Vadovaujantis poreikių tyrimais ir Fokus grupių interviu pagal priemonę planuojama paremti 5 bendruomeninių verslų projektus. Darbo vietų kūrimas yra privalomas, planuojama, kad bus sukurta bent po 1 darbo vietą. | F31: =IF(AND(D31>0,ISBLANK(E31)),"Trūksta pagrindimo","Gerai") -> Gerai | G31: =LEN(E31) -> 214
A32: 12.26 | B32: 4 priemonė | C32: =VLOOKUP(B32,'7'!$B$7:$C$26,2,FALSE) -> Įtraukios infrastruktūros vystymas taikant sumanius sprendimus | D32: =HLOOKUP(B32,'11'!$D$6:$W$75,20,FALSE) -> 0 | F32: =IF(AND(D32>0,ISBLANK(E32)),"Trūksta pagrindimo","Gerai") -> Gerai | G32: =LEN(E32) -> 0
A33: 12.27 | B33: 5 priemonė | C33: =VLOOKUP(B33,'7'!$B$7:$C$26,2,FALSE) -> Jaunimo verslumo ir įtraukties skatinimas | D33: =HLOOKUP(B33,'11'!$D$6:$W$75,20,FALSE) -> 0 | F33: =IF(AND(D33>0,ISBLANK(E33)),"Trūksta pagrindimo","Gerai") -> Gerai | G33: =LEN(E33) -> 0
A34: 12.28 | B34: 6 priemonė | C34: =VLOOKUP(B34,'7'!$B$7:$C$26,2,FALSE) -> Teritorinis VVG bendradarbiavimas | D34: =HLOOKUP(B34,'11'!$D$6:$W$75,20,FALSE) -> 0 | F34: =IF(AND(D34>0,ISBLANK(E34)),"Trūksta pagrindimo","Gerai") -> Gerai | G34: =LEN(E34) -> 0
A35: 12.29 | B35: 7 priemonė | C35: =VLOOKUP(B35,'7'!$B$7:$C$26,2,FALSE) -> Tarptautinis VVG bendradarbiavimas | D35: =HLOOKUP(B35,'11'!$D$6:$W$75,20,FALSE) -> 0 | F35: =IF(AND(D35>0,ISBLANK(E35)),"Trūksta pagrindimo","Gerai") -> Gerai | G35: =LEN(E35) -> 0
A36: 12.30 | B36: 8 priemonė | C36: =VLOOKUP(B36,'7'!$B$7:$C$26,2,FALSE) -> Įtraukios infrastruktūros vystymas taikant sumanius sprendimus | D36: =HLOOKUP(B36,'11'!$D$6:$W$75,20,FALSE) -> 0 | F36: =IF(AND(D36>0,ISBLANK(E36)),"Trūksta pagrindimo","Gerai") -> Gerai | G36: =LEN(E36) -> 0
A37: 12.31 | B37: 9 priemonė | C37: =VLOOKUP(B37,'7'!$B$7:$C$26,2,FALSE) -> 0 | D37: =HLOOKUP(B37,'11'!$D$6:$W$75,20,FALSE) -> 0 | F37: =IF(AND(D37>0,ISBLANK(E37)),"Trūksta pagrindimo","Gerai") -> Gerai | G37: =LEN(E37) -> 0
A38: 12.32 | B38: 10 priemonė | C38: =VLOOKUP(B38,'7'!$B$7:$C$26,2,FALSE) -> 0 | D38: =HLOOKUP(B38,'11'!$D$6:$W$75,20,FALSE) -> 0 | F38: =IF(AND(D38>0,ISBLANK(E38)),"Trūksta pagrindimo","Gerai") -> Gerai | G38: =LEN(E38) -> 0
A39: 12.33 | B39: 11 priemonė | C39: =VLOOKUP(B39,'7'!$B$7:$C$26,2,FALSE) -> 0 | D39: =HLOOKUP(B39,'11'!$D$6:$W$75,20,FALSE) -> 0 | F39: =IF(AND(D39>0,ISBLANK(E39)),"Trūksta pagrindimo","Gerai") -> Gerai | G39: =LEN(E39) -> 0
A40: 12.34 | B40: 12 priemonė | C40: =VLOOKUP(B40,'7'!$B$7:$C$26,2,FALSE) -> 0 | D40: =HLOOKUP(B40,'11'!$D$6:$W$75,20,FALSE) -> 0 | F40: =IF(AND(D40>0,ISBLANK(E40)),"Trūksta pagrindimo","Gerai") -> Gerai | G40: =LEN(E40) -> 0
A41: 12.35 | B41: 13 priemonė | C41: =VLOOKUP(B41,'7'!$B$7:$C$26,2,FALSE) -> 0 | D41: =HLOOKUP(B41,'11'!$D$6:$W$75,20,FALSE) -> 0 | F41: =IF(AND(D41>0,ISBLANK(E41)),"Trūksta pagrindimo","Gerai") -> Gerai | G41: =LEN(E41) -> 0
A42: 12.36 | B42: 14 priemonė | C42: =VLOOKUP(B42,'7'!$B$7:$C$26,2,FALSE) -> 0 | D42: =HLOOKUP(B42,'11'!$D$6:$W$75,20,FALSE) -> 0 | F42: =IF(AND(D42>0,ISBLANK(E42)),"Trūksta pagrindimo","Gerai") -> Gerai | G42: =LEN(E42) -> 0
A43: 12.37 | B43: 15 priemonė | C43: =VLOOKUP(B43,'7'!$B$7:$C$26,2,FALSE) -> 0 | D43: =HLOOKUP(B43,'11'!$D$6:$W$75,20,FALSE) -> 0 | F43: =IF(AND(D43>0,ISBLANK(E43)),"Trūksta pagrindimo","Gerai") -> Gerai | G43: =LEN(E43) -> 0
... A48: 12.42 | B48: 20 priemonė | C48: =VLOOKUP(B48,'7'!$B$7:$C$26,2,FALSE) -> 0 | D48: =HLOOKUP(B48,'11'!$D$6:$W$75,20,FALSE) -> 0 | F48: =IF(AND(D48>0,ISBLANK(E48)),"Trūksta pagrindimo","Gerai") -> Gerai | G48: =LEN(E48) -> 0
A49: 12.43 | B49: R.39 | C49: ='6'!C10 -> Kaimo ekonomikos plėtojimas. Kaimo verslo įmonių, įskaitant bioekonomikos įmones, kuriamų naudojantis pagal BŽŪP skiriama parama, skaičius
A50: 12.44 | B50: 1 priemonė | C50: =VLOOKUP(B50,'7'!$B$7:$C$26,2,FALSE) -> Sveikatinimo paslaugų kokybės gerinimas ir prieinamumo didinimas | D50: =HLOOKUP(B50,'11'!$D$6:$W$75,38,FALSE) -> 4 | E50: Pagal poreikių tyrimus ir Fokus grupių interviu, planuojama paremti 4 projektus ūkio subjektų (fizinių ir/arba juridinių asmenų bendradarbaivimas. Skaičiuojami unikalūs privatūs juridiniai ir (arba) fiziniai asmenys gavę paramą verslo pradžiai ar plėtrai. | F50: =IF(AND(D50>0,ISBLANK(E50)),"Trūksta pagrindimo","Gerai") -> Gerai | G50: =LEN(E50) -> 255
A51: 12.45 | B51: 2 priemonė | C51: =VLOOKUP(B51,'7'!$B$7:$C$26,2,FALSE) -> Darnaus turizmo verslo kūrimas ir plėtra integruojant vietos kultūros ir gamtos išteklius | D51: =HLOOKUP(B51,'11'!$D$6:$W$75,38,FALSE) -> 4 | E51: Pagal poreikių tyrimus ir Fokus grupių interviu, planuojama paremti 4 projektus ne žemės ūkio verslo pradžiai ir/ar verslo plėtrai. Skaičiuojami unikalūs privatūs juridiniai ir (arba) fiziniai asmenys gavę paramą verslo pradžiai ar plėtrai. | F51: =IF(AND(D51>0,ISBLANK(E51)),"Trūksta pagrindimo","Gerai") -> Gerai | G51: =LEN(E51) -> 241
A52: 12.46 | B52: 3 priemonė | C52: =VLOOKUP(B52,'7'!$B$7:$C$26,2,FALSE) -> Teminių kaimų kūrimas ir vietos produktų populiarinimas | D52: =HLOOKUP(B52,'11'!$D$6:$W$75,38,FALSE) -> 5 | E52: Pagal poreikių tyrimus ir Fokus grupių interviu, planuojama paremti 5 projektus ne žemės ūkio verslo pradžiai ir/ar verslo plėtrai. Skaičiuojami unikalūs privatūs juridiniai ir (arba) fiziniai asmenys gavę paramą verslo pradžiai ar plėtrai. | F52: =IF(AND(D52>0,ISBLANK(E52)),"Trūksta pagrindimo","Gerai") -> Gerai | G52: =LEN(E52) -> 241
A53: 12.47 | B53: 4 priemonė | C53: =VLOOKUP(B53,'7'!$B$7:$C$26,2,FALSE) -> Įtraukios infrastruktūros vystymas taikant sumanius sprendimus | D53: =HLOOKUP(B53,'11'!$D$6:$W$75,38,FALSE) -> 0 | E53: Pagal poreikių tyrimus ir Fokus grupių interviu, planuojama paremti 2 ūkio subjektų (fizinių ir (arba) juridinių asmenų) bendradarbiavimo projektus. Skaičiuojami bendrdarbiavimo projektai gavę paramą infrastruktūrai, verslo pradžiai ar plėtrai. | F53: =IF(AND(D53>0,ISBLANK(E53)),"Trūksta pagrindimo","Gerai") -> Gerai | G53: =LEN(E53) -> 245
A54: 12.48 | B54: 5 priemonė | C54: =VLOOKUP(B54,'7'!$B$7:$C$26,2,FALSE) -> Jaunimo verslumo ir įtraukties skatinimas | D54: =HLOOKUP(B54,'11'!$D$6:$W$75,38,FALSE) -> 0 | F54: =IF(AND(D54>0,ISBLANK(E54)),"Trūksta pagrindimo","Gerai") -> Gerai | G54: =LEN(E54) -> 0
A55: 12.49 | B55: 6 priemonė | C55: =VLOOKUP(B55,'7'!$B$7:$C$26,2,FALSE) -> Teritorinis VVG bendradarbiavimas | D55: =HLOOKUP(B55,'11'!$D$6:$W$75,38,FALSE) -> 0 | F55: =IF(AND(D55>0,ISBLANK(E55)),"Trūksta pagrindimo","Gerai") -> Gerai | G55: =LEN(E55) -> 0
A56: 12.50 | B56: 7 priemonė | C56: =VLOOKUP(B56,'7'!$B$7:$C$26,2,FALSE) -> Tarptautinis VVG bendradarbiavimas | D56: =HLOOKUP(B56,'11'!$D$6:$W$75,38,FALSE) -> 0 | F56: =IF(AND(D56>0,ISBLANK(E56)),"Trūksta pagrindimo","Gerai") -> Gerai | G56: =LEN(E56) -> 0
A57: 12.51 | B57: 8 priemonė | C57: =VLOOKUP(B57,'7'!$B$7:$C$26,2,FALSE) -> Įtraukios infrastruktūros vystymas taikant sumanius sprendimus | D57: =HLOOKUP(B57,'11'!$D$6:$W$75,38,FALSE) -> 0 | F57: =IF(AND(D57>0,ISBLANK(E57)),"Trūksta pagrindimo","Gerai") -> Gerai | G57: =LEN(E57) -> 0
A58: 12.52 | B58: 9 priemonė | C58: =VLOOKUP(B58,'7'!$B$7:$C$26,2,FALSE) -> 0 | D58: =HLOOKUP(B58,'11'!$D$6:$W$75,38,FALSE) -> 0 | F58: =IF(AND(D58>0,ISBLANK(E58)),"Trūksta pagrindimo","Gerai") -> Gerai | G58: =LEN(E58) -> 0
A59: 12.53 | B59: 10 priemonė | C59: =VLOOKUP(B59,'7'!$B$7:$C$26,2,FALSE) -> 0 | D59: =HLOOKUP(B59,'11'!$D$6:$W$75,38,FALSE) -> 0 | F59: =IF(AND(D59>0,ISBLANK(E59)),"Trūksta pagrindimo","Gerai") -> Gerai | G59: =LEN(E59) -> 0
A60: 12.54 | B60: 11 priemonė | C60: =VLOOKUP(B60,'7'!$B$7:$C$26,2,FALSE) -> 0 | D60: =HLOOKUP(B60,'11'!$D$6:$W$75,38,FALSE) -> 0 | F60: =IF(AND(D60>0,ISBLANK(E60)),"Trūksta pagrindimo","Gerai") -> Gerai | G60: =LEN(E60) -> 0
A61: 12.55 | B61: 12 priemonė | C61: =VLOOKUP(B61,'7'!$B$7:$C$26,2,FALSE) -> 0 | D61: =HLOOKUP(B61,'11'!$D$6:$W$75,38,FALSE) -> 0 | F61: =IF(AND(D61>0,ISBLANK(E61)),"Trūksta pagrindimo","Gerai") -> Gerai | G61: =LEN(E61) -> 0
A62: 12.56 | B62: 13 priemonė | C62: =VLOOKUP(B62,'7'!$B$7:$C$26,2,FALSE) -> 0 | D62: =HLOOKUP(B62,'11'!$D$6:$W$75,38,FALSE) -> 0 | F62: =IF(AND(D62>0,ISBLANK(E62)),"Trūksta pagrindimo","Gerai") -> Gerai | G62: =LEN(E62) -> 0
A63: 12.57 | B63: 14 priemonė | C63: =VLOOKUP(B63,'7'!$B$7:$C$26,2,FALSE) -> 0 | D63: =HLOOKUP(B63,'11'!$D$6:$W$75,38,FALSE) -> 0 | F63: =IF(AND(D63>0,ISBLANK(E63)),"Trūksta pagrindimo","Gerai") -> Gerai | G63: =LEN(E63) -> 0
A64: 12.58 | B64: 15 priemonė | C64: =VLOOKUP(B64,'7'!$B$7:$C$26,2,FALSE) -> 0 | D64: =HLOOKUP(B64,'11'!$D$6:$W$75,38,FALSE) -> 0 | F64: =IF(AND(D64>0,ISBLANK(E64)),"Trūksta pagrindimo","Gerai") -> Gerai | G64: =LEN(E64) -> 0
A65: 12.59 | B65: 16 priemonė | C65: =VLOOKUP(B65,'7'!$B$7:$C$26,2,FALSE) -> 0 | D65: =HLOOKUP(B65,'11'!$D$6:$W$75,38,FALSE) -> 0 | F65: =IF(AND(D65>0,ISBLANK(E65)),"Trūksta pagrindimo","Gerai") -> Gerai | G65: =LEN(E65) -> 0
... A69: 12.63 | B69: 20 priemonė | C69: =VLOOKUP(B69,'7'!$B$7:$C$26,2,FALSE) -> 0 | D69: =HLOOKUP(B69,'11'!$D$6:$W$75,38,FALSE) -> 0 | F69: =IF(AND(D69>0,ISBLANK(E69)),"Trūksta pagrindimo","Gerai") -> Gerai | G69: =LEN(E69) -> 0
A70: 12.64 | B70: R.41 | C70: ='6'!C11 -> Europos kaimo tinklų kūrimas. Kaimo gyventojų, kuriems, naudojantis BŽŪP parama, sudarytos palankesnės sąlygos naudotis paslaugomis ir infrastruktūra, skaičius
A71: 12.65 | B71: 1 priemonė | C71: =VLOOKUP(B71,'7'!$B$7:$C$26,2,FALSE) -> Sveikatinimo paslaugų kokybės gerinimas ir prieinamumo didinimas | D71: =HLOOKUP(B71,'11'!$D$6:$W$75,54,FALSE) -> 0 | F71: =IF(AND(D71>0,ISBLANK(E71)),"Trūksta pagrindimo","Gerai") -> Gerai | G71: =LEN(E71) -> 0
A72: 12.66 | B72: 2 priemonė | C72: =VLOOKUP(B72,'7'!$B$7:$C$26,2,FALSE) -> Darnaus turizmo verslo kūrimas ir plėtra integruojant vietos kultūros ir gamtos išteklius | D72: =HLOOKUP(B72,'11'!$D$6:$W$75,54,FALSE) -> 2244 | E72: Planuojama paremti 3 ne žemės ūkio verslo kūrimo ir plėtros projektus. Potencialiai galintys pasinaudoti paslaugomis asmenys bus seniūnijos gyventojai. Skaičiuota pagal mažiausios sen. gyventojų skaičių. Po vieno projekto įgyvendinimo bus apie 748 žm. | F72: =IF(AND(D72>0,ISBLANK(E72)),"Trūksta pagrindimo","Gerai") -> Gerai | G72: =LEN(E72) -> 254
A73: 12.67 | B73: 3 priemonė | C73: =VLOOKUP(B73,'7'!$B$7:$C$26,2,FALSE) -> Teminių kaimų kūrimas ir vietos produktų populiarinimas | D73: =HLOOKUP(B73,'11'!$D$6:$W$75,54,FALSE) -> 1250 | E73: Planuojama paremti 5 bendruomeninio verslo projektus. Potencialiai galintys pasinaudoti bendruomeninio verslo paslaugomis asmenys bus aplinkinių VVG teritorijos kaimų gyventojai. Po vieno projekto įgyvendinimo bus apie 250 žm. | F73: =IF(AND(D73>0,ISBLANK(E73)),"Trūksta pagrindimo","Gerai") -> Gerai | G73: =LEN(E73) -> 229
A74: 12.68 | B74: 4 priemonė | C74: =VLOOKUP(B74,'7'!$B$7:$C$26,2,FALSE) -> Įtraukios infrastruktūros vystymas taikant sumanius sprendimus | D74: =HLOOKUP(B74,'11'!$D$6:$W$75,54,FALSE) -> 0 | E74: Pagal poreikių tyrimus planuojama paremti 2 viešosios infrastrūktūros ir viešųjų paslaugų gerinimo projektai. Potencialiai galintys pasinaudoti paslaugomis bus seniūnijų gyventojai, pagal mažiausios sen. gyventojų skaičių, po vieno projekto įgyvendinimo, bus apie 748 žm. | F74: =IF(AND(D74>0,ISBLANK(E74)),"Trūksta pagrindimo","Gerai") -> Gerai | G74: =LEN(E74) -> 271
A75: 12.69 | B75: 5 priemonė | C75: =VLOOKUP(B75,'7'!$B$7:$C$26,2,FALSE) -> Jaunimo verslumo ir įtraukties skatinimas | D75: =HLOOKUP(B75,'11'!$D$6:$W$75,54,FALSE) -> 0 | F75: =IF(AND(D75>0,ISBLANK(E75)),"Trūksta pagrindimo","Gerai") -> Gerai | G75: =LEN(E75) -> 0
A76: 12.70 | B76: 6 priemonė | C76: =VLOOKUP(B76,'7'!$B$7:$C$26,2,FALSE) -> Teritorinis VVG bendradarbiavimas | D76: =HLOOKUP(B76,'11'!$D$6:$W$75,54,FALSE) -> 0 | F76: =IF(AND(D76>0,ISBLANK(E76)),"Trūksta pagrindimo","Gerai") -> Gerai | G76: =LEN(E76) -> 0
A77: 12.71 | B77: 7 priemonė | C77: =VLOOKUP(B77,'7'!$B$7:$C$26,2,FALSE) -> Tarptautinis VVG bendradarbiavimas | D77: =HLOOKUP(B77,'11'!$D$6:$W$75,54,FALSE) -> 0 | F77: =IF(AND(D77>0,ISBLANK(E77)),"Trūksta pagrindimo","Gerai") -> Gerai | G77: =LEN(E77) -> 0
A78: 12.72 | B78: 8 priemonė | C78: =VLOOKUP(B78,'7'!$B$7:$C$26,2,FALSE) -> Įtraukios infrastruktūros vystymas taikant sumanius sprendimus | D78: =HLOOKUP(B78,'11'!$D$6:$W$75,54,FALSE) -> 1496 | E78: Pagal poreikių tyrimus planuojama paremti 2 viešosios infrastrūktūros ir viešųjų paslaugų gerinimo projektai. Potencialiai galintys pasinaudoti paslaugomis bus seniūnijų gyventojai, pagal mažiausios sen. gyventojų skaičių, po vieno projekto įgyvendinimo, bus apie 748 žm. | F78: =IF(AND(D78>0,ISBLANK(E78)),"Trūksta pagrindimo","Gerai") -> Gerai | G78: =LEN(E78) -> 271
A79: 12.73 | B79: 9 priemonė | C79: =VLOOKUP(B79,'7'!$B$7:$C$26,2,FALSE) -> 0 | D79: =HLOOKUP(B79,'11'!$D$6:$W$75,54,FALSE) -> 0 | F79: =IF(AND(D79>0,ISBLANK(E79)),"Trūksta pagrindimo","Gerai") -> Gerai | G79: =LEN(E79) -> 0
A80: 12.74 | B80: 10 priemonė | C80: =VLOOKUP(B80,'7'!$B$7:$C$26,2,FALSE) -> 0 | D80: =HLOOKUP(B80,'11'!$D$6:$W$75,54,FALSE) -> 0 | F80: =IF(AND(D80>0,ISBLANK(E80)),"Trūksta pagrindimo","Gerai") -> Gerai | G80: =LEN(E80) -> 0
A81: 12.75 | B81: 11 priemonė | C81: =VLOOKUP(B81,'7'!$B$7:$C$26,2,FALSE) -> 0 | D81: =HLOOKUP(B81,'11'!$D$6:$W$75,54,FALSE) -> 0 | F81: =IF(AND(D81>0,ISBLANK(E81)),"Trūksta pagrindimo","Gerai") -> Gerai | G81: =LEN(E81) -> 0
A82: 12.76 | B82: 12 priemonė | C82: =VLOOKUP(B82,'7'!$B$7:$C$26,2,FALSE) -> 0 | D82: =HLOOKUP(B82,'11'!$D$6:$W$75,54,FALSE) -> 0 | F82: =IF(AND(D82>0,ISBLANK(E82)),"Trūksta pagrindimo","Gerai") -> Gerai | G82: =LEN(E82) -> 0
A83: 12.77 | B83: 13 priemonė | C83: =VLOOKUP(B83,'7'!$B$7:$C$26,2,FALSE) -> 0 | D83: =HLOOKUP(B83,'11'!$D$6:$W$75,54,FALSE) -> 0 | F83: =IF(AND(D83>0,ISBLANK(E83)),"Trūksta pagrindimo","Gerai") -> Gerai | G83: =LEN(E83) -> 0
A84: 12.78 | B84: 14 priemonė | C84: =VLOOKUP(B84,'7'!$B$7:$C$26,2,FALSE) -> 0 | D84: =HLOOKUP(B84,'11'!$D$6:$W$75,54,FALSE) -> 0 | F84: =IF(AND(D84>0,ISBLANK(E84)),"Trūksta pagrindimo","Gerai") -> Gerai | G84: =LEN(E84) -> 0
A85: 12.79 | B85: 15 priemonė | C85: =VLOOKUP(B85,'7'!$B$7:$C$26,2,FALSE) -> 0 | D85: =HLOOKUP(B85,'11'!$D$6:$W$75,54,FALSE) -> 0 | F85: =IF(AND(D85>0,ISBLANK(E85)),"Trūksta pagrindimo","Gerai") -> Gerai | G85: =LEN(E85) -> 0
A86: 12.80 | B86: 16 priemonė | C86: =VLOOKUP(B86,'7'!$B$7:$C$26,2,FALSE) -> 0 | D86: =HLOOKUP(B86,'11'!$D$6:$W$75,54,FALSE) -> 0 | F86: =IF(AND(D86>0,ISBLANK(E86)),"Trūksta pagrindimo","Gerai") -> Gerai | G86: =LEN(E86) -> 0
A87: 12.81 | B87: 17 priemonė | C87: =VLOOKUP(B87,'7'!$B$7:$C$26,2,FALSE) -> 0 | D87: =HLOOKUP(B87,'11'!$D$6:$W$75,54,FALSE) -> 0 | F87: =IF(AND(D87>0,ISBLANK(E87)),"Trūksta pagrindimo","Gerai") -> Gerai | G87: =LEN(E87) -> 0
A88: 12.82 | B88: 18 priemonė | C88: =VLOOKUP(B88,'7'!$B$7:$C$26,2,FALSE) -> 0 | D88: =HLOOKUP(B88,'11'!$D$6:$W$75,54,FALSE) -> 0 | F88: =IF(AND(D88>0,ISBLANK(E88)),"Trūksta pagrindimo","Gerai") -> Gerai | G88: =LEN(E88) -> 0
A89: 12.83 | B89: 19 priemonė | C89: =VLOOKUP(B89,'7'!$B$7:$C$26,2,FALSE) -> 0 | D89: =HLOOKUP(B89,'11'!$D$6:$W$75,54,FALSE) -> 0 | F89: =IF(AND(D89>0,ISBLANK(E89)),"Trūksta pagrindimo","Gerai") -> Gerai | G89: =LEN(E89) -> 0
A90: 12.84 | B90: 20 priemonė | C90: =VLOOKUP(B90,'7'!$B$7:$C$26,2,FALSE) -> 0 | D90: =HLOOKUP(B90,'11'!$D$6:$W$75,54,FALSE) -> 0 | F90: =IF(AND(D90>0,ISBLANK(E90)),"Trūksta pagrindimo","Gerai") -> Gerai | G90: =LEN(E90) -> 0
A91: 12.85 | B91: R.42 | C91: ='6'!C12 -> Socialinės įtraukties skatinimas. Asmenų, kuriems taikomi remiami socialinės įtraukties projektai, skaičius
A92: 12.86 | B92: 1 priemonė | C92: =VLOOKUP(B92,'7'!$B$7:$C$26,2,FALSE) -> Sveikatinimo paslaugų kokybės gerinimas ir prieinamumo didinimas | D92: =HLOOKUP(B92,'11'!$D$6:$W$75,70,FALSE) -> 0 | F92: =IF(AND(D92>0,ISBLANK(E92)),"Trūksta pagrindimo","Gerai") -> Gerai | G92: =LEN(E92) -> 0
A93: 12.87 | B93: 2 priemonė | C93: =VLOOKUP(B93,'7'!$B$7:$C$26,2,FALSE) -> Darnaus turizmo verslo kūrimas ir plėtra integruojant vietos kultūros ir gamtos išteklius | D93: =HLOOKUP(B93,'11'!$D$6:$W$75,70,FALSE) -> 0 | F93: =IF(AND(D93>0,ISBLANK(E93)),"Trūksta pagrindimo","Gerai") -> Gerai | G93: =LEN(E93) -> 0
A94: 12.88 | B94: 3 priemonė | C94: =VLOOKUP(B94,'7'!$B$7:$C$26,2,FALSE) -> Teminių kaimų kūrimas ir vietos produktų populiarinimas | D94: =HLOOKUP(B94,'11'!$D$6:$W$75,70,FALSE) -> 310 | E94: Pagal poreikių tyrimus, ankstesnių metų patirtį per 5 projektus bus įtraukiami mažiau galimybių turintys asmenys (vaikai, senjorai nutolusiose kaimiškose vietovėse, neįgalieji ir pan.), apie 25 proc. galutinių naudos gavėjų, t.y. 62 gyventojai po 1 projekto | F94: =IF(AND(D94>0,ISBLANK(E94)),"Trūksta pagrindimo","Gerai") -> Gerai | G94: =LEN(E94) -> 258
A95: 12.89 | B95: 4 priemonė | C95: =VLOOKUP(B95,'7'!$B$7:$C$26,2,FALSE) -> Įtraukios infrastruktūros vystymas taikant sumanius sprendimus | D95: =HLOOKUP(B95,'11'!$D$6:$W$75,70,FALSE) -> 0 | E95: Pagal poreikių tyrimus, ankstesnių metų patirtį per 2 viešųjų paslaugų prieinamumo didinimo projektus bus įtraukiami mažiau galimybių turintys asmenys (vaikai, senjorai nutolusiose kaimiškose vietovėse, neįgalieji ir pan.), apie 25 proc. sen. gyventojų, t.y. 187 gyventojai po 1 projekto | F95: =IF(AND(D95>0,ISBLANK(E95)),"Trūksta pagrindimo","Gerai") -> Gerai | G95: =LEN(E95) -> 288
A96: 12.90 | B96: 5 priemonė | C96: =VLOOKUP(B96,'7'!$B$7:$C$26,2,FALSE) -> Jaunimo verslumo ir įtraukties skatinimas | D96: =HLOOKUP(B96,'11'!$D$6:$W$75,70,FALSE) -> 175 | E96: Pagal poreikių tyrimus, ankstesnių metų patirtį per 5 veiklos projektus bus įtraukiami mažiau galimybių turintys asmenys (vaikai, senjorai nutolusiose kaimiškose vietovėse, neįgalieji ir pan.), apie 25 proc. visų galutinių naudos gavėjų, t.y. 25 gyventojai po 1 projekto | F96: =IF(AND(D96>0,ISBLANK(E96)),"Trūksta pagrindimo","Gerai") -> Gerai | G96: =LEN(E96) -> 272
A97: 12.91 | B97: 6 priemonė | C97: =VLOOKUP(B97,'7'!$B$7:$C$26,2,FALSE) -> Teritorinis VVG bendradarbiavimas | D97: =HLOOKUP(B97,'11'!$D$6:$W$75,70,FALSE) -> 10 | E97: Pagal poreikių tyrimus, ankstesnių metų patirtį per 1 projektą bus įtraukiami mažiau galimybių turintys asmenys (vaikai, senjorai nutolusiose kaimiškose vietovėse, neįgalieji ir pan.), apie 25 proc. visų galutinių naudos gavėjų, t.y. 10 gyventojų | F97: =IF(AND(D97>0,ISBLANK(E97)),"Trūksta pagrindimo","Gerai") -> Gerai | G97: =LEN(E97) -> 249
A98: 12.92 | B98: 7 priemonė | C98: =VLOOKUP(B98,'7'!$B$7:$C$26,2,FALSE) -> Tarptautinis VVG bendradarbiavimas | D98: =HLOOKUP(B98,'11'!$D$6:$W$75,70,FALSE) -> 10 | E98: Pagal poreikių tyrimus, ankstesnių metų patirtį per 1 projektą bus įtraukiami mažiau galimybių turintys asmenys (vaikai, senjorai nutolusiose kaimiškose vietovėse, neįgalieji ir pan.), apie 25 proc. visų galutinių naudos gavėjų, t.y. 10 gyventojų | F98: =IF(AND(D98>0,ISBLANK(E98)),"Trūksta pagrindimo","Gerai") -> Gerai | G98: =LEN(E98) -> 249
