Workbook

Sheet Instrukcija
C2: Spalvų reikšmės (langeliai):
D3: pildo VVG (laisvas tekstas su sufleriu arba be); melsva spalva pateiktas bandomasis tekstas (jį galima ištrinti)
D4: pildo VVG (pasirinkimas iš sąrašo)
D5: užsipildo automatiškai, užrakinta
D6: užpildyta, užrakinta
D7: užpildyta, užrakinta
D8: pildymo instrukcijos ir klaidų tikrinimo rezultatai (turi būti nurodyta "Gerai", kiti pranešimai rodo klaidą), užrakinta
C10: Spalvų reikšmės (lapai):
D11: Pildomi ir spausdinami arba perkeliami į Word
D12: Tik pildomi, bet nespausdinami ir neperkeliami į Word
D13: Nepildomi (užsipildo automatiškai), skirti spausdinti arba perkelti į Word.
C15: Bendra informacija (aktuali visiems Excel lapams):
C16: VPS formos II dalis (Excel) pradedama pildyti atlikus VVG teritorijos situacijos analizę ir pildoma iš eilės (taip, kaip sunumeruoti lapai), kadangi vienuose lapuose pateikta informacija yra naudojama kitiems lapams užpildyti ar sufleriui aktyvuoti.
C17: Loginė atskirų VPS formos II dalies (Excel) lapų seka nurodyta VPS formoje (Word).
C18: Visuose lapuose baltų (laisvai pildomų) ir geltonų (pasirenkamų iš sąrašo) langelių (eilučių) aukštis prisitaiko prie įvesto teksto kiekio.
C19: Baltuose langeliuose simbolių skaičius yra ribojamas (jei simbolių per daug, metamas klaidos pranešimas).
C20: Lapuose, kuriuos VPS priemonių pavadinimai nuspalvinti pilkai (8-10, 12, 14, 15), bus matoma tik ta priemonės pavadinimo dalis, kuri telpa į vieną eilutę. Todėl rekomenduojama, kad priemonių pavadinimai būtų ne ilgesni kaip 70 simbolių (maksimalus simbolių skaičius - 100).
B22: Kiekvieno lapo pildymo instrukcija pateikta to lapo apačioje, išskyrus 4 ir 10 lapus, kuriuose instrukcijos pateiktos prie kiekvienos eilutės.
B23: Lapai | C23: Pildymas, įvedamos informacijos kiekis | D23: Turinys (pavadinimai) | E23: Trumpa instrukcija | F23: Langelių, kuriuose reikia įvesti laisvą tekstą | G23: Teksto pobūdis | H23: Langelių, kuriuose reikia įvesti skaičius | I23: Langelių, kurių reikšmes reikia rinktis iš sąrašo | J23: Rekomenduojama puslapio padėtis spausdinant lapo turinį | K23: Puslapių skaičius pagal paruoštą maketą | L23: Ar aktualu fiksuoti eilutę ir stulpelį lapo pradžioje | M23: Galima įkelti į Word formą (derinant su bendruomene) | N23: Aktualu derinti su bendruomene | O23: Reikia konvertuoti į PDF | P23: Pastabos dėl perkėlimo į Wordą
B24: 1 | C24: pildomas, mažai | D24: ='1'!B5 -> Apibendrinta informacija apie VVG teritoriją, VPS turinį ir rezultatus | E24: VVG užpildo 9 langelius (įvedami keli skaičiai, pasirenkama, ar VPS yra teminė). | F24: 2 | G24: trumpas | H24: 6 | I24: 1 | J24: stačiai | K24: 1 | L24: ne | M24: taip | N24: gal | O24: kelti į Word
B25: 2 | C25: pildomas, vidutiniškai | D25: ='2'!$B$1 -> VVG teritorijos stiprybės, silpnybės, galimybės ir grėsmės (SSGG) ir jų sąsajos su VVG teritorijos poreikiais | E25: VVG nurodo SSGG teiginius (laisvas tekstas) ir susieja (taip, ne) juos su VVG teritorijos poreikiais (poreikiai pasirodo, kai užpildomas 3 lapas). | F25: iki 40 | G25: trumpas | H25: 0 | I25: iki 3 vienam SSGG teiginiui | J25: gulsčiai | K25: 4 (jei poreikių ne daugiau kaip 12) arba 6 | L25: taip | M25: gal | N25: taip | O25: kelti į Word | P25: kelti tik 1-4 stulpelius
B26: 3 | C26: pildomas, mažai | D26: ='3'!$B$1 -> VVG teritorijos poreikiai | E26: VVG pateikia poreikių sąrašą (laisvas tekstas). Poreikių pavadinimai automatiškai persikelia į visus lapus, kuriuose jie bus reikalingi. | F26: iki 20 | G26: trumpas | H26: 0 | I26: 0 | J26: stačiai | K26: 1 | L26: ne | M26: taip | N26: taip | O26: kelti į Word
B27: 4 | C27: pildomas, daug | D27: ='4'!$B$1 -> VVG teritorijos poreikių pagrindimas | E27: Vienas iš dviejų lapų, kuriuose reikia pateikti daugiau informacijos (laisvo teksto). | F27: 5 vienam poreikiui | G27: pagrindimai | H27: 0 | I27: 8 vienam poreikiui | J27: stačiai | K27: Lapas skirtas tik pildyti. | L27: taip | M27: ne | N27: taip | O27: ne
B28: 5 | C28: pildomas, mažai | D28: ='5'!$B$1 -> VVG teritorijai aktualūs BŽŪP tikslai | E28: Pasirenkama iš sąrašo (taip, ne), kurie BŽŪP tikslai aktualūs. | F28: 0 | G28: nėra | H28: 0 | I28: 10 | J28: gulsčiai | K28: 1 | L28: ne | M28: taip | N28: taip | O28: kelti į Word
B29: 6 | C29: pildomas, mažai | D29: ='6'!$B$1 -> VPS produkto ir rezultato rodikliai (VPS lygiu) | E29: Užpildomi du langeliai ir (jei aktualu) sudaromas VPS rodiklių sąrašas (E dalis). | F29: 0-10 (neprivalomi) | G29: trumpas | H29: 2 | I29: 0-10 (neprivalomi) | J29: gulsčiai | K29: 2 | L29: ne | M29: taip | N29: taip | O29: kelti į Word
B30: 7 | C30: pildomas, mažai | D30: ='7'!$B$1 -> VPS priemonės | E30: VVG nurodo priemonių pavadinimus (laisvas tekstas) ir kiekvienos priemonės rūšį (rūšis pasirenkama iš sąrašo). Priemonių pavadinimai automatiškai persikelia į visus lapus, kuriuose jie bus reikalingi. | F30: iki 20 | G30: trumpas | H30: 0 | I30: iki 20 | J30: gulsčiai | K30: 2 | L30: taip | M30: taip | N30: taip | O30: kelti į Word
B31: 8 | C31: pildomas, mažai | D31: ='8'!$B$1 -> VPS priemonių sąsajos su BŽŪP tikslais | E31: Nurodomos priemonių ir tikslų sąsajos (taip, ne - iš sąrašo) | F31: 0 | G31: nėra | H31: 0 | I31: iki 3 vienai priemonei | J31: gulsčiai | K31: 2 | L31: taip | M31: taip | N31: gal | O31: kelti į Word
B32: 9 | C32: pildomas, mažai | D32: ='9'!$B$1 -> VPS priemonių sąsajos su VVG teritorijos poreikiais | E32: Nurodomos priemonių ir poreikių sąsajos (taip, ne - iš sąrašo) | F32: 0 | G32: nėra | H32: 0 | I32: iki 3 vienai priemonei | J32: gulsčiai | K32: 3 | L32: taip | M32: gal | N32: gal | O32: kelti į Word | P32: jei nedaug poreikių (pvz., iki 10)
B33: 10 | C33: pildomas, daug | D33: ='10'!$B$1 -> VPS priemonių aprašymas | E33: Vienas iš dviejų lapų, kuriuose reikia pateikti daugiau informacijos (laisvo teksto). | F33: iki 19 vienai priemonei | G33: pagrindimai | H33: 3 vienai priemonei | I33: 35 vienai priemonei | J33: stačiai | K33: Lapas skirtas tik pildyti. | L33: taip | M33: ne | N33: taip | O33: ne
B34: 11 | C34: pildomas, mažai | D34: ='11'!$B$1 -> VPS priemonių rodikliai ir metiniai tikslai | E34: Lapą sudaro 15 lentelių (tiek, kiek maksimaliai gali būti rodiklių). VVG pildo tik tas lenteles, kurios aktualios dėl pasirinktų rodiklių. Galima rinktis iš 5 ES bendrųjų rezultato rodiklių ir nusimatyti iki 10-ties VPS rodiklių. VPS rodikliai neprivalomi. Įvedami skaičiai - nurodomos siekiamos rodiklių reikšmės VPS priemonių lygiu ir metiniai tikslai (tik VPS lygiu). | F34: 0 | G34: nėra | H34: apie 10 vienai lentelei | I34: iki 2 vienai priemonei | J34: gulsčiai | K34: Lapas skirtas tik pildyti. | L34: taip | M34: ne | N34: ne | O34: ne
B35: 12 | C35: pildomas, vidutiniškai | D35: ='12'!B1 -> VPS priemonių rezultato rodiklių pagrindimas | E35: VVG pateikia informaciją apie tai, kaip nustatytos siekiamos rodiklių reikšmės. Pavyzdžiui, jei R.37 taikomas 5 VPS priemonėms, pagrindimą reikia pateikti 5-iuose langeliuose - prie kiekvienos priemonės (iš viso 5 pagrindimai). Pagrindimas gali būti vienodas. | F35: 3-5 vienam rodikliui (5 rodikliai) | G35: pagrindimai | H35: 0 | I35: 0 | J35: gulsčiai | K35: 5 | L35: ne | M35: taip | N35: gal | O35: kelti į Word
B36: 13 | C36: pildomas, mažai | D36: ='13'!B1 -> Įgyvendinant VPS planuojamų sukurti darbo vietų paskirstymas pagal amžių ir lytį | E36: Pildoma, jei siekiama, kad būtų kuriamos darbo vietos tam tikros lyties ar amžiaus asmenims. Jei neaktualu, pildyti nereikia. Veikia sufleris, kai yra pilnai užpildyta 11 lapo 2 lentelė. | F36: 0 | G36: nėra | H36: 6 vienai priemonei | I36: nėra | J36: gulsčiai | K36: 4 | L36: taip | M36: taip | N36: gal | O36: kelti į Word | P36: ištrinti neaktualius stulpelius (priemones)
B37: 14 | C37: pildomas, vidutiniškai | D37: ='14'!B1 -> Pokyčiai, kurių siekiama VVG teritorijoje (kiekybine išraiška) | E37: VVG pateikia kiekybinį pokyčių pagrindimą (nurodo pokyčių rodiklius, jų pradines ir siekiamas reikšmes). Pokyčių aprašymai persikelia iš VPS priemonių aprašymo (10.12 eilutės). Prie kiekvienos VPS priemonės nurodomi su pokyčiu susiję VVG teritorijos poreikiai (poreikiai pasirenkami iš sąrašo). NB! Svarbu pasirinkti tuos poreikius, kurie buvo susieti su atitinkama VPS priemone pildant 9 lapą. | F37: iki 3 vienai priemonei | G37: trumpas | H37: iki 9 vienai priemonei | I37: iki 3 vienai priemonei | J37: gulsčiai | K37: 5 | L37: ne | M37: taip | N37: taip | O37: kelti į Word
B38: 15 | C38: pildomas, mažai | D38: ='15'!$B$1 -> Preliminarus VPS įgyvendinimo planas | E38: VVG nurodo, kada planuojami kiekvienos priemonės kvietimai (paskirsto kvietimams kiekvienos priemonės paramos sumas). Kvietimai planuojami metų ketvirčių tikslumu. Grafikas preliminarus. VPS įgyvendinimo metu nekeičiamas. Konkretinamas rengiant metinius kvietimų planus. | F38: 0 | G38: nėra | H38: iki 5 vienai priemonei | I38: 0 | J38: gulsčiai | K38: 3 | L38: taip | M38: ne | N38: taip | O38: ne
B39: 16 | C39: pildomas, mažai | D39: ='16'!$B$1 -> VPS išlaidos pagal išlaidų kategorijas ir priemonių rūšis | E39: VVG užpildo du baltus langelius. | F39: 0 | G39: nėra | H39: 2 | I39: 0 | J39: gulsčiai | K39: 1 | L39: ne | M39: taip | N39: taip | O39: kelti į Word
B40: 17 | C40: pildomas, mažai | D40: ='17'!$B$1 -> Metinis VPS išlaidų planas | E40: VVG užpildo 12 baltų langelių - paskirsto išlaidas pamečiui (VVG bendradarbiavimo projektų ir VPS administravimo). | F40: 0 | G40: nėra | H40: 12 | I40: 0 | J40: gulsčiai | K40: 1 | L40: ne | M40: taip | N40: taip | O40: kelti į Word
B41: 18 | C41: pildomas, mažai | D41: ='18'!B1 -> Informacija apie VVG kolegialaus valdymo organo sudėtį | E41: VVG nurodo kolegialaus valdymo organo narių skaičių ir pasiskirstymą pagal sektorius, lytį, amžių). Įveda skaičius. | F41: 0 | G41: nėra | H41: 11 | I41: 0 | J41: stačiai | K41: 1 | L41: ne | M41: taip | N41: gal | O41: kelti į Word
B42: 4.1 | C42: nepildomas, skirtas spausdinti | D42: ='4.1'!B1 -> VVG teritorijos poreikių pagrindimas | E42: Spausdinimui skirta 4 lapo versija. | F42: 0 | G42: 0 | H42: 0 | I42: 0 | J42: stačiai | K42: 9 | L42: ne | M42: taip | N42: taip | O42: konvertuoti į PDF arba kelti į Word
B43: 10.1 | C43: nepildomas, skirtas spausdinti | D43: ='10.1'!B1 -> VPS priemonių aprašymas | E43: Spausdinimui skirta 10 lapo versija. | F43: 0 | G43: 0 | H43: 0 | I43: 0 | J43: stačiai | K43: 36 | L43: ne | M43: taip | N43: taip | O43: konvertuoti į PDF arba kelti į Word
B44: 10.2 | C44: nepildomas, skirtas apibendrinti | D44: ='10.2'!B1 -> VPS priemonių indėlis į ES ir nacionalinių horizontaliųjų principų įgyvendinimą | E44: Apibendrinimui skirta 10 dapo D dalies versija | O44: kelti į Word
...

Sheet 1
C1: Lietuvos kaimo plėtros 2014–2020 m. programos priemonės „LEADER programa“ veiklos srities „Parengiamoji parama“ įgyvendinimo taisyklių, taikomų projektams, skirtiems 2023–2027 metų vietos plėtros strategijoms parengti, 4 priedas
B3: (Kaimo vietovių VPS formos II dalis ir jos pildymo instrukcija)
A5: 1. | B5: Apibendrinta informacija apie VVG teritoriją, VPS turinį ir rezultatus
A7: 1.1 | B7: VVG pavadinimas | C7: ALYTAUS RAJONO VIETOS VEIKLOS GRUPĖ
A8: 1.2 | B8: VVG kodas (4 didžiosios raidės) | C8: ALYT
A9: 1.3 | B9: VVG teritorijos seniūnijų skaičius | C9: 12
A10: 1.4 | B10: VVG teritorijos kaimo gyvenamųjų vietovių skaičius | C10: 448
A12: 1.5 | B12: Parengta Vietos plėtros strategija (VPS) yra teminė | C12: Taip
A13: 1.6 | B13: VVG teritorijos poreikių skaičius | C13: =COUNTA('3'!$C$7:$C$26) -> 5
A14: 1.7 | B14: VVG teritorijai aktualių BŽŪP tikslų skaičius | C14: =COUNTIFS('5'!$D$8:$D$19,"taip") -> 3
A15: 1.8 | B15: VPS priemonių skaičius | C15: =COUNTA('7'!$C$7:$C$26) -> 8 | D15: 4 priemonė panaikinta
A17: 1.9 | B17: Pagrindiniai rezultatai: | C17: Planuojama rodiklio reikšmė
A18: 1.9.1 | B18: ='6'!C8 -> Žemės ūkio sektoriaus skaitmeninimas. Ūkių, pagal BŽŪP gaunančių paramą skaitmeninėms ūkininkavimo technologijoms plėtoti, skaičius | C18: ='6'!D8 -> 0
A19: 1.9.2 | B19: Dalis nuo visų ūkių VVG teritorijoje, proc. | C19: =C18/C32*100 -> 0
A21: 1.9.3 | B21: ='6'!C9 -> Ekonomikos augimas ir darbo vietų kūrimas kaimo vietovėse. BŽŪP projektais remiamas naujų darbo vietų kūrimas | C21: ='6'!D9 -> 18
A23: 1.9.4 | B23: ='6'!C10 -> Kaimo ekonomikos plėtojimas. Kaimo verslo įmonių, įskaitant bioekonomikos įmones, kuriamų naudojantis pagal BŽŪP skiriama parama, skaičius | C23: ='6'!D10 -> 13
A25: 1.9.5 | B25: ='6'!C11 -> Europos kaimo tinklų kūrimas. Kaimo gyventojų, kuriems, naudojantis BŽŪP parama, sudarytos palankesnės sąlygos naudotis paslaugomis ir infrastruktūra, skaičius | C25: ='6'!D11 -> 4990
A26: 1.9.6 | B26: Dalis nuo visų VVG teritorijos gyventojų, proc. | C26: =C25/$C$33*100 -> 18.845834
A28: 1.9.7 | B28: ='6'!C12 -> Socialinės įtraukties skatinimas. Asmenų, kuriems taikomi remiami socialinės įtraukties projektai, skaičius | C28: ='6'!D12 -> 879
A29: 1.9.9 | B29: Dalis nuo visų VVG teritorijos gyventojų, proc. | C29: =C28/$C$33*100 -> 3.3197371
A31: 1.10 | B31: Konteksto rodikliai: | C31: Pradinė rodiklio reikšmė | D31: Metai
A32: 1.10.1 | B32: Ūkių skaičius VVG teritorijoje | C32: 3342 | D32: 2022
A33: 1.10.2 | B33: Gyventojų skaičius VVG teritorijoje | C33: 26478 | D33: 2022
B36: Pildymo instrukcija (1 lapas)
A37: 1 | B37: Užpildykite baltus langelius 1.1-1.4 bei 1.10.1-1.10.2 punktuose. Geltoname langelyje 1.5 punkte pasirinkite "Taip", jei VPS yra teminė.
A38: 2 | B38: 1.1 punkte nurodykite pilną VVG pavadinimą, 1.2 punkte - VVG kodą (4 didžiosios raidės).
A39: 3 | B39: 1.3-1.4 bei 1.10.1-1.10.2 punktuose įveskite tik sveikus skaičius be tarpų ir kitų simbolių. Metai nurodomi taip: 2022 (tik skaičius be raidės "m.").
A40: 4 | B40: Ūkių skaičių (1.10.1 punktas) nurodykite pagal Lietuvos statistikos departamento skelbiamus 2020 m. žemės ūkio surašymo duomenis.
A41: 5 | B41: Gyventojų skaičių VVG teritorijoje (1.10.2 punktas) galite nurodyti pagal Lietuvos Respublikos žemės ūkio ministro 2022 m. rugpjūčio 10 d. įsakymu Nr. 3D- 491 patvirtintą Paramos 2023–2027 metų kaimo vietovių vietos plėtros strategijoms įgyvendinti bendruomenių inicijuotos vietos plėtros būdu skyrimo ir skaičiavimo metodiką.

Sheet 2
A1: 2. | B1: VVG teritorijos stiprybės, silpnybės, galimybės ir grėsmės (SSGG) ir jų sąsajos su VVG teritorijos poreikiais
B3: VVG: | C3: ='1'!C8 -> ALYT
B5: 1 | C5: 2 | D5: 3 | E5: 4 | F5: 5 | G5: 6 | H5: 7 | I5: 8 | J5: 9 | K5: 10 | L5: 11 | M5: 12 | N5: 13 | O5: 14 | P5: 15 | Q5: 16 | R5: 17 | S5: 18 | T5: 19 | U5: 20 | V5: 21 | W5: 22 | X5: 23 | Y5: 24
F6: 1 poreikis | G6: 2 poreikis | H6: 3 poreikis | I6: 4 poreikis | J6: 5 poreikis | K6: 6 poreikis | L6: 7 poreikis | M6: 8 poreikis | N6: 9 poreikis | O6: 10 poreikis | P6: 11 poreikis | Q6: 12 poreikis | R6: 13 poreikis | S6: 14 poreikis | T6: 15 poreikis | U6: 16 poreikis | V6: 17 poreikis | W6: 18 poreikis | X6: 19 poreikis | Y6: 20 poreikis
A7: 2.1 | C7: Stiprybės | D7: Teiginį pagrindžiančio situacijos analizės rodiklio Nr. | E7: Susijusių VVG teritorijos poreikių skaičius | F7: ='3'!C7 -> Įvairinti ir pagerinti sveikatinimo paslaugas, plėtoti verslo paslaugas sanatorijoms, stambesniems sveikatinimo ir turizmo paslaugų teikėjams | G7: ='3'!C8 -> Atrasti turizmo ir sveikatos paslaugoms patrauklius objektus, integruojant gamtos ir kultūros išteklius sukurti vertingus produktus turizmo rinkai | H7: ='3'!C9 -> Teminių kaimų ir labiau vietos gyventojų bei turistų poreikius atliepiančių paslaugų kūrimas, turizmo maršrutų, vietos produktų populiarinimas | I7: ='3'!C10 -> Diegiant žaliuosius sprendimus išsaugoti gamtos išteklius ir kultūros paveldą, pagerinti turizmo infrastruktūrą, ugdyti kaimo bendruomenės sumanumą | J7: ='3'!C11 -> Jaunimo įtraukimas į kaimo bendruomenės veiklas, verslumo ugdymas ir veiklų skatinančių tvarumą ir sveiką gyvenseną organizavimas | K7: ='3'!C12 -> 0 | L7: ='3'!C13 -> 0 | M7: ='3'!C14 -> 0 | N7: ='3'!C15 -> 0 | O7: ='3'!C16 -> 0 | P7: ='3'!C17 -> 0 | Q7: ='3'!C18 -> 0 | R7: ='3'!C19 -> 0 | S7: ='3'!C20 -> 0 | T7: ='3'!C21 -> 0 | U7: ='3'!C22 -> 0 | V7: ='3'!C23 -> 0 | W7: ='3'!C24 -> 0 | X7: ='3'!C25 -> 0 | Y7: ='3'!C26 -> 0
A8: 2.1.1 | B8: 1 stiprybė | C8: Gausūs natūralios gamtos, kultūros paveldo ištekliai, turtingas kraštovaizdis, profesinė patirtis gyventojų sveikatai stiprinti ir turizmui vystyti | D8: R9, R10, R11, R15, R16, R19, R38, R66, R73, R99, R134, R135, R136, R139, R159, R164, R166, R167, R176, R177, R178, R179, R180, R181 | E8: =COUNTIFS($F8:$Y8,"taip") -> 3 | F8: Taip | G8: Taip | H8: Ne | I8: Taip | J8: Ne | K8: Ne | L8: Ne | M8: Ne | N8: Ne | O8: Ne | P8: Ne | Q8: Ne | R8: Ne | S8: Ne | T8: Ne | U8: Ne | V8: Ne | W8: Ne | X8: Ne | Y8: Ne
A9: 2.1.2 | B9: 2 stiprybė | C9: Smulkūs verslai, švietimas, NVO yra svarbiausios vietos ekonomikos varomosios jėgos, daro esminį poveikį kaimų raidai, užimtumui ir soc. stabilumui | D9: R14, R20, R22, R23, R25, R27, R48, R49, R90, R91, R93, R94, R95, R97, R98, R107, R111, R114, R115, R119, R120, R121, R137, R138, R148, R158 | E9: =COUNTIFS($F9:$Y9,"taip") -> 2 | F9: Taip | G9: Ne | H9: Taip | I9: Ne | J9: Ne | K9: Ne | L9: Ne | M9: Ne | N9: Ne | O9: Ne | P9: Ne | Q9: Ne | R9: Ne | S9: Ne | T9: Ne | U9: Ne | V9: Ne | W9: Ne | X9: Ne | Y9: Ne
A10: 2.1.3 | B10: 3 stiprybė | C10: Veikiančios dalijimosi ir žiedinės ekonomikos iniciatyvos, kuriami ir naudojami atsinaujinantys energijos ištekliai | D10: R21, R25, R26, R28, R29, R43, R174, R175 | E10: =COUNTIFS($F10:$Y10,"taip") -> 3 | F10: Ne | G10: Ne | H10: Taip | I10: Taip | J10: Taip | K10: Ne | L10: Ne | M10: Ne | N10: Ne | O10: Ne | P10: Ne | Q10: Ne | R10: Ne | S10: Ne | T10: Ne | U10: Ne | V10: Ne | W10: Ne | X10: Ne | Y10: Ne
A11: 2.1.4 | B11: 4 stiprybė | C11: Vietos ir religinės bendruomenės, turizmo sodybos, seniūnijos įsitraukusios į tarptautinius turizmo kelius, lėtąjį turizmą, arti kurortas | D11: R12, R13, R14, R123, R124, R125, R126, R127, R128 | E11: =COUNTIFS($F11:$Y11,"taip") -> 3 | F11: Taip | G11: Taip | H11: Taip | I11: Ne | J11: Ne | K11: Ne | L11: Ne | M11: Ne | N11: Ne | O11: Ne | P11: Ne | Q11: Ne | R11: Ne | S11: Ne | T11: Ne | U11: Ne | V11: Ne | W11: Ne | X11: Ne | Y11: Ne
A12: 2.1.5 | B12: 5 stiprybė | C12: Didelės materialinės investicijos ir įgyvendintų projektų skaičius teritorijoje | D12: R100, R101, R102, R103, R104, R105, R106, R129, R131, R132, R133 | E12: =COUNTIFS($F12:$Y12,"taip") -> 3 | F12: Taip | G12: Ne | H12: Ne | I12: Taip | J12: Taip | K12: Ne | L12: Ne | M12: Ne | N12: Ne | O12: Ne | P12: Ne | Q12: Ne | R12: Ne | S12: Ne | T12: Ne | U12: Ne | V12: Ne | W12: Ne | X12: Ne | Y12: Ne
A13: 2.1.6 | B13: 6 stiprybė | C13: Puoselėjama etninė kultūra, amatai, vedamos edukacijos, organizuojami respublikinės reikšmės tradiciniai renginiai | D13: R17, R18, R118, R122, R130, R140, R151, R152, R153, R154, R155, R156, R157, R160, R161, R162 | E13: =COUNTIFS($F13:$Y13,"taip") -> 4 | F13: Taip | G13: Taip | H13: Taip | I13: Ne | J13: Taip | K13: Ne | L13: Ne | M13: Ne | N13: Ne | O13: Ne | P13: Ne | Q13: Ne | R13: Ne | S13: Ne | T13: Ne | U13: Ne | V13: Ne | W13: Ne | X13: Ne | Y13: Ne
A14: 2.1.7 | B14: 7 stiprybė | E14: =COUNTIFS($F14:$Y14,"taip") -> 0 | F14: Ne | G14: Ne | H14: Ne | I14: Ne | J14: Ne | K14: Ne | L14: Ne | M14: Ne | N14: Ne | O14: Ne | P14: Ne | Q14: Ne | R14: Ne | S14: Ne | T14: Ne | U14: Ne | V14: Ne | W14: Ne | X14: Ne | Y14: Ne
A15: 2.1.8 | B15: 8 stiprybė | E15: =COUNTIFS($F15:$Y15,"taip") -> 0 | F15: Ne | G15: Ne | H15: Ne | I15: Ne | J15: Ne | K15: Ne | L15: Ne | M15: Ne | N15: Ne | O15: Ne | P15: Ne | Q15: Ne | R15: Ne | S15: Ne | T15: Ne | U15: Ne | V15: Ne | W15: Ne | X15: Ne | Y15: Ne
A16: 2.1.9 | B16: 9 stiprybė | E16: =COUNTIFS($F16:$Y16,"taip") -> 0 | F16: Ne | G16: Ne | H16: Ne | I16: Ne | J16: Ne | K16: Ne | L16: Ne | M16: Ne | N16: Ne | O16: Ne | P16: Ne | Q16: Ne | R16: Ne | S16: Ne | T16: Ne | U16: Ne | V16: Ne | W16: Ne | X16: Ne | Y16: Ne
A17: 2.1.10 | B17: 10 stiprybė | E17: =COUNTIFS($F17:$Y17,"taip") -> 0 | F17: Ne | G17: Ne | H17: Ne | I17: Ne | J17: Ne | K17: Ne | L17: Ne | M17: Ne | N17: Ne | O17: Ne | P17: Ne | Q17: Ne | R17: Ne | S17: Ne | T17: Ne | U17: Ne | V17: Ne | W17: Ne | X17: Ne | Y17: Ne
A18: 2.2 | C18: Silpnybės | D18: =D7 -> Teiginį pagrindžiančio situacijos analizės rodiklio Nr.
A19: 2.2.1 | B19: 1 stiprybė | C19: Retas gyventojų tankumas, nepalanki demografinė ir soc. situacija dėl neigiamos gyventojų kaitos ir spartaus senėjimo, negalios, žemesnio išsilavinimo | D19: R4, R5, R7, R8, R34, R35, R60, R63, R64, R65, R67, R68, R69, R70, R72, R74, R76, R85, R116, R117 | E19: =COUNTIFS($F19:$Y19,"taip") -> 3 | F19: Taip | G19: Ne | H19: Ne | I19: Taip | J19: Taip | K19: Ne | L19: Ne | M19: Ne | N19: Ne | O19: Ne | P19: Ne | Q19: Ne | R19: Ne | S19: Ne | T19: Ne | U19: Ne | V19: Ne | W19: Ne | X19: Ne | Y19: Ne
A20: 2.2.2 | B20: 2 stiprybė | C20: VVG teritorijoje menkai išvystyta ekologinė gamyba, agroturizmas žalioji ir socialinė infrastruktūra | D20: R41, R42, R165, R168, R169, R170, R171, R172, R173, R182 | E20: =COUNTIFS($F20:$Y20,"taip") -> 3 | F20: Ne | G20: Taip | H20: Ne | I20: Taip | J20: Taip | K20: Ne | L20: Ne | M20: Ne | N20: Ne | O20: Ne | P20: Ne | Q20: Ne | R20: Ne | S20: Ne | T20: Ne | U20: Ne | V20: Ne | W20: Ne | X20: Ne | Y20: Ne
A21: 2.2.3 | B21: 3 stiprybė | C21: Apatiški, kenčiantys nuo postpandeminių reiškinių, stokojantys nuolatinių sveikatinimo paslaugų gyventojai, nedalyvauja bendruomeninėse veiklose | D21: R32, R33, R40, R44, R47, R50, R56, R75, R77, R79, R80, R86, R141, R143, R146, R147 | E21: =COUNTIFS($F21:$Y21,"taip") -> 3 | F21: Taip | G21: Ne | H21: Ne | I21: Taip | J21: Taip | K21: Ne | L21: Ne | M21: Ne | N21: Ne | O21: Ne | P21: Ne | Q21: Ne | R21: Ne | S21: Ne | T21: Ne | U21: Ne | V21: Ne | W21: Ne | X21: Ne | Y21: Ne
A22: 2.2.4 | B22: 4 stiprybė | C22: Trūksta kokybiškų laisvalaikio, sveikatai palankaus užimtumo, turizmo paslaugų, silpnas soc. pažeidžiamų asmenų įtraukimas į visuomeninį gyvenimą | D22: R30, R37, R39, R45, R46, R81, R82, R83, R84, R116, R149 | E22: =COUNTIFS($F22:$Y22,"taip") -> 3 | F22: Taip | G22: Taip | H22: Taip | I22: Ne | J22: Ne | K22: Ne | L22: Ne | M22: Ne | N22: Ne | O22: Ne | P22: Ne | Q22: Ne | R22: Ne | S22: Ne | T22: Ne | U22: Ne | V22: Ne | W22: Ne | X22: Ne | Y22: Ne
A23: 2.2.5 | B23: 5 stiprybė | C23: Nepakankamai išvystytas susisiekimas, IKT, vietos produktų asortimentas ir pardavimai, turizmo partnerystės tinklai | D23: R51, R52, R53, R54, R55, R144 | E23: =COUNTIFS($F23:$Y23,"taip") -> 3 | F23: Taip | G23: Taip | H23: Ne | I23: Taip | J23: Ne | K23: Ne | L23: Ne | M23: Ne | N23: Ne | O23: Ne | P23: Ne | Q23: Ne | R23: Ne | S23: Ne | T23: Ne | U23: Ne | V23: Ne | W23: Ne | X23: Ne | Y23: Ne
A24: 2.2.6 | B24: 6 stiprybė | C24: Kaimiškos seniūnijos vystomos netolygiai, mažas gyventojų verslumas, trūksta kvalifikacijos ir motyvacijos dirbti | D24: R28, R31, R36, R57, R58, R59, R78, R87, R89, R109, R110, R113, R145, R150, R163 | E24: =COUNTIFS($F24:$Y24,"taip") -> 2 | F24: Ne | G24: Ne | H24: Taip | I24: Ne | J24: Taip | K24: Ne | L24: Ne | M24: Ne | N24: Ne | O24: Ne | P24: Ne | Q24: Ne | R24: Ne | S24: Ne | T24: Ne | U24: Ne | V24: Ne | W24: Ne | X24: Ne | Y24: Ne
A25: 2.2.7 | B25: 7 stiprybė | E25: =COUNTIFS($F25:$Y25,"taip") -> 0 | F25: Ne | G25: Ne | H25: Ne | I25: Ne | J25: Ne | K25: Ne | L25: Ne | M25: Ne | N25: Ne | O25: Ne | P25: Ne | Q25: Ne | R25: Ne | S25: Ne | T25: Ne | U25: Ne | V25: Ne | W25: Ne | X25: Ne | Y25: Ne
A26: 2.2.8 | B26: 8 stiprybė | E26: =COUNTIFS($F26:$Y26,"taip") -> 0 | F26: Ne | G26: Ne | H26: Ne | I26: Ne | J26: Ne | K26: Ne | L26: Ne | M26: Ne | N26: Ne | O26: Ne | P26: Ne | Q26: Ne | R26: Ne | S26: Ne | T26: Ne | U26: Ne | V26: Ne | W26: Ne | X26: Ne | Y26: Ne
A27: 2.2.9 | B27: 9 stiprybė | E27: =COUNTIFS($F27:$Y27,"taip") -> 0 | F27: Ne | G27: Ne | H27: Ne | I27: Ne | J27: Ne | K27: Ne | L27: Ne | M27: Ne | N27: Ne | O27: Ne | P27: Ne | Q27: Ne | R27: Ne | S27: Ne | T27: Ne | U27: Ne | V27: Ne | W27: Ne | X27: Ne | Y27: Ne
A28: 2.2.10 | B28: 10 stiprybė | E28: =COUNTIFS($F28:$Y28,"taip") -> 0 | F28: Ne | G28: Ne | H28: Ne | I28: Ne | J28: Ne | K28: Ne | L28: Ne | M28: Ne | N28: Ne | O28: Ne | P28: Ne | Q28: Ne | R28: Ne | S28: Ne | T28: Ne | U28: Ne | V28: Ne | W28: Ne | X28: Ne | Y28: Ne
A29: 2.3 | C29: Galimybės | D29: Teiginį pagrindžiančio rodiklio Nr. ar kitas informacijos šaltinis
A30: 2.3.1 | B30: 1 stiprybė | C30: Sparčiai besiplečiančios turizmo, edukacinės programos sukuria galimybes demonstruoti dzūkišką svetingumą, papročius ir stiprinti turizmo tvarumą | D30: [27], [28], [31] | E30: =COUNTIFS($F30:$Y30,"taip") -> 3 | F30: Taip | G30: Taip | H30: Taip | I30: Ne | J30: Ne | K30: Ne | L30: Ne | M30: Ne | N30: Ne | O30: Ne | P30: Ne | Q30: Ne | R30: Ne | S30: Ne | T30: Ne | U30: Ne | V30: Ne | W30: Ne | X30: Ne | Y30: Ne
A31: 2.3.2 | B31: 2 stiprybė | C31: Sparčiai plėtojamos IKT ir kt. technologijos, soc. inovacijos sukuria galimybes aktyviau bendradarbiauti, auginti išteklių valdymo kompetencijas | D31: [32] | E31: =COUNTIFS($F31:$Y31,"taip") -> 2 | F31: Ne | G31: Taip | H31: Ne | I31: Ne | J31: Taip | K31: Ne | L31: Ne | M31: Ne | N31: Ne | O31: Ne | P31: Ne | Q31: Ne | R31: Ne | S31: Ne | T31: Ne | U31: Ne | V31: Ne | W31: Ne | X31: Ne | Y31: Ne
A32: 2.3.3 | B32: 3 stiprybė | C32: Augantys poreikiai unikalioms turizmo ir personalizuotoms sveikatos paslaugoms šalyje ir ES motyvuos vystyti tvarius turizmo maršrutus | D32: [33], [34] | E32: =COUNTIFS($F32:$Y32,"taip") -> 4 | F32: Taip | G32: Taip | H32: Taip | I32: Taip | J32: Ne | K32: Ne | L32: Ne | M32: Ne | N32: Ne | O32: Ne | P32: Ne | Q32: Ne | R32: Ne | S32: Ne | T32: Ne | U32: Ne | V32: Ne | W32: Ne | X32: Ne | Y32: Ne
A33: 2.3.4 | B33: 4 stiprybė | C33: Žaliasis kursas, auganti finansinė parama gamtai draugiškoms ekonominėms veikloms ir ūkininkavimui, tvariam išteklių naudojimui ir bioekonomikai | D33: [35], [36], [37], [38] | E33: =COUNTIFS($F33:$Y33,"taip") -> 3 | F33: Ne | G33: Taip | H33: Ne | I33: Taip | J33: Taip | K33: Ne | L33: Ne | M33: Ne | N33: Ne | O33: Ne | P33: Ne | Q33: Ne | R33: Ne | S33: Ne | T33: Ne | U33: Ne | V33: Ne | W33: Ne | X33: Ne | Y33: Ne
A34: 2.3.5 | B34: 5 stiprybė | C34: Šalyje, ES besivystantys teminiai, sumanūs ir startuoliai kaimai stiprina gyventojų motyvaciją mokytis, kelti kvalifikaciją, ugdyti holistinį požiūrį | D34: [39], [40], [41] | E34: =COUNTIFS($F34:$Y34,"taip") -> 3 | F34: Ne | G34: Ne | H34: Taip | I34: Taip | J34: Taip | K34: Ne | L34: Ne | M34: Ne | N34: Ne | O34: Ne | P34: Ne | Q34: Ne | R34: Ne | S34: Ne | T34: Ne | U34: Ne | V34: Ne | W34: Ne | X34: Ne | Y34: Ne
A35: 2.3.6 | B35: 6 stiprybė | C35: LEADER principai padeda saugoti ir vystyti gamtinius ir etnokultūrinius išteklius, susikurti bendruomenėms išskirtines galimybes darniai vystytis | D35: [37], [42] | E35: =COUNTIFS($F35:$Y35,"taip") -> 3 | F35: Ne | G35: Taip | H35: Taip | I35: Taip | J35: Ne | K35: Ne | L35: Ne | M35: Ne | N35: Ne | O35: Ne | P35: Ne | Q35: Ne | R35: Ne | S35: Ne | T35: Ne | U35: Ne | V35: Ne | W35: Ne | X35: Ne | Y35: Ne
A36: 2.3.7 | B36: 7 stiprybė | C36: Globalėjanti rinka ir geopolitinė situacija vis labiau aktualizuos vietos ekonomikos, pagrįstos vietos ištekliais, vystymosi reikšmingumą ir būtinumą | D36: [43], [44] | E36: =COUNTIFS($F36:$Y36,"taip") -> 3 | F36: Taip | G36: Ne | H36: Taip | I36: Taip | J36: Ne | K36: Ne | L36: Ne | M36: Ne | N36: Ne | O36: Ne | P36: Ne | Q36: Ne | R36: Ne | S36: Ne | T36: Ne | U36: Ne | V36: Ne | W36: Ne | X36: Ne | Y36: Ne
A37: 2.3.8 | B37: 8 stiprybė | E37: =COUNTIFS($F37:$Y37,"taip") -> 0 | F37: Ne | G37: Ne | H37: Ne | I37: Ne | J37: Ne | K37: Ne | L37: Ne | M37: Ne | N37: Ne | O37: Ne | P37: Ne | Q37: Ne | R37: Ne | S37: Ne | T37: Ne | U37: Ne | V37: Ne | W37: Ne | X37: Ne | Y37: Ne
A38: 2.3.9 | B38: 9 stiprybė | E38: =COUNTIFS($F38:$Y38,"taip") -> 0 | F38: Ne | G38: Ne | H38: Ne | I38: Ne | J38: Ne | K38: Ne | L38: Ne | M38: Ne | N38: Ne | O38: Ne | P38: Ne | Q38: Ne | R38: Ne | S38: Ne | T38: Ne | U38: Ne | V38: Ne | W38: Ne | X38: Ne | Y38: Ne
A39: 2.3.10 | B39: 10 stiprybė | E39: =COUNTIFS($F39:$Y39,"taip") -> 0 | F39: Ne | G39: Ne | H39: Ne | I39: Ne | J39: Ne | K39: Ne | L39: Ne | M39: Ne | N39: Ne | O39: Ne | P39: Ne | Q39: Ne | R39: Ne | S39: Ne | T39: Ne | U39: Ne | V39: Ne | W39: Ne | X39: Ne | Y39: Ne
A40: 2.4 | C40: Grėsmės | D40: Teiginį pagrindžiančio rodiklio Nr. ar kitas informacijos šaltinis
A41: 2.4.1 | B41: 1 stiprybė | C41: Socialinės politikos ypatumai, visuomenės senėjimo tendencijos, darbingo amžiaus, ypač jaunų žmonių emigracija stabdys verslo plėtrą ir inovacijas | D41: [50] | E41: =COUNTIFS($F41:$Y41,"taip") -> 3 | F41: Ne | G41: Ne | H41: Taip | I41: Taip | J41: Taip | K41: Ne | L41: Ne | M41: Ne | N41: Ne | O41: Ne | P41: Ne | Q41: Ne | R41: Ne | S41: Ne | T41: Ne | U41: Ne | V41: Ne | W41: Ne | X41: Ne | Y41: Ne
A42: 2.4.2 | B42: 2 stiprybė | C42: Nuolat besikeičianti geopolitinė situacija Europoje ir pasaulyje, sveikatos, klimato kaitos ir kitų krizių grėsmė gali keisti vystymosi kryptis | D42: [36], [45] | E42: =COUNTIFS($F42:$Y42,"taip") -> 2 | F42: Taip | G42: Ne | H42: Ne | I42: Taip | J42: Ne | K42: Ne | L42: Ne | M42: Ne | N42: Ne | O42: Ne | P42: Ne | Q42: Ne | R42: Ne | S42: Ne | T42: Ne | U42: Ne | V42: Ne | W42: Ne | X42: Ne | Y42: Ne
...

Sheet 3
A1: 3. | B1: VVG teritorijos poreikiai
B3: VVG: | C3: ='1'!C8 -> ALYT
B5: 1 | C5: 2
B6: Poreikio numeris | C6: Poreikis
A7: 3.1 | B7: 1 poreikis | C7: Įvairinti ir pagerinti sveikatinimo paslaugas, plėtoti verslo paslaugas sanatorijoms, stambesniems sveikatinimo ir turizmo paslaugų teikėjams
A8: 3.2 | B8: 2 poreikis | C8: Atrasti turizmo ir sveikatos paslaugoms patrauklius objektus, integruojant gamtos ir kultūros išteklius sukurti vertingus produktus turizmo rinkai
A9: 3.3 | B9: 3 poreikis | C9: Teminių kaimų ir labiau vietos gyventojų bei turistų poreikius atliepiančių paslaugų kūrimas, turizmo maršrutų, vietos produktų populiarinimas
A10: 3.4 | B10: 4 poreikis | C10: Diegiant žaliuosius sprendimus išsaugoti gamtos išteklius ir kultūros paveldą, pagerinti turizmo infrastruktūrą, ugdyti kaimo bendruomenės sumanumą
A11: 3.5 | B11: 5 poreikis | C11: Jaunimo įtraukimas į kaimo bendruomenės veiklas, verslumo ugdymas ir veiklų skatinančių tvarumą ir sveiką gyvenseną organizavimas
A12: 3.6 | B12: 6 poreikis
A13: 3.7 | B13: 7 poreikis
A14: 3.8 | B14: 8 poreikis
A15: 3.9 | B15: 9 poreikis
A16: 3.10 | B16: 10 poreikis
A17: 3.11 | B17: 11 poreikis
A18: 3.12 | B18: 12 poreikis
A19: 3.13 | B19: 13 poreikis
A20: 3.14 | B20: 14 poreikis
A21: 3.15 | B21: 15 poreikis
A22: 3.16 | B22: 16 poreikis
A23: 3.17 | B23: 17 poreikis
... A26: 3.20 | B26: 20 poreikis
C29: Pildymo instrukcija (3 lapas)
B30: 1 | C30: Šiame lape pateikiamas VVG teritorijos poreikių sąrašas. Ši informacija naudojama 2 lape, 4 lape ir 9 lape.
B31: 2 | C31: Jei VPS įgyvendinimo metu iškyla poreikis įtraukti naujus poreikius, pakeitimai atliekami šiame lape (įrašomas naujas poreikis ir atitinkamai užpildomi 2, 4 ir 9 lapai bei patikslinama 13 lape pateikta informacija.
B32: 3 | C32: Rekomenduojamas poreikio ilgis - ne daugiau kaip 70 simbolių (t. y., kad tilptų į vieną eilutę). Maksimalus leidžiamas ilgis - ne daugiau kaip 150 simbolių.
B33: 4 | C33: Poreikius formuluokite kaip aukštesnio lygio tikslus arba siekiamus pokyčius, o ne kaip veiksmus (priemones). Poreikio formuluotę pradėkite veiksmažodžio bendratimi (pavyzdžiui, gerinti VVG teritorijos gyventojų užimtumo galimybes). Šis poreikis gali būti tenkamas įgyvendinant skirtingus veiksmus arba priemones (pavyzdžiui, kuriant naujus verslus, plėtojant esamus verslus ir kuriant papildomas darbo vietas, investuojant į gyventojų kvalifikacijos kėlimą, sudarant galimybes patogiau pasiekti nutolusias darbo vietas ir pan.). Poreikiai turėtų būti formuluojami taip, kad vienam poreikiui patenkinti būtų galima numatyti keletą skirtingų priemonių. Poreikiai neturėtų būti formuluojami kaip priemonių rūšys (pavyzdžiui, socialinių verslų kūrimas nėra poreikis, tai yra priemonė aukštesnio lygio tikslams arba pokyčiams pasiekti).
B34: 5 | C34: Rekomenduojamas poreikių skaičius - ne daugiau kaip 5-10 poreikių. Gali būti ir mažiau nei 5 poreikiai.

Sheet 4
A1: 4. | B1: VVG teritorijos poreikių pagrindimas
B3: VVG: | D3: ='1'!C8 -> ALYT
B5: 1 | C5: Pildymo instrukcija (4 lapas) | D5: 2 | E5: 3 | F5: 4 | G5: 5 | H5: 6 | I5: 7 | J5: 8 | K5: 9 | L5: 10 | M5: 11 | N5: 12 | O5: 13 | P5: 14 | Q5: 15 | R5: 16 | S5: 17 | T5: 18 | U5: 19 | V5: 20 | W5: 21
C6: Pagal šiame stulpelyje pateiktas instrukcijas užpildykite stulpelius nuo 2 iki 21 (vienas stulpelis skirtas vienam poreikiui pagrįsti). Užpildykite tiek stulpelių, kiek poreikių nurodėte 3 lape). | D6: 1 poreikis | E6: 2 poreikis | F6: 3 poreikis | G6: 4 poreikis | H6: 5 poreikis | I6: 6 poreikis | J6: 7 poreikis | K6: 8 poreikis | L6: 9 poreikis | M6: 10 poreikis | N6: 11 poreikis | O6: 12 poreikis | P6: 13 poreikis | Q6: 14 poreikis | R6: 15 poreikis | S6: 16 poreikis | T6: 17 poreikis | U6: 18 poreikis | V6: 19 poreikis | W6: 20 poreikis
A7: 4.1 | B7: Poreikis | C7: Užsipildo automatiškai (naudojamas 2 lape pateiktas poreikių sąrašas). | D7: ='2'!F7 -> Įvairinti ir pagerinti sveikatinimo paslaugas, plėtoti verslo paslaugas sanatorijoms, stambesniems sveikatinimo ir turizmo paslaugų teikėjams | E7: ='2'!G7 -> Atrasti turizmo ir sveikatos paslaugoms patrauklius objektus, integruojant gamtos ir kultūros išteklius sukurti vertingus produktus turizmo rinkai | F7: ='2'!H7 -> Teminių kaimų ir labiau vietos gyventojų bei turistų poreikius atliepiančių paslaugų kūrimas, turizmo maršrutų, vietos produktų populiarinimas | G7: ='2'!I7 -> Diegiant žaliuosius sprendimus išsaugoti gamtos išteklius ir kultūros paveldą, pagerinti turizmo infrastruktūrą, ugdyti kaimo bendruomenės sumanumą | H7: ='2'!J7 -> Jaunimo įtraukimas į kaimo bendruomenės veiklas, verslumo ugdymas ir veiklų skatinančių tvarumą ir sveiką gyvenseną organizavimas | I7: ='2'!K7 -> 0 | J7: ='2'!L7 -> 0 | K7: ='2'!M7 -> 0 | ... W7: ='2'!Y7 -> 0
A8: 4.2 | B8: Poreikio sąsaja su stiprybėmis ir (arba) galimybėmis | C8: Laisvas tekstas (ne daugiau kaip 500 simbolių). Kokios VVG teritorijos stiprybės arba išorinės galimybės rodo egzistuojantį potencialą (jei poreikis siejamas su egzistuojančio potencialo ar galimybių išnaudojimu)? Ko trūksta, kad būtų galima išnaudoti egzistuojantį potencialą? 4.2 ir 4.3 punktai pildomi pasirinktinai, atsižvelgiant į tai, ar poreikis labiau siejasi su potencialo išnaudojimu (pildomas 4.2 punktas), ar su problemų sprendimu, pasirengimu grėsmėms (pildomas 4.3 punktas). Šis punktas pildomas, jei nepildomas 4.3 punktas. | D8: Poreikis suformuotas atsižvelgiant į 1, 2, 4, 5, 6 stiprybes ir 1, 3, 7 galimybes. Poreikis gali būti įgyvendintas panaudojant ir tvariai plėtojant VVG teritorijos stiprybes ir atsiveriančias galimybes. | E8: Poreikis suformuotas atsižvelgiant į 1, 4, 6 stiprybes ir 1, 2, 3, 4, 6 galimybes. Poreikis gali būti įgyvendintas panaudojant ir tvariai plėtojant VVG teritorijos stiprybes ir atsiveriančias galimybes. | F8: Poreikis suformuotas atsižvelgiant į 2, 3, 4, 6 stiprybes ir 1, 3, 5, 6, 7 galimybes. Poreikis gali būti įgyvendintas panaudojant ir tvariai plėtojant VVG teritorijos stiprybes ir atsiveriančias galimybes. | G8: Poreikis suformuotas atsižvelgiant į 1, 2, 3, 5 stiprybę ir 3, 4, 5, 6, 7 galimybes. Poreikis gali būti įgyvendintas panaudojant ir tvariai plėtojant VVG teritorijos stiprybes ir atsiveriančias galimybes. | H8: Poreikis suformuotas atsižvelgiant į 3, 5, 6 stiprybes ir 2, 4, 5 galimybes. Poreikis gali būti įgyvendintas panaudojant ir tvariai plėtojant VVG teritorijos stiprybes ir atsiveriančias galimybes.
A9: 4.3 | B9: Poreikio sąsaja su silpnybėmis ir (arba) grėsmėmis | C9: Laisvas tekstas (ne daugiau kaip 500 simbolių). Kokios VVG teritorijos silpnybės arba išorinės grėsmės rodo egzistuojant problemą (jei poreikis siejamas su esamų problemų sprendimu ar pasiruošimu išorinėms grėsmėms)? Kokios yra problemos priežastys? Šis punktas pildomas, jei nepildomas 4.2 punktas. | D9: Poreikis suformuotas atsižvelgiant į 3, 4, 5 silpnybes ir 2, 4, 6 grėsmes. Tikimasi, kad panaudojant jau egzistuojantį potencialą ir galimybes bus išvengta grėsmių ir bent iš dalies sumažintos ir (arba) visiškai panaikintos silpnybės. | E9: Poreikis suformuotas atsižvelgiant į 2, 4, 5 silpnybes ir 5 grėsme. Tikimasi, kad panaudojant jau egzistuojantį potencialą ir galimybes bus išvengta grėsmių ir bent iš dalies sumažintos ir (arba) visiškai panaikintos silpnybės. | F9: Poreikis suformuotas atsižvelgiant į 3, 6 silpnybes ir 1, 3, 6 grėsmes. Tikimasi, kad panaudojant jau egzistuojantį potencialą ir galimybes bus išvengta grėsmių ir bent iš dalies sumažintos ir (arba) visiškai panaikintos silpnybės. | G9: Poreikis suformuotas atsižvelgiant į 1, 2, 4, 5 silpnybes ir 1, 2, 3, 4, 5, 7 grėsmes. Tikimasi, kad panaudojant jau egzistuojantį potencialą ir galimybes bus išvengta grėsmių ir bent iš dalies sumažintos ir (arba) visiškai panaikintos silpnybės. | H9: Poreikis suformuotas atsižvelgiant į 1, 2, 4, 6 silpnybes ir 1, 6, 7 grėsmes. Tikimasi, kad panaudojant jau egzistuojantį potencialą ir galimybes bus išvengta grėsmių ir bent iš dalies sumažintos ir (arba) visiškai panaikintos silpnybės.
A10: 4.4 | B10: Poreikio sąsaja su situacijos analizės rodikliais (poreikio dydžio, problemos masto, intervencijos poreikio kiekybinis pagrindimas) | C10: Laisvas tekstas (ne daugiau kaip 500 simbolių). Kokie VVG teritorijos situacijos analizės rodikliai susiję su poreikiu? Kokios jų reikšmės? Rodiklių reikšmės nurodomos siekiant kiekybiškai pagrįsti poreikio dydį, problemos mastą ar intervencijos poreikį. | D10: R79 (Alytaus r. sav. 8,3 proc., Birštono sav. 10,8 proc. nuo visų gyventojų buvo žmonės su negalia, 2022 m.) R98 (sveikatos priežiūros ir socialinį darbą dirba 16,7 proc. Birštono sav., 5 proc. Alytaus r. sav. visų užimtųjų, 2021m.) R113 (Alytaus r. sav. priskiriama prie kaimiškųjų, o Birštono sav. prie kurortinių sav. klasterio) R120 (13 KBO teikia asmeninės higienos ir priežiūros, kompleksines paslaugas šeimai Alytaus r. sav., 574 paslaugų gavėjams) | E10: R12 (Camino Lituano kelio, Šv. Jokūbo kultūros kelio atkarpos) R14 (rekreaciniai Valstybinių parkų žiediniai maršrutai (Dzūkijos, Suvalkijos ir Vidurio Lietuvos) R123 (daugiau nei 20 Dzūkijos piliakalnių, turizmo maršrutai ir objektai) R124 (2 regioniniai, nacionalinis parkas, biosferos rezervatas, kurortas) | F10: R12 (Camino Lituano kelio, Šv. Jokūbo kultūros kelio atkarpos) R119 (62 Alytaus r. sav., 5 Birštono sav. kaimo bendruomeninės organizacijos) R121 (1 bendruomeninis verslas) R125 (Birštono sav. 5 kaimo turizmo sodybos, Alytaus r. sav. 31 sodybas) R127 (tarptautinės turizmo organizavimo patirtis "CULTrips“, 2 lėtojo turizmo projektai) R161 (Alytaus r. sav. 22, o Birštono sav. 4 sertifikuoti tautinio paveldo produktai) | G10: R162 (Alytaus r. sav. Pivašiūnų amatų centras, 3 amatų kiemeliai, Birštono sav. Nemajūnų amatų centras) R166 (26,6 proc. Alytaus sav., 47,88 proc. Birštono sav. visos teritorijos užima miškai) R176 (Nemuno mažųjų intakų (su Nemunu) ir Merkio baseinuose teka 60 kitų mažesnių upių ir upelių) R177 (64 ežerai, 13 tvenkinių) R175 (saulės elektrinėse 2019 m. - 3908435,53 kWh, 2021 m. - 3661166,47 kWh, vėjo energijos pagaminta 2202942,60 kWh) | H10: R122 (edukacinės programos (15), tvarumą skatinančios iniciatyvos (3) R135, R138 (6 gimnazijos, 2 pagrindinio ugdymo ir daugiafunkciai skyriai, 1 specialioji mokykla, 1 Meno ir sporto mokykla, 6 ikimokyklinio ugdymo skyriai, 1 technologijos ir verslo mokykla) R155 (tradiciniai vietos, regioninės ir nacionalinės reikšmės kultūriniai renginiai) R156 ("Užgavėnės Tarzanijoje", „Joninės Tarzanijoje", „Šviežios duonelės šventė“ Punioje)
A11: 4.5 | B11: Poreikio sąsaja su aukštesnio lygmens strateginiais dokumentais | C11: Laisvas tekstas (ne daugiau kaip 500 simbolių). Ar poreikis susijęs su aukštesnio lygio strategijų įgyvendinimu (savivaldybės, regiono, nacionalinių, ES)? Jei taip, nurodykite aktualias strategijas ir pagrįskite, kodėl joms įgyvendinti nuspęsta naudoti VPS lėšas? | D11: Alytaus r. sav. 2021–2028 m. SPP (2.3. tikslas); Birštono sav. SPP iki 2030 m. (1.3. tikslas); 2022–2030 m. Alytaus RPP (1 tikslas); 2022–2030 m. Kauno RPP (2 tikslas); 2021-2027 metų ES fondų IP; Lietuvos žemės ūkio ir kaimo plėtros 2023–2027 m. SP (SO8); ES BJRP 2021-2027 m. (3 tikslas); 2021–2030 m. NPP ( 2 tikslas). VPS lėšos nebus naudojamos tiesiogiai šių strategijų priemonių finansavimui, tačiau prisidės prie minėtų strategijų tikslų, kurie konkrečiai aprašyti VPS 1 dalies 5 priede. | E11: Alytaus r. sav. 2021–2028 m. SPP (3.2. tikslas); Birštono sav. SPP iki 2030 m. (2.1.tikslas); 2022–2030 m. Alytaus RPP (1 tikslas); 2022–2030 m. Kauno RPP (2 tikslas); 2021-2027 metų ES fondų IP ; Lietuvos žemės ūkio ir kaimo plėtros 2023–2027 m. SP (SO8); ES BJRP 2021-2027 m. (3 tikslas); 2021–2030 m. NPP ( 2 tikslas). VPS lėšos nebus naudojamos tiesiogiai šių strategijų priemonių finansavimui, tačiau prisidės prie minėtų strategijų tikslų, kurie konkrečiai aprašyti VPS 1 dalies 5 priede. | F11: Alytaus r. sav. 2021–2028 m. SPP (3.2. tikslas); Birštono sav. SPP iki 2030 m. (2.1. tikslas); 2022–2030 m. Alytaus RPP (1 tikslas); 2022–2030 m. Kauno RPP (2 tikslas); 2021-2027 metų ES fondų IP, Lietuvos žemės ūkio ir kaimo plėtros 2023–2027 m. SP (SO8); ES BJRP 2021-2027 m. (1 tikslas); 2021–2030 m. NPP ( 2 tikslas). VPS lėšos nebus naudojamos tiesiogiai šių strategijų priemonių finansavimui, tačiau prisidės prie minėtų strategijų tikslų, kurie konkrečiau aprašyti VPS 1 dalies 5 priede. | G11: Alytaus r. sav. 2021–2028 m. SPP (2.1. tikslas); Birštono sav. SPP iki 2030 m. (1.2.,2.2. tikslai); 2022–2030 m. Alytaus RPP (1 tikslas); 2022–2030 m. Kauno RPP (2 tikslas); 2021-2027 metų ES fondų IP ; Lietuvos žemės ūkio ir kaimo plėtros 2023 - 2027 SP (SO8); ES BJRP (3 tikslas); 2021 - 2030 metų NPP (2 tikslas).VPS lėšos nebus naudojamos tiesiogiai šių strategijų priemonių finansavimui, tačiau prisidės prie minėtų strategijų tikslų, kurie konkrečiai aprašyti VPS 1 dalies 5 priede. | H11: Alytaus r. sav. 2021–2028 m. SPP (1.1. tikslas); Birštono sav. SPP iki 2030 m. (1.5. tikslas); 2022–2030 m. Alytaus RPP (1 tikslas); 2022–2030 m. Kauno RPP (2 tikslas); 2021-2027 metų ES fondų IP, Lietuvos žemės ūkio ir kaimo plėtros 2023–2027 m. SP (SO8); ES BJRP 2021-2027 m. (3 tikslas); 2021–2030 m. NPP ( 2 tikslas). VPS lėšos nebus naudojamos tiesiogiai šių strategijų priemonių finansavimui, tačiau prisidės prie minėtų strategijų tikslų, kurie konkrečiai aprašyti VPS 1 dalies 5 priede.
A12: 4.6 | B12: Poreikio sąsaja su VVG teritorijos gyventojų nuomone | C12: Laisvas tekstas (ne daugiau kaip 300 simbolių). Ar formuluojant poreikį atsižvelgta į VVG teritorijos gyventojų nuomonę? Jei taip, pagrįskite. | D12: Poreikis naujų, įvairesnių, geresnės kokybės paslaugų - sveikatos namai (sveikatinimo procedūros, vyresnio amžiaus asmenų ir sunkių ligonių priežiūros), dienos centrų pagyvenusiems ir neįgaliesiems, kompleksinių paslaugų vietos gyventojams ir turistams organizavimui, sanatorijų aptarnavimui | E12: Poreikis paramai, kai kuriamos darbo vietos, gamtos, lėto turizmo, laisvalaikio ir sveikatinimo paslaugų, vietos produkcijos perdirbimui ir realizavimui vietos gyventojams ir turistams sveikatai palankaus maisto. | F12: Poreikis bendruomeniniam verslui, socialinės įtraukties didinimui, ryšių kūrimui kartu veikti ir atrasti naujas galias, turizmo objektų ir veiklų teminimui, perėjimui prie atsinaujinančių išteklių, diegti žiedinės bioekonomikos principus, auginti mokymosi kultūrą, populiarinti teminius kaimus. | G12: Poreikis vietos produkcijos perdirbimo ir realizavimo, įtraukios infrastruktūros, sveikatinimo projektams, parkų ir kt. žaliosios, turizmo ir viešosios infrastruktūros gerinimui, IKT plėtrai, bendruomenių sumanumo ugdymui, inovacijoms, kurios padėtų kapitalizuoti vietos išteklius. | H12: Poreikis savanorystės, bendruomeniškumo ir verslumo skatinančioms iniciatyvoms, turizmo klasterio kūrimui, bendradarbiavimo projektams, kurie padėtų mažinti socialinę atskirtį, tvarumą skatinančių idėjų bendruomenėje įgyvendinimas, patirties jaunimui perdavimas, jaunimo užimtumo, sporto paslaugų.
A13: 4.7 | B13: Poreikį tenkinančių VPS priemonių skaičius | C13: Užsipildo automatiškai (naudojama 9 lape pateikta informacija apie VPS priemonių ir VVG teritorijos poreikių sąsajas) | D13: =COUNTIFS('9'!E$8:E$27,"taip") -> 5 | E13: =COUNTIFS('9'!F$8:F$27,"taip") -> 6 | F13: =COUNTIFS('9'!G$8:G$27,"taip") -> 4 | G13: =COUNTIFS('9'!H$8:H$27,"taip") -> 3 | H13: =COUNTIFS('9'!I$8:I$27,"taip") -> 3 | I13: =COUNTIFS('9'!J$8:J$27,"taip") -> 0 | J13: =COUNTIFS('9'!K$8:K$27,"taip") -> 0 | K13: =COUNTIFS('9'!L$8:L$27,"taip") -> 0 | ... W13: =COUNTIFS('9'!X$8:X$27,"taip") -> 0
A14: 4.8 | B14: Susijęs nacionalinis poreikis 1 | C14: Susijusį nacionalinį poreikį pasirinkite iš sąrašo. Jei sąsajų nėra, pasirinkite "Netaikoma". Vienam VVG teritorijos poreikiui nurodoma nuo 0 iki 3 nacionalinių poreikių. Jei susijusių nacionalinių poreikių yra mažiau nei 3, likusiose eilutėse pasirinkite "Netaikoma". | D14: h.2. Didinti kaimo gyventojų užimtumą ir socialinę įtrauktį | E14: h.2. Didinti kaimo gyventojų užimtumą ir socialinę įtrauktį | F14: h.2. Didinti kaimo gyventojų užimtumą ir socialinę įtrauktį | G14: h.1. Skatinti kaimo gyventojų ir kaimo bendruomenių verslo iniciatyvas | H14: h.2. Didinti kaimo gyventojų užimtumą ir socialinę įtrauktį | I14: Pasirinkite | J14: Pasirinkite | K14: Pasirinkite | L14: Pasirinkite | M14: Pasirinkite | N14: Pasirinkite | O14: Pasirinkite | P14: Pasirinkite | Q14: Pasirinkite | R14: Pasirinkite | S14: Pasirinkite | T14: Pasirinkite | U14: Pasirinkite | V14: Pasirinkite | W14: Pasirinkite
A15: 4.9 | B15: Susijęs nacionalinis poreikis 2 | C15: Susijusį nacionalinį poreikį pasirinkite iš sąrašo. Jei sąsajų nėra, pasirinkite "Netaikoma". | D15: h.4 . Modernizuoti kaimo vietoves didinant gyvenimo sąlygų jose patrauklumą | E15: h.4 . Modernizuoti kaimo vietoves didinant gyvenimo sąlygų jose patrauklumą | F15: h.1. Skatinti kaimo gyventojų ir kaimo bendruomenių verslo iniciatyvas | G15: h.2. Didinti kaimo gyventojų užimtumą ir socialinę įtrauktį | H15: Pasirinkite | I15: Pasirinkite | J15: Pasirinkite | K15: Pasirinkite | L15: Pasirinkite | M15: Pasirinkite | N15: Pasirinkite | O15: Pasirinkite | P15: Pasirinkite | Q15: Pasirinkite | R15: Pasirinkite | S15: Pasirinkite | T15: Pasirinkite | U15: Pasirinkite | V15: Pasirinkite | W15: Pasirinkite
A16: 4.10 | B16: Susijęs nacionalinis poreikis 3 | C16: Susijusį nacionalinį poreikį pasirinkite iš sąrašo. Jei sąsajų nėra, pasirinkite "Netaikoma". | D16: g.3 . Skatinti verslų kūrimąsi kaime, žemės ūkio veiklos įvairinimą | E16: g.3 . Skatinti verslų kūrimąsi kaime, žemės ūkio veiklos įvairinimą | F16: Pasirinkite | G16: g.3 . Skatinti verslų kūrimąsi kaime, žemės ūkio veiklos įvairinimą | H16: Pasirinkite | I16: Pasirinkite | J16: Pasirinkite | K16: Pasirinkite | L16: Pasirinkite | M16: Pasirinkite | N16: Pasirinkite | O16: Pasirinkite | P16: Pasirinkite | Q16: Pasirinkite | R16: Pasirinkite | S16: Pasirinkite | T16: Pasirinkite | U16: Pasirinkite | V16: Pasirinkite | W16: Pasirinkite
A17: 4.11 | B17: Ar poreikis siejasi su rezultato rodikliu R.3 (skaitmeninės technologijos; pilnas rodiklio pavadinimas 6 lape)? | C17: Pasirinkite iš sąrašo (taip arba ne). Sąsaja nėra privaloma. Iš anksto nurodyta reikšmė "Ne". Pasirinkimas "Taip" reiškia, kad tenkinant poreikį bus siekiama atitinkamo rezultato rodiklio. | D17: Ne | E17: Ne | F17: Ne | G17: Ne | H17: Ne | I17: Ne | J17: Ne | K17: Ne | L17: Ne | M17: Ne | N17: Ne | O17: Ne | P17: Ne | Q17: Ne | R17: Ne | S17: Ne | T17: Ne | U17: Ne | V17: Ne | W17: Ne
A18: 4.12 | B18: Ar poreikis siejasi su rezultato rodikliu R.37 (darbo vietos; pilnas rodiklio pavadinimas 6 lape)? | C18: =$C$17 -> Pasirinkite iš sąrašo (taip arba ne). Sąsaja nėra privaloma. Iš anksto nurodyta reikšmė "Ne". Pasirinkimas "Taip" reiškia, kad tenkinant poreikį bus siekiama atitinkamo rezultato rodiklio. | D18: Taip | E18: Taip | F18: Ne | G18: Ne | H18: Ne | I18: Ne | J18: Ne | K18: Ne | L18: Ne | M18: Ne | N18: Ne | O18: Ne | P18: Ne | Q18: Ne | R18: Ne | S18: Ne | T18: Ne | U18: Ne | V18: Ne | W18: Ne
A19: 4.13 | B19: Poreikis siejasi su rezultato rodikliu R.39 (kaimo verslai; pilnas rodiklio pavadinimas 6 lape) | C19: =$C$17 -> Pasirinkite iš sąrašo (taip arba ne). Sąsaja nėra privaloma. Iš anksto nurodyta reikšmė "Ne". Pasirinkimas "Taip" reiškia, kad tenkinant poreikį bus siekiama atitinkamo rezultato rodiklio. | D19: Taip | E19: Taip | F19: Ne | G19: Taip | H19: Ne | I19: Ne | J19: Ne | K19: Ne | L19: Ne | M19: Ne | N19: Ne | O19: Ne | P19: Ne | Q19: Ne | R19: Ne | S19: Ne | T19: Ne | U19: Ne | V19: Ne | W19: Ne
A20: 4.14 | B20: Poreikis siejasi su rezultato rodikliu R.41 (paslaugos ir infrastruktūra; pilnas rodiklio pavadinimas 6 lape) | C20: =$C$17 -> Pasirinkite iš sąrašo (taip arba ne). Sąsaja nėra privaloma. Iš anksto nurodyta reikšmė "Ne". Pasirinkimas "Taip" reiškia, kad tenkinant poreikį bus siekiama atitinkamo rezultato rodiklio. | D20: Taip | E20: Taip | F20: Taip | G20: Taip | H20: Ne | I20: Ne | J20: Ne | K20: Ne | L20: Ne | M20: Ne | N20: Ne | O20: Ne | P20: Ne | Q20: Ne | R20: Ne | S20: Ne | T20: Ne | U20: Ne | V20: Ne | W20: Ne
A21: 4.15 | B21: Poreikis siejasi su rezultato rodikliu R.42 (socialinė įtrauktis; pilnas rodiklio pavadinimas 6 lape) | C21: =$C$17 -> Pasirinkite iš sąrašo (taip arba ne). Sąsaja nėra privaloma. Iš anksto nurodyta reikšmė "Ne". Pasirinkimas "Taip" reiškia, kad tenkinant poreikį bus siekiama atitinkamo rezultato rodiklio. | D21: Ne | E21: Ne | F21: Taip | G21: Taip | H21: Taip | I21: Ne | J21: Ne | K21: Ne | L21: Ne | M21: Ne | N21: Ne | O21: Ne | P21: Ne | Q21: Ne | R21: Ne | S21: Ne | T21: Ne | U21: Ne | V21: Ne | W21: Ne

Sheet 5
A1: 5. | B1: VVG teritorijai aktualūs BŽŪP tikslai
B3: VVG: | C3: ='1'!C8 -> ALYT
B5: 1 | C5: 2 | D5: 3 | E5: 4 | F5: 5 | G5: 6
C6: BŽŪP tikslas | D6: Ar tikslas įgyvendinamas VVG teritorijoje | E6: VPS tikslą įgyvendinančių priemonių skaičius | F6: Priemonių, kurioms tikslas yra pagrindinis, skaičius | G6: Priemonių, kurios tikslą įgyvendina horizontaliai, skaičius
A7: 5.1 | B7: A | C7: BIVP priemonei taikomi BŽŪP tikslai (privalomi)
A8: 5.1.1 | B8: 8 konkretus tikslas (h punktas) | C8: SO8. Skatinti užimtumą, augimą, lyčių lygybę, įskaitant moterų dalyvavimą ūkininkavimo veikloje, socialinę įtrauktį ir vietos plėtrą kaimo vietovėse, įskaitant žiedinę bioekonomiką ir tvarią miškininkystę | D8: Taip | E8: =COUNTIFS('8'!$E$7:$E$26,"taip") -> 7 | F8: =COUNTIFS('10'!$D$11:$W$11,C8) -> 8
A9: 5.1.2 | B9: Kompleksinis tikslas | C9: XCO. Modernizuoti sektorių skatinant žemės ūkio ir kaimo vietovių žinias, inovacijas ir skaitmeninimą bei dalijimąsi jomis, taip pat skatinant jų diegimą | D9: Ne | E9: =COUNTIFS('8'!$F$7:$F$26,"taip") -> 0 | F9: =COUNTIFS('10'!$D$11:$W$11,C9) -> 0
A10: 5.2 | B10: B | C10: BŽŪP tikslai, kurie VPS gali būti įgyvendinami horizontaliai (pasirenkami)
A11: 5.2.1 | B11: 4 konkretus tikslas (d punktas) | C11: SO4. Prisidėti prie klimato kaitos švelninimo ir prisitaikymo prie jos, be kita ko, mažinant išmetamą šiltnamio efektą sukeliančių dujų kiekį ir didinant anglies dioksido sekvestraciją, taip pat plėtoti tvariąją energetiką | D11: Taip | E11: =COUNTIFS('8'!$G$7:$G$26,"taip") -> 7 | F11: =COUNTIFS('10'!$D$11:$W$11,C11) -> 0 | G11: =COUNTIFS('10'!$D$12:$W$12,"Taip") -> 7
A12: 5.2.2 | B12: 5 konkretus tikslas (e punktas) | C12: SO5. Skatinti tvarų vystymąsi ir veiksmingą gamtos išteklių, pavyzdžiui, vandens, dirvožemio ir oro, valdymą, be kita ko, mažinant priklausomybę nuo cheminių medžiagų | D12: Ne | E12: =COUNTIFS('8'!$H$7:H$26,"taip") -> 0 | F12: =COUNTIFS('10'!$D$11:$W$11,C12) -> 0 | G12: =COUNTIFS('10'!$D$13:$W$13,"Taip") -> 0
A13: 5.2.3 | B13: 6 konkretus tikslas (f punktas) | C13: SO6. Prisidėti prie biologinės įvairovės nykimo sustabdymo ir sustabdymo, gerinti ekosistemų funkcijas ir išsaugoti buveines bei kraštovaizdžius | D13: Ne | E13: =COUNTIFS('8'!$I$7:$I$26,"taip") -> 0 | F13: =COUNTIFS('10'!$D$11:$W$11,C13) -> 0 | G13: =COUNTIFS('10'!$D$14:$W$14,"Taip") -> 0
A14: 5.2.4 | B14: 9 konkretus tikslas (i punktas) | C14: SO9. Gerinti Sąjungos žemės ūkio atsaką į visuomenės poreikius, susijusius su maistu ir sveikata, mažinti maisto atliekų kiekį, gerinti gyvūnų gerovę ir kovoti su atsparumu antimikrobinėms medžiagoms | D14: Taip | E14: =COUNTIFS('8'!$J$7:$J$26,"taip") -> 7 | F14: =COUNTIFS('10'!$D$11:$W$11,C14) -> 0 | G14: =COUNTIFS('10'!$D$15:$W$15,"Taip") -> 7
A15: 5.3 | B15: C | C15: Kiti BŽŪP tikslai (neprivalomi)
A16: 5.3.1 | B16: 1 konkretus tikslas (a punktas) | C16: SO1. Remti perspektyvias ūkių pajamas ir žemės ūkio sektoriaus atsparumą visoje Sąjungoje, siekiant didinti ilgalaikį aprūpinimą maistu ir žemės ūkio įvairovę, taip pat užtikrinti žemės ūkio gamybos ekonominį tvarumą Sąjungoje | D16: Ne | E16: =COUNTIFS('8'!$K$7:$K$26,"taip") -> 0 | F16: =COUNTIFS('10'!$D$11:$W$11,C16) -> 0
A17: 5.3.2 | B17: 2 konkretus tikslas (b punktas) | C17: SO2. Labiau orientuotis į rinką ir didinti ūkių konkurencingumą tiek trumpuoju, tiek ilguoju laikotarpiu, be kita ko, daugiau dėmesio skiriant moksliniams tyrimams, technologijoms ir skaitmenizacijai | D17: Ne | E17: =COUNTIFS('8'!$L$7:$L$26,"taip") -> 0 | F17: =COUNTIFS('10'!$D$11:$W$11,C17) -> 0
A18: 5.3.3 | B18: 3 konkretus tikslas (c punktas) | C18: SO3. Gerinti ūkininko padėtį vertės grandinėje | D18: Ne | E18: =COUNTIFS('8'!$M$7:$M$26,"taip") -> 0 | F18: =COUNTIFS('10'!$D$11:$W$11,C18) -> 0
A19: 5.3.4 | B19: 7 konkretus tikslas (g punktas) | C19: SO7. Pritraukti jaunuosius ūkininkus ir kitus naujus ūkininkus, palaikyti jų veiklą ir palengvinti tvarią verslo plėtrą kaimo vietovėse | D19: Ne | E19: =COUNTIFS('8'!$N$7:$N$26,"taip") -> 0 | F19: =COUNTIFS('10'!$D$11:$W$11,C19) -> 0
B20: * Pilna 9 konkretaus tikslo formuluotė yra tokia: Gerinti Sąjungos žemės ūkio atsaką į visuomenės poreikius, susijusius su maistu ir sveikata, įskaitant aukštos kokybės, saugų ir maistingą maistą, pagamintą tvariu būdu, mažinti maisto atliekų kiekį, gerinti gyvūnų gerovę ir kovoti su atsparumu antimikrobinėms medžiagoms.
C22: Pildymo instrukcija (5 lapas):
B23: 1 | C23: Užpildykite 3 stulpelį. Prie kiekvieno BŽŪP tikslo nurodykite, ar jis bus įgyvendinamas VVG teritorijoje (pasirinkite "Taip", jei bus įgyvendinamas).
B24: 2 | C24: 4 stulpelis užpildomas automatiškai, kai yra užpildytas 8 lapas.
B25: 3 | C25: 5 stulpelis užpildomas automatiškai, kai yra užpildytas 10 lapas (10.5 punktas).
B26: 4 | C26: 6 stulpelis užpildomas automatiškai, kai yra užpildytas 10 lapas (10.6-10.9 punktai).
B27: 5 | C27: VPS turi prisidėti prie 8 konkretaus tikslo įgyvendinimo ir kompleksinio tikslo įgyvendinimo (jei pasirenkama siekti rodiklio R.3). VPS turi būti numatyta priemonių, kurioms šie BŽŪP tikslai yra pagrindiniai (pagrindinis BŽŪP tikslas kiekvienai VPS priemonei nurodomas priemonės aprašymo 10.5 punkte).
B28: 6 | C28: 4-6 ir 9 tikslai gali būti pasirenkami įgyvendinti horizontaliai (t. y. prie 8 tikslo arba kompleksinio tikslo prisidedančiose VPS priemonėse papildomai taikant reikalavimus, kurie užtikrintų vietos projektų indėlį į 4, 5, 6 arba 9 tikslo įgyvendinimą). Tokiu atveju suteikiami papildomi atrankos balai. Šiuos tikslus taip pat galima įgyvendinti vertikaliai, t. y. numatyti atskiras VPS priemones, kurioms šie tikslai yra pagrindiniai. Pavyzdžiui, galima numatyti vieną priemonę 4 tikslo ir vieną priemonę 9 tikslo įgyvendinimui, tačiau papildomi balai VPS atrankos metu suteikiami tik data, kai visos VPS priemonės prisideda prie atitinkamų tikslų. VPS galima derinti abu šių tikslų įgyvendinimo būdus, t. y. daliai VPS priemonių šiuos tikslus numatyti kaip pagrindinius (vertikalius), o daliai - kaip papildomus (horizontalius).
B29: 7 | C29: 1-3 ir 7 tikslai nėra privalomi, tačiau jie gali būti įgyvendinami, jei atliekant VVG teritorijos situacijos analizę nustatomi poreikiai, susiję su šiais tikslais, o VPS priemonėmis siekiama pokyčių, kurie siejasi su atitinkamais BŽŪP tikslais. Tokiu atveju tikslinga numatyti VPS produkto ir (arba) rezultato rodiklius, susijusius su šiais BŽŪP tikslais (VPS produkto ir rezultato rodikliai nurodomi 6 lape, o 10 lape jie susiejami su konkrečiomis VPS priemonėmis). Pasirinkus VPS įgyvendinti 1-3 ar 7 tikslus būtina numatyti bent po vieną VPS priemonę, kuriai atitinkamas tikslas būtų pagrindinis. Taip pat rekomenduojame su atitinkamais BŽŪP tikslais susijusius pokyčių rodiklius naudoti pokyčiams kiekybine išraiška apibrėžti (pokyčiai aprašomi 10 lape (10.12 punktas), o pokyčių rodikliai nurodomi 13 lape).

Sheet 6
A1: 6. | B1: VPS produkto ir rezultato rodikliai (VPS lygiu)
B3: VVG: | C3: ='1'!C8 -> ALYT
B5: 1 | C5: 2 | D5: 3 | E5: 4
B6: Rodiklio kodas | C6: Rodiklio pavadinimas | D6: Kiekybinis tikslas iki 2029 m. | E6: Rodklio tipas (R - rezultato, P - produkto)
A7: 6.1 | B7: A | C7: ES bendrieji rezultato rodikliai:
A8: 6.2 | B8: R.3 | C8: Žemės ūkio sektoriaus skaitmeninimas. Ūkių, pagal BŽŪP gaunančių paramą skaitmeninėms ūkininkavimo technologijoms plėtoti, skaičius | D8: ='11'!C9 -> 0
A9: 6.3 | B9: R.37 | C9: Ekonomikos augimas ir darbo vietų kūrimas kaimo vietovėse. BŽŪP projektais remiamas naujų darbo vietų kūrimas | D9: ='11'!C25 -> 18
A10: 6.4 | B10: R.39 | C10: Kaimo ekonomikos plėtojimas. Kaimo verslo įmonių, įskaitant bioekonomikos įmones, kuriamų naudojantis pagal BŽŪP skiriama parama, skaičius | D10: ='11'!C43 -> 13
A11: 6.5 | B11: R.41 | C11: Europos kaimo tinklų kūrimas. Kaimo gyventojų, kuriems, naudojantis BŽŪP parama, sudarytos palankesnės sąlygos naudotis paslaugomis ir infrastruktūra, skaičius | D11: ='11'!C59 -> 4990
A12: 6.6 | B12: R.42 | C12: Socialinės įtraukties skatinimas. Asmenų, kuriems taikomi remiami socialinės įtraukties projektai, skaičius | D12: ='11'!C75 -> 879
A13: 6.7 | B13: B | C13: ES bendrieji produkto rodikliai:
A14: 6.8 | B14: L700 | C14: Vietos lygiu įgyvendintų projektų skaičius (apima vietos ir bendradarbiavimo projektus) | D14: =SUM('10'!D34:W34) -> 24
A15: 6.9 | B15: L710 | C15: Vietos lygiu įgyvendintų projektų, skirtų vietos lygmens inovacijoms, skaičius | D15: =SUM('10'!D46:W46) -> 7
A16: 6.10 | B16: C | C16: Nacionaliniai bendrieji rezultato rodikliai:
A17: 6.11 | B17: C.1 | C17: Įgyvendinant vietos projektus sukurtų darbo vietų pasiskirstymas pagal lytį: | D17: =SUM(D18:D20) -> 18
A18: 6.12 | B18: N-R.37.1 | C18: Sukurtų darbo vietų skaičius moterims | D18: ='13'!C12 -> 0
A19: 6.13 | B19: N-R.37.2 | C19: Sukurtų darbo vietų skaičius vyrams | D19: ='13'!C13 -> 0
A20: 6.14 | B20: N-R.37.3 | C20: Sukurtų darbo vietų skaičius bet kurios lyties asmenims | D20: ='13'!C14 -> 18
A21: 6.15 | B21: C.2 | C21: Įgyvendinant vietos projektus sukurtų darbo vietų pasiskirstymas pagal amžių: | D21: =SUM(D22:D24) -> 18
A22: 6.16 | B22: N-R.37.4 | C22: Sukurtų darbo vietų skaičius asmenims iki 40 m. (imtinai) | D22: ='13'!C16 -> 3
A23: 6.17 | B23: N-R.37.5 | C23: Sukurtų darbo vietų skaičius asmenims nuo 41 m. | D23: ='13'!C17 -> 0
A24: 6.18 | B24: N-R.37.6 | C24: Sukurtų darbo vietų skaičius bet kurio amžiaus asmenims | D24: ='13'!C18 -> 15
A25: 6.19 | B25: D | C25: Nacionaliniai bendrieji produkto rodikliai:
A26: 6.20 | B26: D.1 | C26: Vietos projektų teritorinis pasiskirstymas (seniūnijos):
A27: 6.21 | B27: N-P.1 | C27: VVG teritorijos seniūnijų, kuriose įgyvendinami vietos projektai, skaičius (PLANUOJAMAS) | D27: 12
A28: 6.22 | B28: N-P.2 | C28: VVG teritorijos seniūnijų skaičius, iš viso | D28: ='1'!C9 -> 12
A29: 6.23 | B29: N-P.3 | C29: VVG teritorijos seniūnijų, kuriose įgyvendinami vietos projektai, dalis, proc. | D29: =(D27/D28)*100 -> 100
A30: 6.24 | B30: D.2 | C30: Vietos projektų teritorinis pasiskirstymas (gyvenamosios vietovės):
A31: 6.25 | B31: N-P.4 | C31: VVG teritorijos kaimo gyvenamųjų vietovių, kurių gyventojams sudarytos palankesnės sąlygos naudotis paslaugomis ir infrastruktūra, skaičius (PLANUOJAMAS) | D31: 10
